BEGIN:VCALENDAR
VERSION:2.0
PRODID:-//City of Woodlake - ECPv6.15.20//NONSGML v1.0//EN
CALSCALE:GREGORIAN
METHOD:PUBLISH
X-WR-CALNAME:City of Woodlake
X-ORIGINAL-URL:https://cityofwoodlake.com
X-WR-CALDESC:Events for City of Woodlake
REFRESH-INTERVAL;VALUE=DURATION:PT1H
X-Robots-Tag:noindex
X-PUBLISHED-TTL:PT1H
BEGIN:VTIMEZONE
TZID:America/Los_Angeles
BEGIN:DAYLIGHT
TZOFFSETFROM:-0800
TZOFFSETTO:-0700
TZNAME:PDT
DTSTART:20250309T100000
END:DAYLIGHT
BEGIN:STANDARD
TZOFFSETFROM:-0700
TZOFFSETTO:-0800
TZNAME:PST
DTSTART:20251102T090000
END:STANDARD
BEGIN:DAYLIGHT
TZOFFSETFROM:-0800
TZOFFSETTO:-0700
TZNAME:PDT
DTSTART:20260308T100000
END:DAYLIGHT
BEGIN:STANDARD
TZOFFSETFROM:-0700
TZOFFSETTO:-0800
TZNAME:PST
DTSTART:20261101T090000
END:STANDARD
BEGIN:DAYLIGHT
TZOFFSETFROM:-0800
TZOFFSETTO:-0700
TZNAME:PDT
DTSTART:20270314T100000
END:DAYLIGHT
BEGIN:STANDARD
TZOFFSETFROM:-0700
TZOFFSETTO:-0800
TZNAME:PST
DTSTART:20271107T090000
END:STANDARD
END:VTIMEZONE
BEGIN:VEVENT
DTSTART;TZID=America/Los_Angeles:20260501T180000
DTEND;TZID=America/Los_Angeles:20260501T200000
DTSTAMP:20260423T140000
CREATED:20260401T185928Z
LAST-MODIFIED:20260401T185928Z
UID:10000944-1777658400-1777665600@cityofwoodlake.com
SUMMARY:WHS Foundation Hall of Fame Induction Event
DESCRIPTION:
URL:https://cityofwoodlake.com/calendar/whs-foundation-hall-of-fame-induction-event/
LOCATION:Woodlake Memorial Building\, 355 N. Acacia\, Woodlake\, CA\, 93286\, United States
ORGANIZER;CN="WHS Foundation":MAILTO:RunningP64@gmail.com
END:VEVENT
END:VCALENDAR