BEGIN:VCALENDAR
VERSION:2.0
PRODID:-//City of Woodlake - ECPv6.15.20//NONSGML v1.0//EN
CALSCALE:GREGORIAN
METHOD:PUBLISH
X-WR-CALNAME:City of Woodlake
X-ORIGINAL-URL:https://cityofwoodlake.com
X-WR-CALDESC:Events for City of Woodlake
REFRESH-INTERVAL;VALUE=DURATION:PT1H
X-Robots-Tag:noindex
X-PUBLISHED-TTL:PT1H
BEGIN:VTIMEZONE
TZID:America/Los_Angeles
BEGIN:DAYLIGHT
TZOFFSETFROM:-0800
TZOFFSETTO:-0700
TZNAME:PDT
DTSTART:20220313T100000
END:DAYLIGHT
BEGIN:STANDARD
TZOFFSETFROM:-0700
TZOFFSETTO:-0800
TZNAME:PST
DTSTART:20221106T090000
END:STANDARD
BEGIN:DAYLIGHT
TZOFFSETFROM:-0800
TZOFFSETTO:-0700
TZNAME:PDT
DTSTART:20230312T100000
END:DAYLIGHT
BEGIN:STANDARD
TZOFFSETFROM:-0700
TZOFFSETTO:-0800
TZNAME:PST
DTSTART:20231105T090000
END:STANDARD
BEGIN:DAYLIGHT
TZOFFSETFROM:-0800
TZOFFSETTO:-0700
TZNAME:PDT
DTSTART:20240310T100000
END:DAYLIGHT
BEGIN:STANDARD
TZOFFSETFROM:-0700
TZOFFSETTO:-0800
TZNAME:PST
DTSTART:20241103T090000
END:STANDARD
BEGIN:DAYLIGHT
TZOFFSETFROM:-0800
TZOFFSETTO:-0700
TZNAME:PDT
DTSTART:20250309T100000
END:DAYLIGHT
BEGIN:STANDARD
TZOFFSETFROM:-0700
TZOFFSETTO:-0800
TZNAME:PST
DTSTART:20251102T090000
END:STANDARD
END:VTIMEZONE
BEGIN:VEVENT
DTSTART;TZID=America/Los_Angeles:20240914T170000
DTEND;TZID=America/Los_Angeles:20240914T220000
DTSTAMP:20260424T135622
CREATED:20240813T224558Z
LAST-MODIFIED:20240813T224558Z
UID:10000277-1726333200-1726351200@cityofwoodlake.com
SUMMARY:Mariachifest
DESCRIPTION:The annual Woodlake Mariachifest will be held in City Park from 5-10pm on Saturday\, September 14th & will feature food tucks & live music.  This is a free event\, open to the community!
URL:https://cityofwoodlake.com/calendar/mariachifest/
LOCATION:Woodlake City Park
END:VEVENT
BEGIN:VEVENT
DTSTART;TZID=America/Los_Angeles:20240822T173000
DTEND;TZID=America/Los_Angeles:20240822T203000
DTSTAMP:20260424T135622
CREATED:20240729T203525Z
LAST-MODIFIED:20240729T203525Z
UID:10000233-1724347800-1724358600@cityofwoodlake.com
SUMMARY:KJUG Free Concert at Woodlake City Park
DESCRIPTION:
URL:https://cityofwoodlake.com/calendar/kjug-free-concert-at-woodlake-city-park/
LOCATION:Woodlake City Park
END:VEVENT
BEGIN:VEVENT
DTSTART;TZID=America/Los_Angeles:20240726T180000
DTEND;TZID=America/Los_Angeles:20240726T200000
DTSTAMP:20260424T135622
CREATED:20240625T184022Z
LAST-MODIFIED:20240625T184022Z
UID:10000227-1722016800-1722024000@cityofwoodlake.com
SUMMARY:Summer Night Lights Event: Back to School Summer Splash
DESCRIPTION:
URL:https://cityofwoodlake.com/calendar/summer-night-lights-event-back-to-school-summer-splash/
LOCATION:Woodlake City Park
ORGANIZER;CN="City of Wodlake":MAILTO:permits@ci.woodlake.ca.us
END:VEVENT
BEGIN:VEVENT
DTSTART;TZID=America/Los_Angeles:20240703T170000
DTEND;TZID=America/Los_Angeles:20240703T220000
DTSTAMP:20260424T135622
CREATED:20240625T183641Z
LAST-MODIFIED:20240625T183641Z
UID:10000401-1720026000-1720044000@cityofwoodlake.com
SUMMARY:3rd of July Blast 2024: Matt Stell in Concert & Fireworks Show
DESCRIPTION:2024 Woodlake 3rd of July Blast! \n\n5pm: Cornhole & Horseshoe in Woodlake City Park\n6pm: Kids Area in Woodlake Plaza\n7:30pm: Matt Stell Concert in Woodlake City Park\n9:15pm: Fireworks Show\n\n 
URL:https://cityofwoodlake.com/calendar/3rd-of-july-blast-2024-matt-stell-in-concert-fireworks-show/
LOCATION:Woodlake City Park
END:VEVENT
BEGIN:VEVENT
DTSTART;TZID=America/Los_Angeles:20240608T130000
DTEND;TZID=America/Los_Angeles:20240608T200000
DTSTAMP:20260424T135622
CREATED:20240603T164131Z
LAST-MODIFIED:20240603T164131Z
UID:10000396-1717851600-1717876800@cityofwoodlake.com
SUMMARY:
DESCRIPTION:
URL:https://cityofwoodlake.com/calendar/12315/
LOCATION:Woodlake City Park
END:VEVENT
BEGIN:VEVENT
DTSTART;TZID=America/Los_Angeles:20240509T173000
DTEND;TZID=America/Los_Angeles:20240509T200000
DTSTAMP:20260424T135622
CREATED:20240419T231556Z
LAST-MODIFIED:20240419T231556Z
UID:10000382-1715275800-1715284800@cityofwoodlake.com
SUMMARY:Horseshoe Tournament
DESCRIPTION:
URL:https://cityofwoodlake.com/calendar/horseshoe-tournament/
LOCATION:Woodlake City Park
END:VEVENT
BEGIN:VEVENT
DTSTART;TZID=America/Los_Angeles:20240507T160000
DTEND;TZID=America/Los_Angeles:20240507T180000
DTSTAMP:20260424T135622
CREATED:20240423T154140Z
LAST-MODIFIED:20240423T154140Z
UID:10000391-1715097600-1715104800@cityofwoodlake.com
SUMMARY:Bike Rodeo
DESCRIPTION:
URL:https://cityofwoodlake.com/calendar/bike-rodeo/
LOCATION:Woodlake City Park
ORGANIZER;CN="Woodlake Kiwanis":MAILTO:woodlakeawards@gmail.com
END:VEVENT
BEGIN:VEVENT
DTSTART;TZID=America/Los_Angeles:20240506T173000
DTEND;TZID=America/Los_Angeles:20240506T193000
DTSTAMP:20260424T135622
CREATED:20240419T230918Z
LAST-MODIFIED:20240419T230918Z
UID:10000380-1715016600-1715023800@cityofwoodlake.com
SUMMARY:Bark in the Park Dog Costume Contest
DESCRIPTION:
URL:https://cityofwoodlake.com/calendar/bark-in-the-park-dog-costume-contest/
LOCATION:Woodlake City Park
END:VEVENT
BEGIN:VEVENT
DTSTART;TZID=America/Los_Angeles:20240506T173000
DTEND;TZID=America/Los_Angeles:20240506T193000
DTSTAMP:20260424T135622
CREATED:20240419T230811Z
LAST-MODIFIED:20240419T230811Z
UID:10000379-1715016600-1715023800@cityofwoodlake.com
SUMMARY:Diaper Derby
DESCRIPTION:
URL:https://cityofwoodlake.com/calendar/diaper-derby/
LOCATION:Woodlake City Park
END:VEVENT
BEGIN:VEVENT
DTSTART;TZID=America/Los_Angeles:20240504T130000
DTEND;TZID=America/Los_Angeles:20240504T200000
DTSTAMP:20260424T135622
CREATED:20240419T225918Z
LAST-MODIFIED:20240419T225918Z
UID:10000376-1714827600-1714852800@cityofwoodlake.com
SUMMARY:Street Fair Car Show & Beer Garden
DESCRIPTION:
URL:https://cityofwoodlake.com/calendar/street-fair-car-show-beer-garden/
LOCATION:Woodlake City Park
END:VEVENT
BEGIN:VEVENT
DTSTART;TZID=America/Los_Angeles:20240420T110000
DTEND;TZID=America/Los_Angeles:20240420T140000
DTSTAMP:20260424T135622
CREATED:20240419T232305Z
LAST-MODIFIED:20240419T232305Z
UID:10000386-1713610800-1713621600@cityofwoodlake.com
SUMMARY:Kiwanis Miracle Mile of Quarters
DESCRIPTION:
URL:https://cityofwoodlake.com/calendar/kiwanis-miracle-mile-of-quarters-2/
LOCATION:Woodlake City Park
ORGANIZER;CN="Woodlake Kiwanis":MAILTO:woodlakeawards@gmail.com
END:VEVENT
BEGIN:VEVENT
DTSTART;TZID=America/Los_Angeles:20240419T110000
DTEND;TZID=America/Los_Angeles:20240419T140000
DTSTAMP:20260424T135622
CREATED:20240420T224703Z
LAST-MODIFIED:20240419T225700Z
UID:10000389-1713524400-1713535200@cityofwoodlake.com
SUMMARY:Kiwanis Miracle Mile of Quarters
DESCRIPTION:
URL:https://cityofwoodlake.com/calendar/kiwanis-miracle-mile-of-quarters/
LOCATION:Woodlake City Park
END:VEVENT
BEGIN:VEVENT
DTSTART;TZID=America/Los_Angeles:20231029T140000
DTEND;TZID=America/Los_Angeles:20231029T180000
DTSTAMP:20260424T135622
CREATED:20230921T221203Z
LAST-MODIFIED:20230921T221203Z
UID:10000228-1698588000-1698602400@cityofwoodlake.com
SUMMARY:Trunk or Treat Halloween Festival
DESCRIPTION: 
URL:https://cityofwoodlake.com/calendar/trunk-or-treat-halloween-festival/
LOCATION:Woodlake City Park
ORGANIZER;CN="Val Sanchez":MAILTO:cowgirlcookies.andcream@gmail.com
END:VEVENT
BEGIN:VEVENT
DTSTART;TZID=America/Los_Angeles:20230703T170000
DTEND;TZID=America/Los_Angeles:20230703T220000
DTSTAMP:20260424T135622
CREATED:20230609T221600Z
LAST-MODIFIED:20230609T221634Z
UID:10000225-1688403600-1688421600@cityofwoodlake.com
SUMMARY:July 3rd Blast 2023!!
DESCRIPTION:
URL:https://cityofwoodlake.com/calendar/july-3rd-blast-2023/
LOCATION:Woodlake City Park
ATTACH;FMTTYPE=image/png:https://cityofwoodlake.com/wp-content/uploads/2023/06/Niko-Moon-approved-photo-Poster-July-3rd-Blast-2023-5.png
END:VEVENT
END:VCALENDAR