BEGIN:VCALENDAR
VERSION:2.0
PRODID:-//City of Woodlake - ECPv6.15.20//NONSGML v1.0//EN
CALSCALE:GREGORIAN
METHOD:PUBLISH
X-WR-CALNAME:City of Woodlake
X-ORIGINAL-URL:https://cityofwoodlake.com
X-WR-CALDESC:Events for City of Woodlake
REFRESH-INTERVAL;VALUE=DURATION:PT1H
X-Robots-Tag:noindex
X-PUBLISHED-TTL:PT1H
BEGIN:VTIMEZONE
TZID:America/Los_Angeles
BEGIN:DAYLIGHT
TZOFFSETFROM:-0800
TZOFFSETTO:-0700
TZNAME:PDT
DTSTART:20230312T100000
END:DAYLIGHT
BEGIN:STANDARD
TZOFFSETFROM:-0700
TZOFFSETTO:-0800
TZNAME:PST
DTSTART:20231105T090000
END:STANDARD
BEGIN:DAYLIGHT
TZOFFSETFROM:-0800
TZOFFSETTO:-0700
TZNAME:PDT
DTSTART:20240310T100000
END:DAYLIGHT
BEGIN:STANDARD
TZOFFSETFROM:-0700
TZOFFSETTO:-0800
TZNAME:PST
DTSTART:20241103T090000
END:STANDARD
BEGIN:DAYLIGHT
TZOFFSETFROM:-0800
TZOFFSETTO:-0700
TZNAME:PDT
DTSTART:20250309T100000
END:DAYLIGHT
BEGIN:STANDARD
TZOFFSETFROM:-0700
TZOFFSETTO:-0800
TZNAME:PST
DTSTART:20251102T090000
END:STANDARD
BEGIN:DAYLIGHT
TZOFFSETFROM:-0800
TZOFFSETTO:-0700
TZNAME:PDT
DTSTART:20260308T100000
END:DAYLIGHT
BEGIN:STANDARD
TZOFFSETFROM:-0700
TZOFFSETTO:-0800
TZNAME:PST
DTSTART:20261101T090000
END:STANDARD
BEGIN:DAYLIGHT
TZOFFSETFROM:-0800
TZOFFSETTO:-0700
TZNAME:PDT
DTSTART:20270314T100000
END:DAYLIGHT
BEGIN:STANDARD
TZOFFSETFROM:-0700
TZOFFSETTO:-0800
TZNAME:PST
DTSTART:20271107T090000
END:STANDARD
END:VTIMEZONE
BEGIN:VEVENT
DTSTART;VALUE=DATE:20260201
DTEND;VALUE=DATE:20260314
DTSTAMP:20260423T165029
CREATED:20260126T223901Z
LAST-MODIFIED:20260126T223901Z
UID:10000918-1769904000-1773446399@cityofwoodlake.com
SUMMARY:Youth Baseball & Softball Registration
DESCRIPTION:
URL:https://cityofwoodlake.com/calendar/youth-baseball-softball-registration/
LOCATION:Woodlake City Hall\, 350 N Valencia Blvd\, Woodlake\, CA\, 93286\, United States
ORGANIZER;CN="City of Wodlake":MAILTO:permits@ci.woodlake.ca.us
END:VEVENT
BEGIN:VEVENT
DTSTART;TZID=America/Los_Angeles:20251213T190000
DTEND;TZID=America/Los_Angeles:20251213T203000
DTSTAMP:20260423T165030
CREATED:20251020T155922Z
LAST-MODIFIED:20251020T155922Z
UID:10000911-1765652400-1765657800@cityofwoodlake.com
SUMMARY:Woodlake Christmas Parade
DESCRIPTION:
URL:https://cityofwoodlake.com/calendar/woodlake-christmas-parade-2/
LOCATION:Woodlake City Hall\, 350 N Valencia Blvd\, Woodlake\, CA\, 93286\, United States
END:VEVENT
BEGIN:VEVENT
DTSTART;VALUE=DATE:20251101
DTEND;VALUE=DATE:20251202
DTSTAMP:20260423T165030
CREATED:20251105T210112Z
LAST-MODIFIED:20251105T210147Z
UID:10000916-1761955200-1764633599@cityofwoodlake.com
SUMMARY:Christmas Parade Float Registration
DESCRIPTION:
URL:https://cityofwoodlake.com/calendar/christmas-parade-float-registration/
LOCATION:Woodlake City Hall\, 350 N Valencia Blvd\, Woodlake\, CA\, 93286\, United States
END:VEVENT
BEGIN:VEVENT
DTSTART;VALUE=DATE:20251015
DTEND;VALUE=DATE:20251213
DTSTAMP:20260423T165030
CREATED:20251014T195910Z
LAST-MODIFIED:20251105T210322Z
UID:10000915-1760486400-1765583999@cityofwoodlake.com
SUMMARY:Youth Basketball Registration Time
DESCRIPTION:
URL:https://cityofwoodlake.com/calendar/youth-basketball-registration-time/
LOCATION:Woodlake City Hall\, 350 N Valencia Blvd\, Woodlake\, CA\, 93286\, United States
ORGANIZER;CN="City of Wodlake":MAILTO:permits@ci.woodlake.ca.us
END:VEVENT
BEGIN:VEVENT
DTSTART;TZID=America/Los_Angeles:20250822T080000
DTEND;TZID=America/Los_Angeles:20250822T160000
DTSTAMP:20260423T165030
CREATED:20250812T204143Z
LAST-MODIFIED:20250812T204143Z
UID:10000886-1755849600-1755878400@cityofwoodlake.com
SUMMARY:Youth Soccer Registration Deadline
DESCRIPTION:
URL:https://cityofwoodlake.com/calendar/youth-soccer-registration-deadline/
LOCATION:Woodlake City Hall\, 350 N Valencia Blvd\, Woodlake\, CA\, 93286\, United States
ORGANIZER;CN="City of Wodlake":MAILTO:permits@ci.woodlake.ca.us
END:VEVENT
BEGIN:VEVENT
DTSTART;TZID=America/Los_Angeles:20250815T080000
DTEND;TZID=America/Los_Angeles:20250815T160000
DTSTAMP:20260423T165030
CREATED:20250812T204053Z
LAST-MODIFIED:20250812T204053Z
UID:10000885-1755244800-1755273600@cityofwoodlake.com
SUMMARY:Youth Soccer Early Discounted Registration Deadline
DESCRIPTION:
URL:https://cityofwoodlake.com/calendar/youth-soccer-early-discounted-registration-deadline/
LOCATION:Woodlake City Hall\, 350 N Valencia Blvd\, Woodlake\, CA\, 93286\, United States
ORGANIZER;CN="City of Wodlake":MAILTO:permits@ci.woodlake.ca.us
END:VEVENT
BEGIN:VEVENT
DTSTART;TZID=America/Los_Angeles:20250507T170000
DTEND;TZID=America/Los_Angeles:20250507T200000
DTSTAMP:20260423T165030
CREATED:20250425T204954Z
LAST-MODIFIED:20250425T204954Z
UID:10000806-1746637200-1746648000@cityofwoodlake.com
SUMMARY:Western Week Soap Box Derby
DESCRIPTION:The High Sierra 4WD Club are once again hosting the Western Week Soap Box Derby on Wednesday\, May 7th at 5:30pm at Woodlake Transit Center.  This event is for kids ages 6-14 years old\, there is a $5 registration fee\, cars & helmets are provided.  Pre-register by emailing SoapBoxDerby24@gmail.com or be call/text to Sylvie at 559-730-8690!  Food vendors will be on site as well!
URL:https://cityofwoodlake.com/calendar/western-week-soap-box-derby/
LOCATION:Woodlake City Hall\, 350 N Valencia Blvd\, Woodlake\, CA\, 93286\, United States
ORGANIZER;CN="High Sierra 4WD Club":MAILTO:HighSierra4WDClub@gmail.com
END:VEVENT
BEGIN:VEVENT
DTSTART;VALUE=DATE:20250429
DTEND;VALUE=DATE:20250531
DTSTAMP:20260423T165030
CREATED:20250425T212059Z
LAST-MODIFIED:20250425T212059Z
UID:10000814-1745884800-1748649599@cityofwoodlake.com
SUMMARY:Youth Flag Football Registration
DESCRIPTION:Woodlake Parks & Recreation is taking registrations for their Co-ed Youth Flag Football season!  This league is open to those in grade TK-8th grade.  The cost is $50 and that will include a reversible jersey\, shorts & flag belt.  Discounted $50 Registration will run from April 29th-May 23rd.  $60 Registration will run from May 24th to May 30th.  Games will be played on week-day evenings at the Castle Rock Fields.  The season will run from mid-June to the end of Summer Break.
URL:https://cityofwoodlake.com/calendar/youth-flag-football-registration/
LOCATION:Woodlake City Hall\, 350 N Valencia Blvd\, Woodlake\, CA\, 93286\, United States
ORGANIZER;CN="City of Wodlake":MAILTO:permits@ci.woodlake.ca.us
END:VEVENT
BEGIN:VEVENT
DTSTART;TZID=America/Los_Angeles:20250321T080000
DTEND;TZID=America/Los_Angeles:20250321T160000
DTSTAMP:20260423T165030
CREATED:20250304T174421Z
LAST-MODIFIED:20250304T174421Z
UID:10000423-1742544000-1742572800@cityofwoodlake.com
SUMMARY:Final Deadline to Register for Youth Baseball/Softball
DESCRIPTION:Our youth baseball/softball league is open to kids in grades TK-8th.  Registration cost $65 per player\, and must be done before Friday\, March 21st at Woodlake City Hall\, or via email.
URL:https://cityofwoodlake.com/calendar/final-deadline-to-register-for-youth-baseball-softball/
LOCATION:Woodlake City Hall\, 350 N Valencia Blvd\, Woodlake\, CA\, 93286\, United States
END:VEVENT
BEGIN:VEVENT
DTSTART;TZID=America/Los_Angeles:20250314T080000
DTEND;TZID=America/Los_Angeles:20250314T160000
DTSTAMP:20260423T165030
CREATED:20250304T173442Z
LAST-MODIFIED:20250304T173442Z
UID:10000420-1741939200-1741968000@cityofwoodlake.com
SUMMARY:Discounted Youth Baseball/Softball Registration Deadline
DESCRIPTION:It’s time to register for the Woodlake Youth Baseball & Softball season!  This league is open to players in grades TK to 8th.  Register before Friday\, March 14th for the discounted price of $55!
URL:https://cityofwoodlake.com/calendar/discounted-youth-baseball-softball-registration-deadline/
LOCATION:Woodlake City Hall\, 350 N Valencia Blvd\, Woodlake\, CA\, 93286\, United States
END:VEVENT
BEGIN:VEVENT
DTSTART;VALUE=DATE:20250304
DTEND;VALUE=DATE:20250319
DTSTAMP:20260423T165030
CREATED:20250304T175127Z
LAST-MODIFIED:20250304T175127Z
UID:10000425-1741046400-1742342399@cityofwoodlake.com
SUMMARY:Taking Registrations for FREE Lifeguard Training Classes!
DESCRIPTION:Register now for the opportunity to have your Lifeguard Classes covered for FREE! (a $200 value)  Visit www.cityofwoodlake.com/recreation for full information & the application. Have questions?  Email Jennifer at JReynolds@ci.woodlake.ca.us
URL:https://cityofwoodlake.com/calendar/taking-registrations-for-free-lifeguard-training-classes/
LOCATION:Woodlake City Hall\, 350 N Valencia Blvd\, Woodlake\, CA\, 93286\, United States
ORGANIZER;CN="City of Wodlake":MAILTO:permits@ci.woodlake.ca.us
END:VEVENT
BEGIN:VEVENT
DTSTART;TZID=America/Los_Angeles:20241218T080000
DTEND;TZID=America/Los_Angeles:20241218T160000
DTSTAMP:20260423T165030
CREATED:20241121T005332Z
LAST-MODIFIED:20241121T005332Z
UID:10000418-1734508800-1734537600@cityofwoodlake.com
SUMMARY:Santa Letters Due to Woodlake Police Department
DESCRIPTION:It’s that time of year again!  Time to write letters to Santa!  Santa has once again asked the Woodlake Police Department to gather letters and deliver them to the North Pole – drop your letter (with your return address included) at the Woodlake Police Department: 350 N. Valencia Blvd.
URL:https://cityofwoodlake.com/calendar/santa-letters-due-to-woodlake-police-department/
LOCATION:Woodlake City Hall\, 350 N Valencia Blvd\, Woodlake\, CA\, 93286\, United States
END:VEVENT
BEGIN:VEVENT
DTSTART;TZID=America/Los_Angeles:20241214T190000
DTEND;TZID=America/Los_Angeles:20241214T210000
DTSTAMP:20260423T165030
CREATED:20241121T004448Z
LAST-MODIFIED:20241121T004448Z
UID:10000416-1734202800-1734210000@cityofwoodlake.com
SUMMARY:Woodlake Christmas Parade
DESCRIPTION:The Annual Woodlake Christmas Parade is on Saturday\, December 14th\, 2024 at 7pm.  The parade will take place along Valencia Blvd.
URL:https://cityofwoodlake.com/calendar/woodlake-christmas-parade/
LOCATION:Woodlake City Hall\, 350 N Valencia Blvd\, Woodlake\, CA\, 93286\, United States
END:VEVENT
BEGIN:VEVENT
DTSTART;TZID=America/Los_Angeles:20241213T080000
DTEND;TZID=America/Los_Angeles:20241213T160000
DTSTAMP:20260423T165030
CREATED:20241121T004132Z
LAST-MODIFIED:20241121T004132Z
UID:10000414-1734076800-1734105600@cityofwoodlake.com
SUMMARY:Youth Basketball Registration FINAL Deadline
DESCRIPTION:Last call for youth basketball registrations!  Friday\, December 13th is the final day to submit registrations to Woodlake City Hall at 350 N. Valencia Blvd.
URL:https://cityofwoodlake.com/calendar/youth-basketball-registration-final-deadline/
LOCATION:Woodlake City Hall\, 350 N Valencia Blvd\, Woodlake\, CA\, 93286\, United States
ORGANIZER;CN="City of Wodlake":MAILTO:permits@ci.woodlake.ca.us
END:VEVENT
BEGIN:VEVENT
DTSTART;TZID=America/Los_Angeles:20241206T080000
DTEND;TZID=America/Los_Angeles:20241206T160000
DTSTAMP:20260423T165030
CREATED:20241121T003058Z
LAST-MODIFIED:20241121T003058Z
UID:10000410-1733472000-1733500800@cityofwoodlake.com
SUMMARY:Youth Basketball Discounted Registration Deadline
DESCRIPTION:Discounted $50 Youth Basketball Registration price ends Dec 6th!  Register at Woodlake City Hall: 350 N. Valencia Blvd.
URL:https://cityofwoodlake.com/calendar/youth-basketball-discounted-registration-deadline/
LOCATION:Woodlake City Hall\, 350 N Valencia Blvd\, Woodlake\, CA\, 93286\, United States
ORGANIZER;CN="City of Wodlake":MAILTO:permits@ci.woodlake.ca.us
END:VEVENT
BEGIN:VEVENT
DTSTART;TZID=America/Los_Angeles:20241204T080000
DTEND;TZID=America/Los_Angeles:20241204T160000
DTSTAMP:20260423T165030
CREATED:20241121T002909Z
LAST-MODIFIED:20241121T002909Z
UID:10000408-1733299200-1733328000@cityofwoodlake.com
SUMMARY:Christmas Parade Float Entries Due
DESCRIPTION:2024 Woodlake Christmas Parade Application \nIf your family\, organization\, or business would like to participate in this year’s Christmas Parade – turn in your entry form by December 4th at Woodlake City Hall: 350 N. Valencia Blvd.
URL:https://cityofwoodlake.com/calendar/christmas-parade-float-entries-due/
LOCATION:Woodlake City Hall\, 350 N Valencia Blvd\, Woodlake\, CA\, 93286\, United States
END:VEVENT
BEGIN:VEVENT
DTSTART;TZID=America/Los_Angeles:20240823T080000
DTEND;TZID=America/Los_Angeles:20240823T160000
DTSTAMP:20260423T165030
CREATED:20240729T202628Z
LAST-MODIFIED:20240729T202628Z
UID:10000231-1724400000-1724428800@cityofwoodlake.com
SUMMARY:Youth Soccer Final Registration Deadline
DESCRIPTION:
URL:https://cityofwoodlake.com/calendar/youth-soccer-final-registration-deadline/
LOCATION:Woodlake City Hall\, 350 N Valencia Blvd\, Woodlake\, CA\, 93286\, United States
END:VEVENT
BEGIN:VEVENT
DTSTART;TZID=America/Los_Angeles:20240816T080000
DTEND;TZID=America/Los_Angeles:20240816T160000
DTSTAMP:20260423T165030
CREATED:20240729T202204Z
LAST-MODIFIED:20240729T202204Z
UID:10000229-1723795200-1723824000@cityofwoodlake.com
SUMMARY:Youth Soccer Early Registration Deadline
DESCRIPTION:
URL:https://cityofwoodlake.com/calendar/youth-soccer-early-registration-deadline/
LOCATION:Woodlake City Hall\, 350 N Valencia Blvd\, Woodlake\, CA\, 93286\, United States
END:VEVENT
BEGIN:VEVENT
DTSTART;TZID=America/Los_Angeles:20240511T100000
DTEND;TZID=America/Los_Angeles:20240511T113000
DTSTAMP:20260423T165030
CREATED:20240419T231849Z
LAST-MODIFIED:20240419T231849Z
UID:10000384-1715421600-1715427000@cityofwoodlake.com
SUMMARY:Woodlake Rodeo Parade
DESCRIPTION:
URL:https://cityofwoodlake.com/calendar/woodlake-rodeo-parade/
LOCATION:Woodlake City Hall\, 350 N Valencia Blvd\, Woodlake\, CA\, 93286\, United States
ORGANIZER;CN="Woodlake Lions Club":MAILTO:contact@woodlakelionsclub.com
END:VEVENT
BEGIN:VEVENT
DTSTART;TZID=America/Los_Angeles:20240508T170000
DTEND;TZID=America/Los_Angeles:20240508T200000
DTSTAMP:20260423T165030
CREATED:20240419T231143Z
LAST-MODIFIED:20240423T153939Z
UID:10000381-1715187600-1715198400@cityofwoodlake.com
SUMMARY:Soap Box Derby
DESCRIPTION:
URL:https://cityofwoodlake.com/calendar/soap-box-derby/
LOCATION:Woodlake City Hall\, 350 N Valencia Blvd\, Woodlake\, CA\, 93286\, United States
ORGANIZER;CN="High Sierra 4WD Club":MAILTO:HighSierra4WDClub@gmail.com
END:VEVENT
BEGIN:VEVENT
DTSTART;TZID=America/Los_Angeles:20240308T080000
DTEND;TZID=America/Los_Angeles:20240308T160000
DTSTAMP:20260423T165030
CREATED:20240304T193556Z
LAST-MODIFIED:20240304T193556Z
UID:10000374-1709884800-1709913600@cityofwoodlake.com
SUMMARY:Youth Baseball/Softball Registration Closes
DESCRIPTION:
URL:https://cityofwoodlake.com/calendar/youth-baseball-softball-registration-closes/
LOCATION:Woodlake City Hall\, 350 N Valencia Blvd\, Woodlake\, CA\, 93286\, United States
END:VEVENT
END:VCALENDAR