BEGIN:VCALENDAR
VERSION:2.0
PRODID:-//City of Woodlake - ECPv6.15.20//NONSGML v1.0//EN
CALSCALE:GREGORIAN
METHOD:PUBLISH
X-ORIGINAL-URL:https://cityofwoodlake.com
X-WR-CALDESC:Events for City of Woodlake
REFRESH-INTERVAL;VALUE=DURATION:PT1H
X-Robots-Tag:noindex
X-PUBLISHED-TTL:PT1H
BEGIN:VTIMEZONE
TZID:America/Los_Angeles
BEGIN:DAYLIGHT
TZOFFSETFROM:-0800
TZOFFSETTO:-0700
TZNAME:PDT
DTSTART:20240310T100000
END:DAYLIGHT
BEGIN:STANDARD
TZOFFSETFROM:-0700
TZOFFSETTO:-0800
TZNAME:PST
DTSTART:20241103T090000
END:STANDARD
BEGIN:DAYLIGHT
TZOFFSETFROM:-0800
TZOFFSETTO:-0700
TZNAME:PDT
DTSTART:20250309T100000
END:DAYLIGHT
BEGIN:STANDARD
TZOFFSETFROM:-0700
TZOFFSETTO:-0800
TZNAME:PST
DTSTART:20251102T090000
END:STANDARD
BEGIN:DAYLIGHT
TZOFFSETFROM:-0800
TZOFFSETTO:-0700
TZNAME:PDT
DTSTART:20260308T100000
END:DAYLIGHT
BEGIN:STANDARD
TZOFFSETFROM:-0700
TZOFFSETTO:-0800
TZNAME:PST
DTSTART:20261101T090000
END:STANDARD
END:VTIMEZONE
BEGIN:VEVENT
DTSTART;TZID=America/Los_Angeles:20250725T180000
DTEND;TZID=America/Los_Angeles:20250725T200000
DTSTAMP:20260423T164807
CREATED:20250604T233211Z
LAST-MODIFIED:20250604T233211Z
UID:10000880-1753466400-1753473600@cityofwoodlake.com
SUMMARY:Community Pool Party
DESCRIPTION:Community Pool Parties are back!  Thanks to the Tulare County Summer Night Lights program\, community partners\, and most importantly – our lifeguards!
URL:https://cityofwoodlake.com/calendar/community-pool-party/2025-07-25/
LOCATION:WHS Swimming Pool\, 400 W. Whitney Ave\, Woodlake\, CA\, 93286\, United States
ORGANIZER;CN="City of Wodlake":MAILTO:permits@ci.woodlake.ca.us
END:VEVENT
BEGIN:VEVENT
DTSTART;TZID=America/Los_Angeles:20250711T180000
DTEND;TZID=America/Los_Angeles:20250711T200000
DTSTAMP:20260423T164807
CREATED:20250604T233211Z
LAST-MODIFIED:20250604T233211Z
UID:10000879-1752256800-1752264000@cityofwoodlake.com
SUMMARY:Community Pool Party
DESCRIPTION:Community Pool Parties are back!  Thanks to the Tulare County Summer Night Lights program\, community partners\, and most importantly – our lifeguards!
URL:https://cityofwoodlake.com/calendar/community-pool-party/2025-07-11/
LOCATION:WHS Swimming Pool\, 400 W. Whitney Ave\, Woodlake\, CA\, 93286\, United States
ORGANIZER;CN="City of Wodlake":MAILTO:permits@ci.woodlake.ca.us
END:VEVENT
BEGIN:VEVENT
DTSTART;TZID=America/Los_Angeles:20250627T180000
DTEND;TZID=America/Los_Angeles:20250627T200000
DTSTAMP:20260423T164807
CREATED:20250604T233211Z
LAST-MODIFIED:20250604T233211Z
UID:10000878-1751047200-1751054400@cityofwoodlake.com
SUMMARY:Community Pool Party
DESCRIPTION:Community Pool Parties are back!  Thanks to the Tulare County Summer Night Lights program\, community partners\, and most importantly – our lifeguards!
URL:https://cityofwoodlake.com/calendar/community-pool-party/2025-06-27/
LOCATION:WHS Swimming Pool\, 400 W. Whitney Ave\, Woodlake\, CA\, 93286\, United States
ORGANIZER;CN="City of Wodlake":MAILTO:permits@ci.woodlake.ca.us
END:VEVENT
BEGIN:VEVENT
DTSTART;TZID=America/Los_Angeles:20250613T180000
DTEND;TZID=America/Los_Angeles:20250613T200000
DTSTAMP:20260423T164807
CREATED:20250604T233211Z
LAST-MODIFIED:20250604T233211Z
UID:10000877-1749837600-1749844800@cityofwoodlake.com
SUMMARY:Community Pool Party
DESCRIPTION:Community Pool Parties are back!  Thanks to the Tulare County Summer Night Lights program\, community partners\, and most importantly – our lifeguards!
URL:https://cityofwoodlake.com/calendar/community-pool-party/2025-06-13/
LOCATION:WHS Swimming Pool\, 400 W. Whitney Ave\, Woodlake\, CA\, 93286\, United States
ORGANIZER;CN="City of Wodlake":MAILTO:permits@ci.woodlake.ca.us
END:VEVENT
END:VCALENDAR