BEGIN:VCALENDAR
VERSION:2.0
PRODID:-//City of Woodlake - ECPv6.15.20//NONSGML v1.0//EN
CALSCALE:GREGORIAN
METHOD:PUBLISH
X-WR-CALNAME:City of Woodlake
X-ORIGINAL-URL:https://cityofwoodlake.com
X-WR-CALDESC:Events for City of Woodlake
REFRESH-INTERVAL;VALUE=DURATION:PT1H
X-Robots-Tag:noindex
X-PUBLISHED-TTL:PT1H
BEGIN:VTIMEZONE
TZID:America/Los_Angeles
BEGIN:DAYLIGHT
TZOFFSETFROM:-0800
TZOFFSETTO:-0700
TZNAME:PDT
DTSTART:20220313T100000
END:DAYLIGHT
BEGIN:STANDARD
TZOFFSETFROM:-0700
TZOFFSETTO:-0800
TZNAME:PST
DTSTART:20221106T090000
END:STANDARD
BEGIN:DAYLIGHT
TZOFFSETFROM:-0800
TZOFFSETTO:-0700
TZNAME:PDT
DTSTART:20230312T100000
END:DAYLIGHT
BEGIN:STANDARD
TZOFFSETFROM:-0700
TZOFFSETTO:-0800
TZNAME:PST
DTSTART:20231105T090000
END:STANDARD
BEGIN:DAYLIGHT
TZOFFSETFROM:-0800
TZOFFSETTO:-0700
TZNAME:PDT
DTSTART:20240310T100000
END:DAYLIGHT
BEGIN:STANDARD
TZOFFSETFROM:-0700
TZOFFSETTO:-0800
TZNAME:PST
DTSTART:20241103T090000
END:STANDARD
BEGIN:DAYLIGHT
TZOFFSETFROM:-0800
TZOFFSETTO:-0700
TZNAME:PDT
DTSTART:20250309T100000
END:DAYLIGHT
BEGIN:STANDARD
TZOFFSETFROM:-0700
TZOFFSETTO:-0800
TZNAME:PST
DTSTART:20251102T090000
END:STANDARD
END:VTIMEZONE
BEGIN:VEVENT
DTSTART;TZID=America/Los_Angeles:20241005T173000
DTEND;TZID=America/Los_Angeles:20241005T213000
DTSTAMP:20260423T152754
CREATED:20240813T225355Z
LAST-MODIFIED:20240813T225355Z
UID:10000320-1728149400-1728163800@cityofwoodlake.com
SUMMARY:Woodlake Brewfest
DESCRIPTION:The 2024 WHS Foundation Woodlake Brewfest fundraiser will be held on Sat\, October 5th from 5:30-9:30pm at Running P Ranch (19524 Ave 364 in Woodlake).  For tickets\, call Sally at 559-805-3975 or email RunningP64@gmail.com!
URL:https://cityofwoodlake.com/calendar/woodlake-brewfest-2/
LOCATION:Running P Ranch\, 19524 Ave. 364\, Woodlake\, CA\, 93286\, United States
ORGANIZER;CN="Woodlake Kiwanis":MAILTO:woodlakeawards@gmail.com
END:VEVENT
BEGIN:VEVENT
DTSTART;TZID=America/Los_Angeles:20230923T173000
DTEND;TZID=America/Los_Angeles:20230923T213000
DTSTAMP:20260423T152754
CREATED:20230921T222437Z
LAST-MODIFIED:20230921T222437Z
UID:10000232-1695490200-1695504600@cityofwoodlake.com
SUMMARY:Woodlake Brewfest
DESCRIPTION:
URL:https://cityofwoodlake.com/calendar/woodlake-brewfest/
LOCATION:Running P Ranch\, 19524 Ave. 364\, Woodlake\, CA\, 93286\, United States
END:VEVENT
END:VCALENDAR