BEGIN:VCALENDAR
VERSION:2.0
PRODID:-//City of Woodlake - ECPv6.15.20//NONSGML v1.0//EN
CALSCALE:GREGORIAN
METHOD:PUBLISH
X-WR-CALNAME:City of Woodlake
X-ORIGINAL-URL:https://cityofwoodlake.com
X-WR-CALDESC:Events for City of Woodlake
REFRESH-INTERVAL;VALUE=DURATION:PT1H
X-Robots-Tag:noindex
X-PUBLISHED-TTL:PT1H
BEGIN:VTIMEZONE
TZID:America/Los_Angeles
BEGIN:DAYLIGHT
TZOFFSETFROM:-0800
TZOFFSETTO:-0700
TZNAME:PDT
DTSTART:20220313T100000
END:DAYLIGHT
BEGIN:STANDARD
TZOFFSETFROM:-0700
TZOFFSETTO:-0800
TZNAME:PST
DTSTART:20221106T090000
END:STANDARD
BEGIN:DAYLIGHT
TZOFFSETFROM:-0800
TZOFFSETTO:-0700
TZNAME:PDT
DTSTART:20230312T100000
END:DAYLIGHT
BEGIN:STANDARD
TZOFFSETFROM:-0700
TZOFFSETTO:-0800
TZNAME:PST
DTSTART:20231105T090000
END:STANDARD
BEGIN:DAYLIGHT
TZOFFSETFROM:-0800
TZOFFSETTO:-0700
TZNAME:PDT
DTSTART:20240310T100000
END:DAYLIGHT
BEGIN:STANDARD
TZOFFSETFROM:-0700
TZOFFSETTO:-0800
TZNAME:PST
DTSTART:20241103T090000
END:STANDARD
BEGIN:DAYLIGHT
TZOFFSETFROM:-0800
TZOFFSETTO:-0700
TZNAME:PDT
DTSTART:20250309T100000
END:DAYLIGHT
BEGIN:STANDARD
TZOFFSETFROM:-0700
TZOFFSETTO:-0800
TZNAME:PST
DTSTART:20251102T090000
END:STANDARD
BEGIN:DAYLIGHT
TZOFFSETFROM:-0800
TZOFFSETTO:-0700
TZNAME:PDT
DTSTART:20260308T100000
END:DAYLIGHT
BEGIN:STANDARD
TZOFFSETFROM:-0700
TZOFFSETTO:-0800
TZNAME:PST
DTSTART:20261101T090000
END:STANDARD
END:VTIMEZONE
BEGIN:VEVENT
DTSTART;TZID=America/Los_Angeles:20251129T080000
DTEND;TZID=America/Los_Angeles:20251129T200000
DTSTAMP:20260423T164658
CREATED:20251023T184710Z
LAST-MODIFIED:20251023T184710Z
UID:10000913-1764403200-1764446400@cityofwoodlake.com
SUMMARY:Turkey Shootout - Adult Soccer Tournament
DESCRIPTION:
URL:https://cityofwoodlake.com/calendar/turkey-shootout-adult-soccer-tournament-2/
LOCATION:Castle Rock Sports Fields\, 552 N. Castle Rock St.\, Woodlake\, 93286\, United States
ORGANIZER;CN="City of Wodlake":MAILTO:permits@ci.woodlake.ca.us
END:VEVENT
BEGIN:VEVENT
DTSTART;TZID=America/Los_Angeles:20251122T100000
DTEND;TZID=America/Los_Angeles:20251122T233000
DTSTAMP:20260423T164658
CREATED:20251020T155342Z
LAST-MODIFIED:20251020T155342Z
UID:10000907-1763805600-1763854200@cityofwoodlake.com
SUMMARY:ROAR Soccer Clinic
DESCRIPTION:
URL:https://cityofwoodlake.com/calendar/roar-soccer-clinic-2/
LOCATION:Castle Rock Sports Fields\, 552 N. Castle Rock St.\, Woodlake\, 93286\, United States
ORGANIZER;CN="City of Wodlake":MAILTO:permits@ci.woodlake.ca.us
END:VEVENT
BEGIN:VEVENT
DTSTART;TZID=America/Los_Angeles:20250912T170000
DTEND;TZID=America/Los_Angeles:20250912T203000
DTSTAMP:20260423T164658
CREATED:20250812T204307Z
LAST-MODIFIED:20250812T204307Z
UID:10000887-1757696400-1757709000@cityofwoodlake.com
SUMMARY:Youth Soccer Clinic
DESCRIPTION:
URL:https://cityofwoodlake.com/calendar/youth-soccer-clinic/
LOCATION:Castle Rock Sports Fields\, 552 N. Castle Rock St.\, Woodlake\, 93286\, United States
ORGANIZER;CN="City of Wodlake":MAILTO:permits@ci.woodlake.ca.us
END:VEVENT
BEGIN:VEVENT
DTSTART;TZID=America/Los_Angeles:20250621T080000
DTEND;TZID=America/Los_Angeles:20250621T130000
DTSTAMP:20260423T164658
CREATED:20250604T233640Z
LAST-MODIFIED:20250604T233640Z
UID:10000882-1750492800-1750510800@cityofwoodlake.com
SUMMARY:Youth Flag Football Opening Weekend
DESCRIPTION:Our Youth Flag Football season kicks-off on Saturday\, June 21st at the Castle Rock Fields!  Games\, Team Pictures\, Giveaways\, Food Trucks\, and more!
URL:https://cityofwoodlake.com/calendar/youth-flag-football-opening-weekend/
LOCATION:Castle Rock Sports Fields\, 552 N. Castle Rock St.\, Woodlake\, 93286\, United States
ORGANIZER;CN="City of Wodlake":MAILTO:permits@ci.woodlake.ca.us
END:VEVENT
BEGIN:VEVENT
DTSTART;TZID=America/Los_Angeles:20250426T080000
DTEND;TZID=America/Los_Angeles:20250426T143000
DTSTAMP:20260423T164658
CREATED:20250425T212856Z
LAST-MODIFIED:20250425T212856Z
UID:10000816-1745654400-1745677800@cityofwoodlake.com
SUMMARY:Youth Baseball/Softball Season Kick-Off Saturday
DESCRIPTION:Youth baseball/softball games officially kick-off this Saturday\, April 26th with giveaways\, team pictures\, food vendors & more! Visit cityofwoodlake.com/recreation for the full Season Information Packet with game & picture schedules!
URL:https://cityofwoodlake.com/calendar/youth-baseball-softball-season-kick-off-saturday/
LOCATION:Castle Rock Sports Fields\, 552 N. Castle Rock St.\, Woodlake\, 93286\, United States
ORGANIZER;CN="City of Wodlake":MAILTO:permits@ci.woodlake.ca.us
END:VEVENT
BEGIN:VEVENT
DTSTART;TZID=America/Los_Angeles:20250412T080000
DTEND;TZID=America/Los_Angeles:20250412T140000
DTSTAMP:20260423T164658
CREATED:20250331T221414Z
LAST-MODIFIED:20250331T223433Z
UID:10000432-1744444800-1744466400@cityofwoodlake.com
SUMMARY:Youth Baseball & Softball Season Opening Day
DESCRIPTION:Woodlake Parks & Rec Youth Baseball and Softball teams all have their opening games Saturday\, April 12th!  Plus giveaways\, food trucks\, team pictures\, and more!
URL:https://cityofwoodlake.com/calendar/youth-baseball-softball-season-opening-day/
LOCATION:Castle Rock Sports Fields\, 552 N. Castle Rock St.\, Woodlake\, 93286\, United States
ORGANIZER;CN="City of Wodlake":MAILTO:permits@ci.woodlake.ca.us
END:VEVENT
BEGIN:VEVENT
DTSTART;TZID=America/Los_Angeles:20250405T083000
DTEND;TZID=America/Los_Angeles:20250405T130000
DTSTAMP:20260423T164658
CREATED:20250412T150036Z
LAST-MODIFIED:20250331T223338Z
UID:10000430-1743841800-1743858000@cityofwoodlake.com
SUMMARY:Youth Baseball & Softball Clinic
DESCRIPTION:WHS Baseball & Softball Teams hosting Youth Clinics on Saturday\, April 5th – go to www.cityofwoodlake.com/recreation for full details & to register in advance.
URL:https://cityofwoodlake.com/calendar/youth-baseball-softball-clinic/
LOCATION:Castle Rock Sports Fields\, 552 N. Castle Rock St.\, Woodlake\, 93286\, United States
END:VEVENT
BEGIN:VEVENT
DTSTART;TZID=America/Los_Angeles:20241207T130000
DTEND;TZID=America/Los_Angeles:20241207T150000
DTSTAMP:20260423T164658
CREATED:20241121T003500Z
LAST-MODIFIED:20241121T003500Z
UID:10000411-1733576400-1733583600@cityofwoodlake.com
SUMMARY:ROAR Soccer Clinic
DESCRIPTION:Our first ROAR Soccer Clinic in partnership with WHS Soccer Teams will be held on Saturday\, December 7th at 1pm.  Registration needs to be done in advance.  Reach out to your CVRC Service Coordinator for details\, or email JReynolds@ci.woodlake.ca.us
URL:https://cityofwoodlake.com/calendar/roar-soccer-clinic/
LOCATION:Castle Rock Sports Fields\, 552 N. Castle Rock St.\, Woodlake\, 93286\, United States
ORGANIZER;CN="City of Wodlake":MAILTO:permits@ci.woodlake.ca.us
END:VEVENT
BEGIN:VEVENT
DTSTART;VALUE=DATE:20241130
DTEND;VALUE=DATE:20241202
DTSTAMP:20260423T164658
CREATED:20241028T235659Z
LAST-MODIFIED:20241028T235659Z
UID:10000407-1732924800-1733097599@cityofwoodlake.com
SUMMARY:Adult "Turkey Shootout" Soccer Tournament
DESCRIPTION:Nov 30-Dec 1st\n7v7 (11 person roster)\n50 min games\n$200 per team\n3-game guarantee\nFundraiser for WHS Boys Soccer Team\nRegistration information: www.cityofwoodlake.com/recreation
URL:https://cityofwoodlake.com/calendar/adult-turkey-shootout-soccer-tournament/
LOCATION:Castle Rock Sports Fields\, 552 N. Castle Rock St.\, Woodlake\, 93286\, United States
END:VEVENT
BEGIN:VEVENT
DTSTART;VALUE=DATE:20241109
DTEND;VALUE=DATE:20241111
DTSTAMP:20260423T164658
CREATED:20241028T235036Z
LAST-MODIFIED:20241028T235036Z
UID:10000405-1731110400-1731283199@cityofwoodlake.com
SUMMARY:Central Cali Xpress Veterans Weekend Baseball Tournament
DESCRIPTION:Veteran’s Weekend Youth Baseball Tournament\nNovember 9th-10th\nDivisions: 8u\, 9U\, 10U\, 11U\, 12U\, 13U\, 14U\, 16U\, 18U\n$485/team\nRings & Shirts for 1st and 2nd place\nFor more information\, contact Vince Capistran: 559-213-3600
URL:https://cityofwoodlake.com/calendar/central-cali-xpress-veterans-weekend-baseball-tournament/
LOCATION:Castle Rock Sports Fields\, 552 N. Castle Rock St.\, Woodlake\, 93286\, United States
ORGANIZER;CN="Central Cali Xpress":MAILTO:vincecapistran@gmail.com
END:VEVENT
BEGIN:VEVENT
DTSTART;TZID=America/Los_Angeles:20240629T090000
DTEND;TZID=America/Los_Angeles:20240629T140000
DTSTAMP:20260423T164658
CREATED:20240625T183054Z
LAST-MODIFIED:20240625T183054Z
UID:10000400-1719651600-1719669600@cityofwoodlake.com
SUMMARY:Flag Football Opening Saturday Festivities
DESCRIPTION:The 2024 Flag Football Season kicks-off with a bang on opening Saturday\, June 29th! WHS Cheerleaders on-site for photos at 9am\, team pictures\, games\, food trucks\, & giveaways for registered players!
URL:https://cityofwoodlake.com/calendar/flag-football-opening-saturday-festivities/
LOCATION:Castle Rock Sports Fields\, 552 N. Castle Rock St.\, Woodlake\, 93286\, United States
ORGANIZER;CN="City of Wodlake":MAILTO:permits@ci.woodlake.ca.us
END:VEVENT
BEGIN:VEVENT
DTSTART;TZID=America/Los_Angeles:20231125T080000
DTEND;TZID=America/Los_Angeles:20231126T200000
DTSTAMP:20260423T164658
CREATED:20231009T230147Z
LAST-MODIFIED:20231009T230147Z
UID:10000323-1700899200-1701028800@cityofwoodlake.com
SUMMARY:Turkey Shootout Adult Soccer Tournament
DESCRIPTION:
URL:https://cityofwoodlake.com/calendar/turkey-shootout-adult-soccer-tournament/
LOCATION:Castle Rock Sports Fields\, 552 N. Castle Rock St.\, Woodlake\, 93286\, United States
END:VEVENT
END:VCALENDAR