BEGIN:VCALENDAR
VERSION:2.0
PRODID:-//City of Woodlake - ECPv6.15.20//NONSGML v1.0//EN
CALSCALE:GREGORIAN
METHOD:PUBLISH
X-WR-CALNAME:City of Woodlake
X-ORIGINAL-URL:https://cityofwoodlake.com
X-WR-CALDESC:Events for City of Woodlake
REFRESH-INTERVAL;VALUE=DURATION:PT1H
X-Robots-Tag:noindex
X-PUBLISHED-TTL:PT1H
BEGIN:VTIMEZONE
TZID:America/Los_Angeles
BEGIN:DAYLIGHT
TZOFFSETFROM:-0800
TZOFFSETTO:-0700
TZNAME:PDT
DTSTART:20210314T100000
END:DAYLIGHT
BEGIN:STANDARD
TZOFFSETFROM:-0700
TZOFFSETTO:-0800
TZNAME:PST
DTSTART:20211107T090000
END:STANDARD
BEGIN:DAYLIGHT
TZOFFSETFROM:-0800
TZOFFSETTO:-0700
TZNAME:PDT
DTSTART:20220313T100000
END:DAYLIGHT
BEGIN:STANDARD
TZOFFSETFROM:-0700
TZOFFSETTO:-0800
TZNAME:PST
DTSTART:20221106T090000
END:STANDARD
BEGIN:DAYLIGHT
TZOFFSETFROM:-0800
TZOFFSETTO:-0700
TZNAME:PDT
DTSTART:20230312T100000
END:DAYLIGHT
BEGIN:STANDARD
TZOFFSETFROM:-0700
TZOFFSETTO:-0800
TZNAME:PST
DTSTART:20231105T090000
END:STANDARD
BEGIN:DAYLIGHT
TZOFFSETFROM:-0800
TZOFFSETTO:-0700
TZNAME:PDT
DTSTART:20240310T100000
END:DAYLIGHT
BEGIN:STANDARD
TZOFFSETFROM:-0700
TZOFFSETTO:-0800
TZNAME:PST
DTSTART:20241103T090000
END:STANDARD
BEGIN:DAYLIGHT
TZOFFSETFROM:-0800
TZOFFSETTO:-0700
TZNAME:PDT
DTSTART:20250309T100000
END:DAYLIGHT
BEGIN:STANDARD
TZOFFSETFROM:-0700
TZOFFSETTO:-0800
TZNAME:PST
DTSTART:20251102T090000
END:STANDARD
END:VTIMEZONE
BEGIN:VEVENT
DTSTART;TZID=America/Los_Angeles:20240708T183000
DTEND;TZID=America/Los_Angeles:20240708T193000
DTSTAMP:20260423T165718
CREATED:20230921T222959Z
LAST-MODIFIED:20230921T222959Z
UID:10000288-1720463400-1720467000@cityofwoodlake.com
SUMMARY:City Council Meeting
DESCRIPTION:Join us on the 2nd & 4th Monday of each month at 6:30pm for our City Council Meetings.  Located at the Woodlake Community Center.
URL:https://cityofwoodlake.com/calendar/city-council-meeting-2/2024-07-08/
LOCATION:Woodlake Community Center\, 145 N. Magnolia\, Woodlake\, CA\, 93286\, United States
END:VEVENT
BEGIN:VEVENT
DTSTART;TZID=America/Los_Angeles:20240624T183000
DTEND;TZID=America/Los_Angeles:20240624T193000
DTSTAMP:20260423T165718
CREATED:20230921T222831Z
LAST-MODIFIED:20230921T222831Z
UID:10000244-1719253800-1719257400@cityofwoodlake.com
SUMMARY:City Council Meeting
DESCRIPTION:Join us on the 2nd & 4th Monday of each month at 6:30pm for our City Council Meetings.  Located at the Woodlake Community Center.
URL:https://cityofwoodlake.com/calendar/city-council-meeting/2024-06-24/
LOCATION:Woodlake Community Center\, 145 N. Magnolia\, Woodlake\, CA\, 93286\, United States
END:VEVENT
BEGIN:VEVENT
DTSTART;TZID=America/Los_Angeles:20240622T090000
DTEND;TZID=America/Los_Angeles:20240622T130000
DTSTAMP:20260423T165718
CREATED:20240603T164741Z
LAST-MODIFIED:20240603T164808Z
UID:10000398-1719046800-1719061200@cityofwoodlake.com
SUMMARY:Carseat Safety Check
DESCRIPTION:
URL:https://cityofwoodlake.com/calendar/12320/
LOCATION:Woodlake Community Center\, 145 N. Magnolia\, Woodlake\, CA\, 93286\, United States
END:VEVENT
BEGIN:VEVENT
DTSTART;TZID=America/Los_Angeles:20240610T183000
DTEND;TZID=America/Los_Angeles:20240610T193000
DTSTAMP:20260423T165718
CREATED:20230921T222959Z
LAST-MODIFIED:20230921T222959Z
UID:10000287-1718044200-1718047800@cityofwoodlake.com
SUMMARY:City Council Meeting
DESCRIPTION:Join us on the 2nd & 4th Monday of each month at 6:30pm for our City Council Meetings.  Located at the Woodlake Community Center.
URL:https://cityofwoodlake.com/calendar/city-council-meeting-2/2024-06-10/
LOCATION:Woodlake Community Center\, 145 N. Magnolia\, Woodlake\, CA\, 93286\, United States
END:VEVENT
BEGIN:VEVENT
DTSTART;TZID=America/Los_Angeles:20240527T183000
DTEND;TZID=America/Los_Angeles:20240527T193000
DTSTAMP:20260423T165718
CREATED:20230921T222831Z
LAST-MODIFIED:20230921T222831Z
UID:10000243-1716834600-1716838200@cityofwoodlake.com
SUMMARY:City Council Meeting
DESCRIPTION:Join us on the 2nd & 4th Monday of each month at 6:30pm for our City Council Meetings.  Located at the Woodlake Community Center.
URL:https://cityofwoodlake.com/calendar/city-council-meeting/2024-05-27/
LOCATION:Woodlake Community Center\, 145 N. Magnolia\, Woodlake\, CA\, 93286\, United States
END:VEVENT
BEGIN:VEVENT
DTSTART;TZID=America/Los_Angeles:20240517T123000
DTEND;TZID=America/Los_Angeles:20240517T143000
DTSTAMP:20260423T165718
CREATED:20240513T182514Z
LAST-MODIFIED:20240513T182514Z
UID:10000395-1715949000-1715956200@cityofwoodlake.com
SUMMARY:Senior Adult Mental Health Resource Fair
DESCRIPTION:
URL:https://cityofwoodlake.com/calendar/senior-adult-mental-health-resource-fair/
LOCATION:Woodlake Community Center\, 145 N. Magnolia\, Woodlake\, CA\, 93286\, United States
ORGANIZER;CN="Woodlake Family Resource Cener":MAILTO:avillarreal@w-usd.org
END:VEVENT
BEGIN:VEVENT
DTSTART;TZID=America/Los_Angeles:20240513T183000
DTEND;TZID=America/Los_Angeles:20240513T193000
DTSTAMP:20260423T165718
CREATED:20230921T222959Z
LAST-MODIFIED:20230921T222959Z
UID:10000286-1715625000-1715628600@cityofwoodlake.com
SUMMARY:City Council Meeting
DESCRIPTION:Join us on the 2nd & 4th Monday of each month at 6:30pm for our City Council Meetings.  Located at the Woodlake Community Center.
URL:https://cityofwoodlake.com/calendar/city-council-meeting-2/2024-05-13/
LOCATION:Woodlake Community Center\, 145 N. Magnolia\, Woodlake\, CA\, 93286\, United States
END:VEVENT
BEGIN:VEVENT
DTSTART;TZID=America/Los_Angeles:20240503T170000
DTEND;TZID=America/Los_Angeles:20240503T190000
DTSTAMP:20260423T165718
CREATED:20240419T225459Z
LAST-MODIFIED:20240419T225459Z
UID:10000375-1714755600-1714762800@cityofwoodlake.com
SUMMARY:Cinco de Mayo Community Health Fair
DESCRIPTION:
URL:https://cityofwoodlake.com/calendar/cinco-de-mayo-community-health-fair/
LOCATION:Woodlake Community Center\, 145 N. Magnolia\, Woodlake\, CA\, 93286\, United States
END:VEVENT
BEGIN:VEVENT
DTSTART;TZID=America/Los_Angeles:20240430T180000
DTEND;TZID=America/Los_Angeles:20240430T200000
DTSTAMP:20260423T165718
CREATED:20240419T232427Z
LAST-MODIFIED:20240419T232427Z
UID:10000388-1714500000-1714507200@cityofwoodlake.com
SUMMARY:Community Kiwanis Meeting
DESCRIPTION:
URL:https://cityofwoodlake.com/calendar/community-kiwanis-meeting/
LOCATION:Woodlake Community Center\, 145 N. Magnolia\, Woodlake\, CA\, 93286\, United States
ORGANIZER;CN="Woodlake Kiwanis":MAILTO:woodlakeawards@gmail.com
END:VEVENT
BEGIN:VEVENT
DTSTART;TZID=America/Los_Angeles:20240422T183000
DTEND;TZID=America/Los_Angeles:20240422T193000
DTSTAMP:20260423T165718
CREATED:20230921T222831Z
LAST-MODIFIED:20230921T222831Z
UID:10000242-1713810600-1713814200@cityofwoodlake.com
SUMMARY:City Council Meeting
DESCRIPTION:Join us on the 2nd & 4th Monday of each month at 6:30pm for our City Council Meetings.  Located at the Woodlake Community Center.
URL:https://cityofwoodlake.com/calendar/city-council-meeting/2024-04-22/
LOCATION:Woodlake Community Center\, 145 N. Magnolia\, Woodlake\, CA\, 93286\, United States
END:VEVENT
BEGIN:VEVENT
DTSTART;TZID=America/Los_Angeles:20240419T180000
DTEND;TZID=America/Los_Angeles:20240419T200000
DTSTAMP:20260423T165718
CREATED:20240430T225350Z
LAST-MODIFIED:20240419T225616Z
UID:10000393-1713549600-1713556800@cityofwoodlake.com
SUMMARY:Community Woodlake Kiwanis Meeting
DESCRIPTION:
URL:https://cityofwoodlake.com/calendar/community-woodlake-kiwanis-meeting/
LOCATION:Woodlake Community Center\, 145 N. Magnolia\, Woodlake\, CA\, 93286\, United States
END:VEVENT
BEGIN:VEVENT
DTSTART;TZID=America/Los_Angeles:20240408T183000
DTEND;TZID=America/Los_Angeles:20240408T193000
DTSTAMP:20260423T165718
CREATED:20230921T222959Z
LAST-MODIFIED:20230921T222959Z
UID:10000285-1712601000-1712604600@cityofwoodlake.com
SUMMARY:City Council Meeting
DESCRIPTION:Join us on the 2nd & 4th Monday of each month at 6:30pm for our City Council Meetings.  Located at the Woodlake Community Center.
URL:https://cityofwoodlake.com/calendar/city-council-meeting-2/2024-04-08/
LOCATION:Woodlake Community Center\, 145 N. Magnolia\, Woodlake\, CA\, 93286\, United States
END:VEVENT
BEGIN:VEVENT
DTSTART;TZID=America/Los_Angeles:20240325T183000
DTEND;TZID=America/Los_Angeles:20240325T193000
DTSTAMP:20260423T165718
CREATED:20230921T222831Z
LAST-MODIFIED:20230921T222831Z
UID:10000241-1711391400-1711395000@cityofwoodlake.com
SUMMARY:City Council Meeting
DESCRIPTION:Join us on the 2nd & 4th Monday of each month at 6:30pm for our City Council Meetings.  Located at the Woodlake Community Center.
URL:https://cityofwoodlake.com/calendar/city-council-meeting/2024-03-25/
LOCATION:Woodlake Community Center\, 145 N. Magnolia\, Woodlake\, CA\, 93286\, United States
END:VEVENT
BEGIN:VEVENT
DTSTART;TZID=America/Los_Angeles:20240311T183000
DTEND;TZID=America/Los_Angeles:20240311T193000
DTSTAMP:20260423T165718
CREATED:20230921T222959Z
LAST-MODIFIED:20230921T222959Z
UID:10000284-1710181800-1710185400@cityofwoodlake.com
SUMMARY:City Council Meeting
DESCRIPTION:Join us on the 2nd & 4th Monday of each month at 6:30pm for our City Council Meetings.  Located at the Woodlake Community Center.
URL:https://cityofwoodlake.com/calendar/city-council-meeting-2/2024-03-11/
LOCATION:Woodlake Community Center\, 145 N. Magnolia\, Woodlake\, CA\, 93286\, United States
END:VEVENT
BEGIN:VEVENT
DTSTART;TZID=America/Los_Angeles:20240226T183000
DTEND;TZID=America/Los_Angeles:20240226T193000
DTSTAMP:20260423T165718
CREATED:20230921T222831Z
LAST-MODIFIED:20230921T222831Z
UID:10000240-1708972200-1708975800@cityofwoodlake.com
SUMMARY:City Council Meeting
DESCRIPTION:Join us on the 2nd & 4th Monday of each month at 6:30pm for our City Council Meetings.  Located at the Woodlake Community Center.
URL:https://cityofwoodlake.com/calendar/city-council-meeting/2024-02-26/
LOCATION:Woodlake Community Center\, 145 N. Magnolia\, Woodlake\, CA\, 93286\, United States
END:VEVENT
BEGIN:VEVENT
DTSTART;TZID=America/Los_Angeles:20240214T150000
DTEND;TZID=America/Los_Angeles:20240214T180000
DTSTAMP:20260423T165718
CREATED:20240206T171803Z
LAST-MODIFIED:20240206T171803Z
UID:10000334-1707922800-1707933600@cityofwoodlake.com
SUMMARY:Community Blood Drive
DESCRIPTION:
URL:https://cityofwoodlake.com/calendar/community-blood-drive/
LOCATION:Woodlake Community Center\, 145 N. Magnolia\, Woodlake\, CA\, 93286\, United States
END:VEVENT
BEGIN:VEVENT
DTSTART;TZID=America/Los_Angeles:20240212T183000
DTEND;TZID=America/Los_Angeles:20240212T193000
DTSTAMP:20260423T165718
CREATED:20230921T222959Z
LAST-MODIFIED:20230921T222959Z
UID:10000283-1707762600-1707766200@cityofwoodlake.com
SUMMARY:City Council Meeting
DESCRIPTION:Join us on the 2nd & 4th Monday of each month at 6:30pm for our City Council Meetings.  Located at the Woodlake Community Center.
URL:https://cityofwoodlake.com/calendar/city-council-meeting-2/2024-02-12/
LOCATION:Woodlake Community Center\, 145 N. Magnolia\, Woodlake\, CA\, 93286\, United States
END:VEVENT
BEGIN:VEVENT
DTSTART;TZID=America/Los_Angeles:20240122T183000
DTEND;TZID=America/Los_Angeles:20240122T193000
DTSTAMP:20260423T165718
CREATED:20230921T222831Z
LAST-MODIFIED:20230921T222831Z
UID:10000239-1705948200-1705951800@cityofwoodlake.com
SUMMARY:City Council Meeting
DESCRIPTION:Join us on the 2nd & 4th Monday of each month at 6:30pm for our City Council Meetings.  Located at the Woodlake Community Center.
URL:https://cityofwoodlake.com/calendar/city-council-meeting/2024-01-22/
LOCATION:Woodlake Community Center\, 145 N. Magnolia\, Woodlake\, CA\, 93286\, United States
END:VEVENT
BEGIN:VEVENT
DTSTART;TZID=America/Los_Angeles:20240118T170000
DTEND;TZID=America/Los_Angeles:20240118T200000
DTSTAMP:20260423T165718
CREATED:20240103T174000Z
LAST-MODIFIED:20240103T174000Z
UID:10000331-1705597200-1705608000@cityofwoodlake.com
SUMMARY:Youth Basketball Opening Weekend
DESCRIPTION:
URL:https://cityofwoodlake.com/calendar/youth-basketball-opening-weekend/
LOCATION:Woodlake Community Center\, 145 N. Magnolia\, Woodlake\, CA\, 93286\, United States
ORGANIZER;CN="City of Wodlake":MAILTO:permits@ci.woodlake.ca.us
END:VEVENT
BEGIN:VEVENT
DTSTART;TZID=America/Los_Angeles:20240113T100000
DTEND;TZID=America/Los_Angeles:20240113T150000
DTSTAMP:20260423T165718
CREATED:20240103T174300Z
LAST-MODIFIED:20240103T174326Z
UID:10000332-1705140000-1705158000@cityofwoodlake.com
SUMMARY:Youth Basketball Clinic
DESCRIPTION:
URL:https://cityofwoodlake.com/calendar/youth-basketball-clinic/
LOCATION:Woodlake Community Center\, 145 N. Magnolia\, Woodlake\, CA\, 93286\, United States
ORGANIZER;CN="City of Wodlake":MAILTO:permits@ci.woodlake.ca.us
END:VEVENT
BEGIN:VEVENT
DTSTART;TZID=America/Los_Angeles:20240108T183000
DTEND;TZID=America/Los_Angeles:20240108T193000
DTSTAMP:20260423T165718
CREATED:20230921T222959Z
LAST-MODIFIED:20230921T222959Z
UID:10000282-1704738600-1704742200@cityofwoodlake.com
SUMMARY:City Council Meeting
DESCRIPTION:Join us on the 2nd & 4th Monday of each month at 6:30pm for our City Council Meetings.  Located at the Woodlake Community Center.
URL:https://cityofwoodlake.com/calendar/city-council-meeting-2/2024-01-08/
LOCATION:Woodlake Community Center\, 145 N. Magnolia\, Woodlake\, CA\, 93286\, United States
END:VEVENT
BEGIN:VEVENT
DTSTART;TZID=America/Los_Angeles:20231225T183000
DTEND;TZID=America/Los_Angeles:20231225T193000
DTSTAMP:20260423T165718
CREATED:20230921T222831Z
LAST-MODIFIED:20230921T222831Z
UID:10000238-1703529000-1703532600@cityofwoodlake.com
SUMMARY:City Council Meeting
DESCRIPTION:Join us on the 2nd & 4th Monday of each month at 6:30pm for our City Council Meetings.  Located at the Woodlake Community Center.
URL:https://cityofwoodlake.com/calendar/city-council-meeting/2023-12-25/
LOCATION:Woodlake Community Center\, 145 N. Magnolia\, Woodlake\, CA\, 93286\, United States
END:VEVENT
BEGIN:VEVENT
DTSTART;TZID=America/Los_Angeles:20231211T183000
DTEND;TZID=America/Los_Angeles:20231211T193000
DTSTAMP:20260423T165718
CREATED:20230921T222959Z
LAST-MODIFIED:20230921T222959Z
UID:10000281-1702319400-1702323000@cityofwoodlake.com
SUMMARY:City Council Meeting
DESCRIPTION:Join us on the 2nd & 4th Monday of each month at 6:30pm for our City Council Meetings.  Located at the Woodlake Community Center.
URL:https://cityofwoodlake.com/calendar/city-council-meeting-2/2023-12-11/
LOCATION:Woodlake Community Center\, 145 N. Magnolia\, Woodlake\, CA\, 93286\, United States
END:VEVENT
BEGIN:VEVENT
DTSTART;TZID=America/Los_Angeles:20231127T183000
DTEND;TZID=America/Los_Angeles:20231127T193000
DTSTAMP:20260423T165718
CREATED:20230921T222831Z
LAST-MODIFIED:20230921T222831Z
UID:10000237-1701109800-1701113400@cityofwoodlake.com
SUMMARY:City Council Meeting
DESCRIPTION:Join us on the 2nd & 4th Monday of each month at 6:30pm for our City Council Meetings.  Located at the Woodlake Community Center.
URL:https://cityofwoodlake.com/calendar/city-council-meeting/2023-11-27/
LOCATION:Woodlake Community Center\, 145 N. Magnolia\, Woodlake\, CA\, 93286\, United States
END:VEVENT
BEGIN:VEVENT
DTSTART;TZID=America/Los_Angeles:20231113T183000
DTEND;TZID=America/Los_Angeles:20231113T193000
DTSTAMP:20260423T165718
CREATED:20230921T222959Z
LAST-MODIFIED:20230921T222959Z
UID:10000280-1699900200-1699903800@cityofwoodlake.com
SUMMARY:City Council Meeting
DESCRIPTION:Join us on the 2nd & 4th Monday of each month at 6:30pm for our City Council Meetings.  Located at the Woodlake Community Center.
URL:https://cityofwoodlake.com/calendar/city-council-meeting-2/2023-11-13/
LOCATION:Woodlake Community Center\, 145 N. Magnolia\, Woodlake\, CA\, 93286\, United States
END:VEVENT
BEGIN:VEVENT
DTSTART;TZID=America/Los_Angeles:20231023T183000
DTEND;TZID=America/Los_Angeles:20231023T193000
DTSTAMP:20260423T165718
CREATED:20230921T222831Z
LAST-MODIFIED:20230921T222831Z
UID:10000236-1698085800-1698089400@cityofwoodlake.com
SUMMARY:City Council Meeting
DESCRIPTION:Join us on the 2nd & 4th Monday of each month at 6:30pm for our City Council Meetings.  Located at the Woodlake Community Center.
URL:https://cityofwoodlake.com/calendar/city-council-meeting/2023-10-23/
LOCATION:Woodlake Community Center\, 145 N. Magnolia\, Woodlake\, CA\, 93286\, United States
END:VEVENT
BEGIN:VEVENT
DTSTART;TZID=America/Los_Angeles:20231009T183000
DTEND;TZID=America/Los_Angeles:20231009T193000
DTSTAMP:20260423T165718
CREATED:20230921T222959Z
LAST-MODIFIED:20230921T222959Z
UID:10000279-1696876200-1696879800@cityofwoodlake.com
SUMMARY:City Council Meeting
DESCRIPTION:Join us on the 2nd & 4th Monday of each month at 6:30pm for our City Council Meetings.  Located at the Woodlake Community Center.
URL:https://cityofwoodlake.com/calendar/city-council-meeting-2/2023-10-09/
LOCATION:Woodlake Community Center\, 145 N. Magnolia\, Woodlake\, CA\, 93286\, United States
END:VEVENT
BEGIN:VEVENT
DTSTART;TZID=America/Los_Angeles:20230925T183000
DTEND;TZID=America/Los_Angeles:20230925T193000
DTSTAMP:20260423T165718
CREATED:20230921T222831Z
LAST-MODIFIED:20230921T222831Z
UID:10000235-1695666600-1695670200@cityofwoodlake.com
SUMMARY:City Council Meeting
DESCRIPTION:Join us on the 2nd & 4th Monday of each month at 6:30pm for our City Council Meetings.  Located at the Woodlake Community Center.
URL:https://cityofwoodlake.com/calendar/city-council-meeting/2023-09-25/
LOCATION:Woodlake Community Center\, 145 N. Magnolia\, Woodlake\, CA\, 93286\, United States
END:VEVENT
BEGIN:VEVENT
DTSTART;TZID=America/Los_Angeles:20221217T160000
DTEND;TZID=America/Los_Angeles:20221217T190000
DTSTAMP:20260423T165718
CREATED:20221115T222636Z
LAST-MODIFIED:20221213T011303Z
UID:10000219-1671292800-1671303600@cityofwoodlake.com
SUMMARY:Santa's Workshop & Christmas Parade
DESCRIPTION:
URL:https://cityofwoodlake.com/calendar/santas-workshop-christmas-parade/2022-12-17/
LOCATION:Woodlake Community Center\, 145 N. Magnolia\, Woodlake\, CA\, 93286\, United States
ATTACH;FMTTYPE=image/png:https://cityofwoodlake.com/wp-content/uploads/2022/11/Updated-Schedule-1.png
ORGANIZER;CN="City of Wodlake":MAILTO:permits@ci.woodlake.ca.us
END:VEVENT
BEGIN:VEVENT
DTSTART;TZID=America/Los_Angeles:20220926T183000
DTEND;TZID=America/Los_Angeles:20220926T193000
DTSTAMP:20260423T165718
CREATED:20220918T154731Z
LAST-MODIFIED:20220918T154731Z
UID:10000214-1664217000-1664220600@cityofwoodlake.com
SUMMARY:Woodlake City Council Meeting
DESCRIPTION:
URL:https://cityofwoodlake.com/calendar/woodlake-city-council-meeting-3/
LOCATION:Woodlake Community Center\, 145 N. Magnolia\, Woodlake\, CA\, 93286\, United States
ORGANIZER;CN="City of Wodlake":MAILTO:permits@ci.woodlake.ca.us
END:VEVENT
END:VCALENDAR