BEGIN:VCALENDAR
VERSION:2.0
PRODID:-//City of Woodlake - ECPv6.15.20//NONSGML v1.0//EN
CALSCALE:GREGORIAN
METHOD:PUBLISH
X-ORIGINAL-URL:https://cityofwoodlake.com
X-WR-CALDESC:Events for City of Woodlake
REFRESH-INTERVAL;VALUE=DURATION:PT1H
X-Robots-Tag:noindex
X-PUBLISHED-TTL:PT1H
BEGIN:VTIMEZONE
TZID:America/Los_Angeles
BEGIN:DAYLIGHT
TZOFFSETFROM:-0800
TZOFFSETTO:-0700
TZNAME:PDT
DTSTART:20230312T100000
END:DAYLIGHT
BEGIN:STANDARD
TZOFFSETFROM:-0700
TZOFFSETTO:-0800
TZNAME:PST
DTSTART:20231105T090000
END:STANDARD
BEGIN:DAYLIGHT
TZOFFSETFROM:-0800
TZOFFSETTO:-0700
TZNAME:PDT
DTSTART:20240310T100000
END:DAYLIGHT
BEGIN:STANDARD
TZOFFSETFROM:-0700
TZOFFSETTO:-0800
TZNAME:PST
DTSTART:20241103T090000
END:STANDARD
BEGIN:DAYLIGHT
TZOFFSETFROM:-0800
TZOFFSETTO:-0700
TZNAME:PDT
DTSTART:20250309T100000
END:DAYLIGHT
BEGIN:STANDARD
TZOFFSETFROM:-0700
TZOFFSETTO:-0800
TZNAME:PST
DTSTART:20251102T090000
END:STANDARD
BEGIN:DAYLIGHT
TZOFFSETFROM:-0800
TZOFFSETTO:-0700
TZNAME:PDT
DTSTART:20260308T100000
END:DAYLIGHT
BEGIN:STANDARD
TZOFFSETFROM:-0700
TZOFFSETTO:-0800
TZNAME:PST
DTSTART:20261101T090000
END:STANDARD
END:VTIMEZONE
BEGIN:VEVENT
DTSTART;TZID=America/Los_Angeles:20251110T183000
DTEND;TZID=America/Los_Angeles:20251110T193000
DTSTAMP:20260423T122206
CREATED:20230921T222959Z
LAST-MODIFIED:20230921T222959Z
UID:10000304-1762799400-1762803000@cityofwoodlake.com
SUMMARY:City Council Meeting
DESCRIPTION:Join us on the 2nd & 4th Monday of each month at 6:30pm for our City Council Meetings.  Located at the Woodlake Community Center.
URL:https://cityofwoodlake.com/calendar/city-council-meeting-2/2025-11-10/
LOCATION:Woodlake Community Center\, 145 N. Magnolia\, Woodlake\, CA\, 93286\, United States
END:VEVENT
BEGIN:VEVENT
DTSTART;TZID=America/Los_Angeles:20251028T183000
DTEND;TZID=America/Los_Angeles:20251028T193000
DTSTAMP:20260423T122206
CREATED:20250523T225102Z
LAST-MODIFIED:20250523T225102Z
UID:10000821-1761676200-1761679800@cityofwoodlake.com
SUMMARY:City Council Meeting
DESCRIPTION:Join us on the 2nd & 4th Monday of each month at 6:30pm for our City Council Meetings.  Located at the Woodlake Community Center.
URL:https://cityofwoodlake.com/calendar/city-council-meeting-3/2025-10-28/
LOCATION:Woodlake Community Center\, 145 N. Magnolia\, Woodlake\, CA\, 93286\, United States
END:VEVENT
BEGIN:VEVENT
DTSTART;TZID=America/Los_Angeles:20251013T183000
DTEND;TZID=America/Los_Angeles:20251013T193000
DTSTAMP:20260423T122206
CREATED:20230921T222959Z
LAST-MODIFIED:20230921T222959Z
UID:10000303-1760380200-1760383800@cityofwoodlake.com
SUMMARY:City Council Meeting
DESCRIPTION:Join us on the 2nd & 4th Monday of each month at 6:30pm for our City Council Meetings.  Located at the Woodlake Community Center.
URL:https://cityofwoodlake.com/calendar/city-council-meeting-2/2025-10-13/
LOCATION:Woodlake Community Center\, 145 N. Magnolia\, Woodlake\, CA\, 93286\, United States
END:VEVENT
BEGIN:VEVENT
DTSTART;TZID=America/Los_Angeles:20250923T183000
DTEND;TZID=America/Los_Angeles:20250923T193000
DTSTAMP:20260423T122206
CREATED:20250523T225102Z
LAST-MODIFIED:20250523T225102Z
UID:10000820-1758652200-1758655800@cityofwoodlake.com
SUMMARY:City Council Meeting
DESCRIPTION:Join us on the 2nd & 4th Monday of each month at 6:30pm for our City Council Meetings.  Located at the Woodlake Community Center.
URL:https://cityofwoodlake.com/calendar/city-council-meeting-3/2025-09-23/
LOCATION:Woodlake Community Center\, 145 N. Magnolia\, Woodlake\, CA\, 93286\, United States
END:VEVENT
BEGIN:VEVENT
DTSTART;TZID=America/Los_Angeles:20250908T183000
DTEND;TZID=America/Los_Angeles:20250908T193000
DTSTAMP:20260423T122206
CREATED:20230921T222959Z
LAST-MODIFIED:20230921T222959Z
UID:10000302-1757356200-1757359800@cityofwoodlake.com
SUMMARY:City Council Meeting
DESCRIPTION:Join us on the 2nd & 4th Monday of each month at 6:30pm for our City Council Meetings.  Located at the Woodlake Community Center.
URL:https://cityofwoodlake.com/calendar/city-council-meeting-2/2025-09-08/
LOCATION:Woodlake Community Center\, 145 N. Magnolia\, Woodlake\, CA\, 93286\, United States
END:VEVENT
BEGIN:VEVENT
DTSTART;TZID=America/Los_Angeles:20250826T183000
DTEND;TZID=America/Los_Angeles:20250826T193000
DTSTAMP:20260423T122206
CREATED:20250523T225102Z
LAST-MODIFIED:20250523T225102Z
UID:10000819-1756233000-1756236600@cityofwoodlake.com
SUMMARY:City Council Meeting
DESCRIPTION:Join us on the 2nd & 4th Monday of each month at 6:30pm for our City Council Meetings.  Located at the Woodlake Community Center.
URL:https://cityofwoodlake.com/calendar/city-council-meeting-3/2025-08-26/
LOCATION:Woodlake Community Center\, 145 N. Magnolia\, Woodlake\, CA\, 93286\, United States
END:VEVENT
BEGIN:VEVENT
DTSTART;TZID=America/Los_Angeles:20250811T183000
DTEND;TZID=America/Los_Angeles:20250811T193000
DTSTAMP:20260423T122206
CREATED:20230921T222959Z
LAST-MODIFIED:20230921T222959Z
UID:10000301-1754937000-1754940600@cityofwoodlake.com
SUMMARY:City Council Meeting
DESCRIPTION:Join us on the 2nd & 4th Monday of each month at 6:30pm for our City Council Meetings.  Located at the Woodlake Community Center.
URL:https://cityofwoodlake.com/calendar/city-council-meeting-2/2025-08-11/
LOCATION:Woodlake Community Center\, 145 N. Magnolia\, Woodlake\, CA\, 93286\, United States
END:VEVENT
BEGIN:VEVENT
DTSTART;TZID=America/Los_Angeles:20250722T183000
DTEND;TZID=America/Los_Angeles:20250722T193000
DTSTAMP:20260423T122206
CREATED:20250523T225102Z
LAST-MODIFIED:20250523T225102Z
UID:10000818-1753209000-1753212600@cityofwoodlake.com
SUMMARY:City Council Meeting
DESCRIPTION:Join us on the 2nd & 4th Monday of each month at 6:30pm for our City Council Meetings.  Located at the Woodlake Community Center.
URL:https://cityofwoodlake.com/calendar/city-council-meeting-3/2025-07-22/
LOCATION:Woodlake Community Center\, 145 N. Magnolia\, Woodlake\, CA\, 93286\, United States
END:VEVENT
BEGIN:VEVENT
DTSTART;TZID=America/Los_Angeles:20250714T183000
DTEND;TZID=America/Los_Angeles:20250714T193000
DTSTAMP:20260423T122206
CREATED:20230921T222959Z
LAST-MODIFIED:20230921T222959Z
UID:10000300-1752517800-1752521400@cityofwoodlake.com
SUMMARY:City Council Meeting
DESCRIPTION:Join us on the 2nd & 4th Monday of each month at 6:30pm for our City Council Meetings.  Located at the Woodlake Community Center.
URL:https://cityofwoodlake.com/calendar/city-council-meeting-2/2025-07-14/
LOCATION:Woodlake Community Center\, 145 N. Magnolia\, Woodlake\, CA\, 93286\, United States
END:VEVENT
BEGIN:VEVENT
DTSTART;TZID=America/Los_Angeles:20250624T183000
DTEND;TZID=America/Los_Angeles:20250624T193000
DTSTAMP:20260423T122206
CREATED:20250523T225102Z
LAST-MODIFIED:20250523T225102Z
UID:10000817-1750789800-1750793400@cityofwoodlake.com
SUMMARY:City Council Meeting
DESCRIPTION:Join us on the 2nd & 4th Monday of each month at 6:30pm for our City Council Meetings.  Located at the Woodlake Community Center.
URL:https://cityofwoodlake.com/calendar/city-council-meeting-3/2025-06-24/
LOCATION:Woodlake Community Center\, 145 N. Magnolia\, Woodlake\, CA\, 93286\, United States
END:VEVENT
BEGIN:VEVENT
DTSTART;TZID=America/Los_Angeles:20250609T183000
DTEND;TZID=America/Los_Angeles:20250609T193000
DTSTAMP:20260423T122206
CREATED:20230921T222959Z
LAST-MODIFIED:20230921T222959Z
UID:10000299-1749493800-1749497400@cityofwoodlake.com
SUMMARY:City Council Meeting
DESCRIPTION:Join us on the 2nd & 4th Monday of each month at 6:30pm for our City Council Meetings.  Located at the Woodlake Community Center.
URL:https://cityofwoodlake.com/calendar/city-council-meeting-2/2025-06-09/
LOCATION:Woodlake Community Center\, 145 N. Magnolia\, Woodlake\, CA\, 93286\, United States
END:VEVENT
BEGIN:VEVENT
DTSTART;TZID=America/Los_Angeles:20250527T183000
DTEND;TZID=America/Los_Angeles:20250527T193000
DTSTAMP:20260423T122206
CREATED:20250523T225102Z
LAST-MODIFIED:20250523T225102Z
UID:10000255-1748370600-1748374200@cityofwoodlake.com
SUMMARY:City Council Meeting
DESCRIPTION:Join us on the 2nd & 4th Monday of each month at 6:30pm for our City Council Meetings.  Located at the Woodlake Community Center.
URL:https://cityofwoodlake.com/calendar/city-council-meeting-3/2025-05-27/
LOCATION:Woodlake Community Center\, 145 N. Magnolia\, Woodlake\, CA\, 93286\, United States
END:VEVENT
BEGIN:VEVENT
DTSTART;TZID=America/Los_Angeles:20250512T183000
DTEND;TZID=America/Los_Angeles:20250512T193000
DTSTAMP:20260423T122206
CREATED:20230921T222959Z
LAST-MODIFIED:20230921T222959Z
UID:10000298-1747074600-1747078200@cityofwoodlake.com
SUMMARY:City Council Meeting
DESCRIPTION:Join us on the 2nd & 4th Monday of each month at 6:30pm for our City Council Meetings.  Located at the Woodlake Community Center.
URL:https://cityofwoodlake.com/calendar/city-council-meeting-2/2025-05-12/
LOCATION:Woodlake Community Center\, 145 N. Magnolia\, Woodlake\, CA\, 93286\, United States
END:VEVENT
BEGIN:VEVENT
DTSTART;TZID=America/Los_Angeles:20250428T183000
DTEND;TZID=America/Los_Angeles:20250428T193000
DTSTAMP:20260423T122206
CREATED:20230921T222831Z
LAST-MODIFIED:20230921T222831Z
UID:10000254-1745865000-1745868600@cityofwoodlake.com
SUMMARY:City Council Meeting
DESCRIPTION:Join us on the 2nd & 4th Monday of each month at 6:30pm for our City Council Meetings.  Located at the Woodlake Community Center.
URL:https://cityofwoodlake.com/calendar/city-council-meeting/2025-04-28/
LOCATION:Woodlake Community Center\, 145 N. Magnolia\, Woodlake\, CA\, 93286\, United States
END:VEVENT
BEGIN:VEVENT
DTSTART;TZID=America/Los_Angeles:20250414T183000
DTEND;TZID=America/Los_Angeles:20250414T193000
DTSTAMP:20260423T122206
CREATED:20230921T222959Z
LAST-MODIFIED:20230921T222959Z
UID:10000297-1744655400-1744659000@cityofwoodlake.com
SUMMARY:City Council Meeting
DESCRIPTION:Join us on the 2nd & 4th Monday of each month at 6:30pm for our City Council Meetings.  Located at the Woodlake Community Center.
URL:https://cityofwoodlake.com/calendar/city-council-meeting-2/2025-04-14/
LOCATION:Woodlake Community Center\, 145 N. Magnolia\, Woodlake\, CA\, 93286\, United States
END:VEVENT
BEGIN:VEVENT
DTSTART;TZID=America/Los_Angeles:20250405T090000
DTEND;TZID=America/Los_Angeles:20250405T150000
DTSTAMP:20260423T122206
CREATED:20250331T221052Z
LAST-MODIFIED:20250331T221052Z
UID:10000431-1743843600-1743865200@cityofwoodlake.com
SUMMARY:CSET Free Tax Prep Event
DESCRIPTION:
URL:https://cityofwoodlake.com/calendar/cset-free-tax-prep-event/
LOCATION:Woodlake Community Center\, 145 N. Magnolia\, Woodlake\, CA\, 93286\, United States
END:VEVENT
BEGIN:VEVENT
DTSTART;TZID=America/Los_Angeles:20250329T090000
DTEND;TZID=America/Los_Angeles:20250329T100000
DTSTAMP:20260423T122206
CREATED:20250304T175525Z
LAST-MODIFIED:20250304T175525Z
UID:10000426-1743238800-1743242400@cityofwoodlake.com
SUMMARY:ROAR Basketball Clinic
DESCRIPTION:Our ROAR Basketball Clinic is open to those with developmental disabilities.  This clinic is designed for those who want to experience the excitement of basketball in a supportive and inclusive environment with Woodlake Ballers Travel Team basketball players & coaches.  All participants will receive a t-shirt\, drawstring bag & water bottle!   Participants must be age 4+ and accompanied by a family member/guardian the full duration of the clinic.  If you are a CVRC member\, please contact your Service Coordinator to register.  If you are not a CVRC Member\, please email Jennifer at JReynolds@ci.woodlake.ca.us
URL:https://cityofwoodlake.com/calendar/roar-basketball-clinic/
LOCATION:Woodlake Community Center\, 145 N. Magnolia\, Woodlake\, CA\, 93286\, United States
ORGANIZER;CN="City of Wodlake":MAILTO:permits@ci.woodlake.ca.us
END:VEVENT
BEGIN:VEVENT
DTSTART;TZID=America/Los_Angeles:20250324T183000
DTEND;TZID=America/Los_Angeles:20250324T193000
DTSTAMP:20260423T122206
CREATED:20230921T222831Z
LAST-MODIFIED:20230921T222831Z
UID:10000253-1742841000-1742844600@cityofwoodlake.com
SUMMARY:City Council Meeting
DESCRIPTION:Join us on the 2nd & 4th Monday of each month at 6:30pm for our City Council Meetings.  Located at the Woodlake Community Center.
URL:https://cityofwoodlake.com/calendar/city-council-meeting/2025-03-24/
LOCATION:Woodlake Community Center\, 145 N. Magnolia\, Woodlake\, CA\, 93286\, United States
END:VEVENT
BEGIN:VEVENT
DTSTART;TZID=America/Los_Angeles:20250310T183000
DTEND;TZID=America/Los_Angeles:20250310T193000
DTSTAMP:20260423T122206
CREATED:20230921T222959Z
LAST-MODIFIED:20230921T222959Z
UID:10000296-1741631400-1741635000@cityofwoodlake.com
SUMMARY:City Council Meeting
DESCRIPTION:Join us on the 2nd & 4th Monday of each month at 6:30pm for our City Council Meetings.  Located at the Woodlake Community Center.
URL:https://cityofwoodlake.com/calendar/city-council-meeting-2/2025-03-10/
LOCATION:Woodlake Community Center\, 145 N. Magnolia\, Woodlake\, CA\, 93286\, United States
END:VEVENT
BEGIN:VEVENT
DTSTART;TZID=America/Los_Angeles:20250224T183000
DTEND;TZID=America/Los_Angeles:20250224T193000
DTSTAMP:20260423T122206
CREATED:20230921T222831Z
LAST-MODIFIED:20230921T222831Z
UID:10000252-1740421800-1740425400@cityofwoodlake.com
SUMMARY:City Council Meeting
DESCRIPTION:Join us on the 2nd & 4th Monday of each month at 6:30pm for our City Council Meetings.  Located at the Woodlake Community Center.
URL:https://cityofwoodlake.com/calendar/city-council-meeting/2025-02-24/
LOCATION:Woodlake Community Center\, 145 N. Magnolia\, Woodlake\, CA\, 93286\, United States
END:VEVENT
BEGIN:VEVENT
DTSTART;TZID=America/Los_Angeles:20250210T183000
DTEND;TZID=America/Los_Angeles:20250210T193000
DTSTAMP:20260423T122206
CREATED:20230921T222959Z
LAST-MODIFIED:20230921T222959Z
UID:10000295-1739212200-1739215800@cityofwoodlake.com
SUMMARY:City Council Meeting
DESCRIPTION:Join us on the 2nd & 4th Monday of each month at 6:30pm for our City Council Meetings.  Located at the Woodlake Community Center.
URL:https://cityofwoodlake.com/calendar/city-council-meeting-2/2025-02-10/
LOCATION:Woodlake Community Center\, 145 N. Magnolia\, Woodlake\, CA\, 93286\, United States
END:VEVENT
BEGIN:VEVENT
DTSTART;TZID=America/Los_Angeles:20250127T183000
DTEND;TZID=America/Los_Angeles:20250127T193000
DTSTAMP:20260423T122206
CREATED:20230921T222831Z
LAST-MODIFIED:20230921T222831Z
UID:10000251-1738002600-1738006200@cityofwoodlake.com
SUMMARY:City Council Meeting
DESCRIPTION:Join us on the 2nd & 4th Monday of each month at 6:30pm for our City Council Meetings.  Located at the Woodlake Community Center.
URL:https://cityofwoodlake.com/calendar/city-council-meeting/2025-01-27/
LOCATION:Woodlake Community Center\, 145 N. Magnolia\, Woodlake\, CA\, 93286\, United States
END:VEVENT
BEGIN:VEVENT
DTSTART;TZID=America/Los_Angeles:20250113T183000
DTEND;TZID=America/Los_Angeles:20250113T193000
DTSTAMP:20260423T122206
CREATED:20230921T222959Z
LAST-MODIFIED:20230921T222959Z
UID:10000294-1736793000-1736796600@cityofwoodlake.com
SUMMARY:City Council Meeting
DESCRIPTION:Join us on the 2nd & 4th Monday of each month at 6:30pm for our City Council Meetings.  Located at the Woodlake Community Center.
URL:https://cityofwoodlake.com/calendar/city-council-meeting-2/2025-01-13/
LOCATION:Woodlake Community Center\, 145 N. Magnolia\, Woodlake\, CA\, 93286\, United States
END:VEVENT
BEGIN:VEVENT
DTSTART;TZID=America/Los_Angeles:20241223T183000
DTEND;TZID=America/Los_Angeles:20241223T193000
DTSTAMP:20260423T122206
CREATED:20230921T222831Z
LAST-MODIFIED:20230921T222831Z
UID:10000250-1734978600-1734982200@cityofwoodlake.com
SUMMARY:City Council Meeting
DESCRIPTION:Join us on the 2nd & 4th Monday of each month at 6:30pm for our City Council Meetings.  Located at the Woodlake Community Center.
URL:https://cityofwoodlake.com/calendar/city-council-meeting/2024-12-23/
LOCATION:Woodlake Community Center\, 145 N. Magnolia\, Woodlake\, CA\, 93286\, United States
END:VEVENT
BEGIN:VEVENT
DTSTART;TZID=America/Los_Angeles:20241209T183000
DTEND;TZID=America/Los_Angeles:20241209T193000
DTSTAMP:20260423T122206
CREATED:20230921T222959Z
LAST-MODIFIED:20230921T222959Z
UID:10000293-1733769000-1733772600@cityofwoodlake.com
SUMMARY:City Council Meeting
DESCRIPTION:Join us on the 2nd & 4th Monday of each month at 6:30pm for our City Council Meetings.  Located at the Woodlake Community Center.
URL:https://cityofwoodlake.com/calendar/city-council-meeting-2/2024-12-09/
LOCATION:Woodlake Community Center\, 145 N. Magnolia\, Woodlake\, CA\, 93286\, United States
END:VEVENT
BEGIN:VEVENT
DTSTART;TZID=America/Los_Angeles:20241125T183000
DTEND;TZID=America/Los_Angeles:20241125T193000
DTSTAMP:20260423T122206
CREATED:20230921T222831Z
LAST-MODIFIED:20230921T222831Z
UID:10000249-1732559400-1732563000@cityofwoodlake.com
SUMMARY:City Council Meeting
DESCRIPTION:Join us on the 2nd & 4th Monday of each month at 6:30pm for our City Council Meetings.  Located at the Woodlake Community Center.
URL:https://cityofwoodlake.com/calendar/city-council-meeting/2024-11-25/
LOCATION:Woodlake Community Center\, 145 N. Magnolia\, Woodlake\, CA\, 93286\, United States
END:VEVENT
BEGIN:VEVENT
DTSTART;TZID=America/Los_Angeles:20241111T183000
DTEND;TZID=America/Los_Angeles:20241111T193000
DTSTAMP:20260423T122206
CREATED:20230921T222959Z
LAST-MODIFIED:20230921T222959Z
UID:10000292-1731349800-1731353400@cityofwoodlake.com
SUMMARY:City Council Meeting
DESCRIPTION:Join us on the 2nd & 4th Monday of each month at 6:30pm for our City Council Meetings.  Located at the Woodlake Community Center.
URL:https://cityofwoodlake.com/calendar/city-council-meeting-2/2024-11-11/
LOCATION:Woodlake Community Center\, 145 N. Magnolia\, Woodlake\, CA\, 93286\, United States
END:VEVENT
BEGIN:VEVENT
DTSTART;TZID=America/Los_Angeles:20241106T150000
DTEND;TZID=America/Los_Angeles:20241106T180000
DTSTAMP:20260423T122206
CREATED:20241028T234249Z
LAST-MODIFIED:20241028T234249Z
UID:10000403-1730905200-1730916000@cityofwoodlake.com
SUMMARY:Woodlake Community Battle of the Badges Blood Drive
DESCRIPTION:Wednesday\, November 6th\n3-6pm\nWoodlake Community Center
URL:https://cityofwoodlake.com/calendar/woodlake-community-battle-of-the-badges-blood-drive/
LOCATION:Woodlake Community Center\, 145 N. Magnolia\, Woodlake\, CA\, 93286\, United States
END:VEVENT
BEGIN:VEVENT
DTSTART;TZID=America/Los_Angeles:20241028T183000
DTEND;TZID=America/Los_Angeles:20241028T193000
DTSTAMP:20260423T122206
CREATED:20230921T222831Z
LAST-MODIFIED:20230921T222831Z
UID:10000248-1730140200-1730143800@cityofwoodlake.com
SUMMARY:City Council Meeting
DESCRIPTION:Join us on the 2nd & 4th Monday of each month at 6:30pm for our City Council Meetings.  Located at the Woodlake Community Center.
URL:https://cityofwoodlake.com/calendar/city-council-meeting/2024-10-28/
LOCATION:Woodlake Community Center\, 145 N. Magnolia\, Woodlake\, CA\, 93286\, United States
END:VEVENT
BEGIN:VEVENT
DTSTART;TZID=America/Los_Angeles:20241014T183000
DTEND;TZID=America/Los_Angeles:20241014T193000
DTSTAMP:20260423T122206
CREATED:20230921T222959Z
LAST-MODIFIED:20230921T222959Z
UID:10000291-1728930600-1728934200@cityofwoodlake.com
SUMMARY:City Council Meeting
DESCRIPTION:Join us on the 2nd & 4th Monday of each month at 6:30pm for our City Council Meetings.  Located at the Woodlake Community Center.
URL:https://cityofwoodlake.com/calendar/city-council-meeting-2/2024-10-14/
LOCATION:Woodlake Community Center\, 145 N. Magnolia\, Woodlake\, CA\, 93286\, United States
END:VEVENT
END:VCALENDAR