BEGIN:VCALENDAR
VERSION:2.0
PRODID:-//City of Woodlake - ECPv6.15.20//NONSGML v1.0//EN
CALSCALE:GREGORIAN
METHOD:PUBLISH
X-WR-CALNAME:City of Woodlake
X-ORIGINAL-URL:https://cityofwoodlake.com
X-WR-CALDESC:Events for City of Woodlake
REFRESH-INTERVAL;VALUE=DURATION:PT1H
X-Robots-Tag:noindex
X-PUBLISHED-TTL:PT1H
BEGIN:VTIMEZONE
TZID:America/Los_Angeles
BEGIN:DAYLIGHT
TZOFFSETFROM:-0800
TZOFFSETTO:-0700
TZNAME:PDT
DTSTART:20250309T100000
END:DAYLIGHT
BEGIN:STANDARD
TZOFFSETFROM:-0700
TZOFFSETTO:-0800
TZNAME:PST
DTSTART:20251102T090000
END:STANDARD
BEGIN:DAYLIGHT
TZOFFSETFROM:-0800
TZOFFSETTO:-0700
TZNAME:PDT
DTSTART:20260308T100000
END:DAYLIGHT
BEGIN:STANDARD
TZOFFSETFROM:-0700
TZOFFSETTO:-0800
TZNAME:PST
DTSTART:20261101T090000
END:STANDARD
BEGIN:DAYLIGHT
TZOFFSETFROM:-0800
TZOFFSETTO:-0700
TZNAME:PDT
DTSTART:20270314T100000
END:DAYLIGHT
BEGIN:STANDARD
TZOFFSETFROM:-0700
TZOFFSETTO:-0800
TZNAME:PST
DTSTART:20271107T090000
END:STANDARD
END:VTIMEZONE
BEGIN:VEVENT
DTSTART;TZID=America/Los_Angeles:20260509T110000
DTEND;TZID=America/Los_Angeles:20260509T123000
DTSTAMP:20260423T102918
CREATED:20260413T214422Z
LAST-MODIFIED:20260413T214422Z
UID:10000954-1778324400-1778329800@cityofwoodlake.com
SUMMARY:Woodlake Rodeo Parade
DESCRIPTION:
URL:https://cityofwoodlake.com/calendar/woodlake-rodeo-parade-3/
ORGANIZER;CN="Woodlake Lions Club":MAILTO:contact@woodlakelionsclub.com
END:VEVENT
BEGIN:VEVENT
DTSTART;TZID=America/Los_Angeles:20260509T120000
DTEND;TZID=America/Los_Angeles:20260509T210000
DTSTAMP:20260423T102918
CREATED:20260413T214628Z
LAST-MODIFIED:20260413T214628Z
UID:10000955-1778328000-1778360400@cityofwoodlake.com
SUMMARY:Woodlake Lions Rodeo
DESCRIPTION:
URL:https://cityofwoodlake.com/calendar/woodlake-lions-rodeo-3/
LOCATION:Wdlk. Rodeo Grounds\, 19400 Ave 398\, Woodlake\, CA\, 93286\, United States
ORGANIZER;CN="Woodlake Lions Club":MAILTO:contact@woodlakelionsclub.com
END:VEVENT
BEGIN:VEVENT
DTSTART;TZID=America/Los_Angeles:20260510T110000
DTEND;TZID=America/Los_Angeles:20260510T170000
DTSTAMP:20260423T102918
CREATED:20260413T214954Z
LAST-MODIFIED:20260413T214954Z
UID:10000956-1778410800-1778432400@cityofwoodlake.com
SUMMARY:Woodlake Lions Rodeo
DESCRIPTION:
URL:https://cityofwoodlake.com/calendar/woodlake-lions-rodeo-4/
LOCATION:Wdlk. Rodeo Grounds\, 19400 Ave 398\, Woodlake\, CA\, 93286\, United States
ORGANIZER;CN="Woodlake Lions Club":MAILTO:contact@woodlakelionsclub.com
END:VEVENT
END:VCALENDAR