BEGIN:VCALENDAR
VERSION:2.0
PRODID:-//City of Woodlake - ECPv6.15.20//NONSGML v1.0//EN
CALSCALE:GREGORIAN
METHOD:PUBLISH
X-WR-CALNAME:City of Woodlake
X-ORIGINAL-URL:https://cityofwoodlake.com
X-WR-CALDESC:Events for City of Woodlake
REFRESH-INTERVAL;VALUE=DURATION:PT1H
X-Robots-Tag:noindex
X-PUBLISHED-TTL:PT1H
BEGIN:VTIMEZONE
TZID:America/Los_Angeles
BEGIN:DAYLIGHT
TZOFFSETFROM:-0800
TZOFFSETTO:-0700
TZNAME:PDT
DTSTART:20230312T100000
END:DAYLIGHT
BEGIN:STANDARD
TZOFFSETFROM:-0700
TZOFFSETTO:-0800
TZNAME:PST
DTSTART:20231105T090000
END:STANDARD
BEGIN:DAYLIGHT
TZOFFSETFROM:-0800
TZOFFSETTO:-0700
TZNAME:PDT
DTSTART:20240310T100000
END:DAYLIGHT
BEGIN:STANDARD
TZOFFSETFROM:-0700
TZOFFSETTO:-0800
TZNAME:PST
DTSTART:20241103T090000
END:STANDARD
BEGIN:DAYLIGHT
TZOFFSETFROM:-0800
TZOFFSETTO:-0700
TZNAME:PDT
DTSTART:20250309T100000
END:DAYLIGHT
BEGIN:STANDARD
TZOFFSETFROM:-0700
TZOFFSETTO:-0800
TZNAME:PST
DTSTART:20251102T090000
END:STANDARD
BEGIN:DAYLIGHT
TZOFFSETFROM:-0800
TZOFFSETTO:-0700
TZNAME:PDT
DTSTART:20260308T100000
END:DAYLIGHT
BEGIN:STANDARD
TZOFFSETFROM:-0700
TZOFFSETTO:-0800
TZNAME:PST
DTSTART:20261101T090000
END:STANDARD
END:VTIMEZONE
BEGIN:VEVENT
DTSTART;TZID=America/Los_Angeles:20251211T170000
DTEND;TZID=America/Los_Angeles:20251211T210000
DTSTAMP:20260423T120916
CREATED:20251020T155706Z
LAST-MODIFIED:20251020T155706Z
UID:10000909-1765472400-1765486800@cityofwoodlake.com
SUMMARY:Senior Christmas Dinner
DESCRIPTION:
URL:https://cityofwoodlake.com/calendar/senior-christmas-dinner-3/
LOCATION:Woodlake Memorial Building\, 355 N. Acacia\, Woodlake\, CA\, 93286\, United States
ORGANIZER;CN="Woodlake Lions Club":MAILTO:contact@woodlakelionsclub.com
END:VEVENT
BEGIN:VEVENT
DTSTART;TZID=America/Los_Angeles:20250511T113000
DTEND;TZID=America/Los_Angeles:20250511T170000
DTSTAMP:20260423T120916
CREATED:20250425T210938Z
LAST-MODIFIED:20250425T210938Z
UID:10000812-1746963000-1746982800@cityofwoodlake.com
SUMMARY:Woodlake Lions Rodeo
DESCRIPTION:The Woodlake Lions Club is hosting the 70th Annual Woodlake Rodeo on Saturday\, May 10th & Sunday\, May 11th!  For tickets & more information\, visit www.woodlakelionsclub.com
URL:https://cityofwoodlake.com/calendar/woodlake-lions-rodeo-2/2025-05-11/
LOCATION:Wdlk. Rodeo Grounds\, 19400 Ave 398\, Woodlake\, CA\, 93286\, United States
ORGANIZER;CN="Woodlake Lions Club":MAILTO:contact@woodlakelionsclub.com
END:VEVENT
BEGIN:VEVENT
DTSTART;TZID=America/Los_Angeles:20250510T113000
DTEND;TZID=America/Los_Angeles:20250510T170000
DTSTAMP:20260423T120916
CREATED:20250425T210938Z
LAST-MODIFIED:20250425T210938Z
UID:10000811-1746876600-1746896400@cityofwoodlake.com
SUMMARY:Woodlake Lions Rodeo
DESCRIPTION:The Woodlake Lions Club is hosting the 70th Annual Woodlake Rodeo on Saturday\, May 10th & Sunday\, May 11th!  For tickets & more information\, visit www.woodlakelionsclub.com
URL:https://cityofwoodlake.com/calendar/woodlake-lions-rodeo-2/2025-05-10/
LOCATION:Wdlk. Rodeo Grounds\, 19400 Ave 398\, Woodlake\, CA\, 93286\, United States
ORGANIZER;CN="Woodlake Lions Club":MAILTO:contact@woodlakelionsclub.com
END:VEVENT
BEGIN:VEVENT
DTSTART;TZID=America/Los_Angeles:20250510T100000
DTEND;TZID=America/Los_Angeles:20250510T113000
DTSTAMP:20260423T120916
CREATED:20250425T210621Z
LAST-MODIFIED:20250425T210621Z
UID:10000810-1746871200-1746876600@cityofwoodlake.com
SUMMARY:Woodlake Rodeo Parade
DESCRIPTION:The Woodlake Lions Club is once again hosting the Woodlake Rodeo Parade at 10am the morning of Saturday\, May 10th!  For registration & more information\, visit www.woodlakelionsclub.com
URL:https://cityofwoodlake.com/calendar/woodlake-rodeo-parade-2/
ORGANIZER;CN="Woodlake Lions Club":MAILTO:contact@woodlakelionsclub.com
END:VEVENT
BEGIN:VEVENT
DTSTART;TZID=America/Los_Angeles:20250509T170000
DTEND;TZID=America/Los_Angeles:20250509T190000
DTSTAMP:20260423T120916
CREATED:20250425T210406Z
LAST-MODIFIED:20250425T210406Z
UID:10000809-1746810000-1746817200@cityofwoodlake.com
SUMMARY:Kick-Off Open Barrel Race
DESCRIPTION:The Woodlake Lions Club is hosting a new Western Week event – Kick-Off Open Barrel Race – on Friday\, May 9th!  For registration & more information\, visi www.woodlakelionsclub.com
URL:https://cityofwoodlake.com/calendar/kick-off-open-barrel-race/
LOCATION:Wdlk. Rodeo Grounds\, 19400 Ave 398\, Woodlake\, CA\, 93286\, United States
ORGANIZER;CN="Woodlake Lions Club":MAILTO:contact@woodlakelionsclub.com
END:VEVENT
BEGIN:VEVENT
DTSTART;TZID=America/Los_Angeles:20241212T170000
DTEND;TZID=America/Los_Angeles:20241212T210000
DTSTAMP:20260423T120916
CREATED:20241121T003913Z
LAST-MODIFIED:20241121T003913Z
UID:10000413-1734022800-1734037200@cityofwoodlake.com
SUMMARY:Senior Christmas Dinner
DESCRIPTION:The Woodlake Lions Club will once again be hosting a Senior Christmas Dinner on Thursday\, December 12th at 5pm at the Woodlake Veterans Memorial Building.
URL:https://cityofwoodlake.com/calendar/senior-christmas-dinner-2/
LOCATION:Woodlake Memorial Building\, 355 N. Acacia\, Woodlake\, CA\, 93286\, United States
ORGANIZER;CN="Woodlake Lions Club":MAILTO:contact@woodlakelionsclub.com
END:VEVENT
BEGIN:VEVENT
DTSTART;TZID=America/Los_Angeles:20240511T133000
DTEND;TZID=America/Los_Angeles:20240511T170000
DTSTAMP:20260423T120916
CREATED:20240419T232137Z
LAST-MODIFIED:20240419T232137Z
UID:10000385-1715434200-1715446800@cityofwoodlake.com
SUMMARY:Woodlake Lions Rodeo
DESCRIPTION:
URL:https://cityofwoodlake.com/calendar/woodlake-lions-rodeo/
LOCATION:Wdlk. Rodeo Grounds\, 19400 Ave 398\, Woodlake\, CA\, 93286\, United States
ORGANIZER;CN="Woodlake Lions Club":MAILTO:contact@woodlakelionsclub.com
END:VEVENT
BEGIN:VEVENT
DTSTART;TZID=America/Los_Angeles:20240511T100000
DTEND;TZID=America/Los_Angeles:20240511T113000
DTSTAMP:20260423T120916
CREATED:20240419T231849Z
LAST-MODIFIED:20240419T231849Z
UID:10000384-1715421600-1715427000@cityofwoodlake.com
SUMMARY:Woodlake Rodeo Parade
DESCRIPTION:
URL:https://cityofwoodlake.com/calendar/woodlake-rodeo-parade/
LOCATION:Woodlake City Hall\, 350 N Valencia Blvd\, Woodlake\, CA\, 93286\, United States
ORGANIZER;CN="Woodlake Lions Club":MAILTO:contact@woodlakelionsclub.com
END:VEVENT
BEGIN:VEVENT
DTSTART;TZID=America/Los_Angeles:20240504T170000
DTEND;TZID=America/Los_Angeles:20240504T220000
DTSTAMP:20260423T120916
CREATED:20240419T230352Z
LAST-MODIFIED:20240419T230352Z
UID:10000377-1714842000-1714860000@cityofwoodlake.com
SUMMARY:Western Week Kick-Off Dance
DESCRIPTION:
URL:https://cityofwoodlake.com/calendar/western-week-kick-off-dance/
LOCATION:Wdlk. Rodeo Grounds\, 19400 Ave 398\, Woodlake\, CA\, 93286\, United States
ORGANIZER;CN="Woodlake Lions Club":MAILTO:contact@woodlakelionsclub.com
END:VEVENT
END:VCALENDAR