BEGIN:VCALENDAR
VERSION:2.0
PRODID:-//City of Woodlake - ECPv6.15.20//NONSGML v1.0//EN
CALSCALE:GREGORIAN
METHOD:PUBLISH
X-WR-CALNAME:City of Woodlake
X-ORIGINAL-URL:https://cityofwoodlake.com
X-WR-CALDESC:Events for City of Woodlake
REFRESH-INTERVAL;VALUE=DURATION:PT1H
X-Robots-Tag:noindex
X-PUBLISHED-TTL:PT1H
BEGIN:VTIMEZONE
TZID:America/Los_Angeles
BEGIN:DAYLIGHT
TZOFFSETFROM:-0800
TZOFFSETTO:-0700
TZNAME:PDT
DTSTART:20230312T100000
END:DAYLIGHT
BEGIN:STANDARD
TZOFFSETFROM:-0700
TZOFFSETTO:-0800
TZNAME:PST
DTSTART:20231105T090000
END:STANDARD
BEGIN:DAYLIGHT
TZOFFSETFROM:-0800
TZOFFSETTO:-0700
TZNAME:PDT
DTSTART:20240310T100000
END:DAYLIGHT
BEGIN:STANDARD
TZOFFSETFROM:-0700
TZOFFSETTO:-0800
TZNAME:PST
DTSTART:20241103T090000
END:STANDARD
BEGIN:DAYLIGHT
TZOFFSETFROM:-0800
TZOFFSETTO:-0700
TZNAME:PDT
DTSTART:20250309T100000
END:DAYLIGHT
BEGIN:STANDARD
TZOFFSETFROM:-0700
TZOFFSETTO:-0800
TZNAME:PST
DTSTART:20251102T090000
END:STANDARD
BEGIN:DAYLIGHT
TZOFFSETFROM:-0800
TZOFFSETTO:-0700
TZNAME:PDT
DTSTART:20260308T100000
END:DAYLIGHT
BEGIN:STANDARD
TZOFFSETFROM:-0700
TZOFFSETTO:-0800
TZNAME:PST
DTSTART:20261101T090000
END:STANDARD
BEGIN:DAYLIGHT
TZOFFSETFROM:-0800
TZOFFSETTO:-0700
TZNAME:PDT
DTSTART:20270314T100000
END:DAYLIGHT
BEGIN:STANDARD
TZOFFSETFROM:-0700
TZOFFSETTO:-0800
TZNAME:PST
DTSTART:20271107T090000
END:STANDARD
END:VTIMEZONE
BEGIN:VEVENT
DTSTART;TZID=America/Los_Angeles:20260206T180000
DTEND;TZID=America/Los_Angeles:20260206T210000
DTSTAMP:20260423T120349
CREATED:20260126T224048Z
LAST-MODIFIED:20260127T000703Z
UID:10000919-1770400800-1770411600@cityofwoodlake.com
SUMMARY:2025 Woodlake Awards Event
DESCRIPTION:
URL:https://cityofwoodlake.com/calendar/2025-woodlake-awards-event/
LOCATION:Woodlake Memorial Building\, 355 N. Acacia\, Woodlake\, CA\, 93286\, United States
ORGANIZER;CN="Woodlake Kiwanis":MAILTO:woodlakeawards@gmail.com
END:VEVENT
BEGIN:VEVENT
DTSTART;TZID=America/Los_Angeles:20250703T170000
DTEND;TZID=America/Los_Angeles:20250703T230000
DTSTAMP:20260423T120349
CREATED:20250623T180437Z
LAST-MODIFIED:20250623T180437Z
UID:10000883-1751562000-1751583600@cityofwoodlake.com
SUMMARY:July 3rd Blast
DESCRIPTION:The 2025 July 3rd Blast event features Country Music artist\, Frank Ray\, live in concert for FREE with a post-concert fireworks show!  Festivities kick off at 5pm on July 3rd in Woodlake City Park!
URL:https://cityofwoodlake.com/calendar/july-3rd-blast/
LOCATION:Woodlake City Park
ORGANIZER;CN="Woodlake Kiwanis":MAILTO:woodlakeawards@gmail.com
END:VEVENT
BEGIN:VEVENT
DTSTART;TZID=America/Los_Angeles:20250508T170000
DTEND;TZID=America/Los_Angeles:20250508T200000
DTSTAMP:20260423T120349
CREATED:20250425T205311Z
LAST-MODIFIED:20250425T205311Z
UID:10000807-1746723600-1746734400@cityofwoodlake.com
SUMMARY:Family Reading Rodeo
DESCRIPTION:The Woodlake Kiwanis are hosting a new Western Week event – the Family Reading Rodeo – on Thursday\, May 8th at 5:30pm at City Park.  This is free to attend – there will be free pony rides\, Woodlake Reads award winners announced\, and live music by singer/children’s book author\, Nathalia!  For more information\, email WoodlakeKiwanis@gmail.com
URL:https://cityofwoodlake.com/calendar/family-reading-rodeo/
LOCATION:Woodlake City Park
ORGANIZER;CN="Woodlake Kiwanis":MAILTO:woodlakeawards@gmail.com
END:VEVENT
BEGIN:VEVENT
DTSTART;TZID=America/Los_Angeles:20250329T110000
DTEND;TZID=America/Los_Angeles:20250329T133000
DTSTAMP:20260423T120349
CREATED:20250304T175952Z
LAST-MODIFIED:20250304T175952Z
UID:10000427-1743246000-1743255000@cityofwoodlake.com
SUMMARY:Miracle Mile of Quarters - Division 18 Kiwanis
DESCRIPTION:District 18 Kiwanis is hosting the “Miracle Mile of Quarters” at Woodlake City Park on Saturday\, March 29th from 11am-1:30pm.  This is a fundraiser for Valley Children’s Hospital.  If you would like to participate in raising quarters\, email woodlakekiwanis@gmail.com
URL:https://cityofwoodlake.com/calendar/miracle-mile-of-quarters-division-18-kiwanis/
LOCATION:Woodlake City Park
ORGANIZER;CN="Woodlake Kiwanis":MAILTO:woodlakeawards@gmail.com
END:VEVENT
BEGIN:VEVENT
DTSTART;TZID=America/Los_Angeles:20241107T170000
DTEND;TZID=America/Los_Angeles:20241107T183000
DTSTAMP:20260423T120349
CREATED:20241028T234530Z
LAST-MODIFIED:20241028T234530Z
UID:10000404-1730998800-1731004200@cityofwoodlake.com
SUMMARY:Read Across Woodlake Celebration Event
DESCRIPTION:Read Across Woodlake Celebration Event\nThursday\, November 7th @ 5pm\nWoodlake City Park\nFor more information: ReadAcrossWoodlake@gmail.com
URL:https://cityofwoodlake.com/calendar/read-across-woodlake-celebration-event/
LOCATION:Woodlake City Park
ORGANIZER;CN="Woodlake Kiwanis":MAILTO:woodlakeawards@gmail.com
END:VEVENT
BEGIN:VEVENT
DTSTART;TZID=America/Los_Angeles:20241103T150000
DTEND;TZID=America/Los_Angeles:20241103T170000
DTSTAMP:20260423T120349
CREATED:20241028T233918Z
LAST-MODIFIED:20241028T233918Z
UID:10000322-1730646000-1730653200@cityofwoodlake.com
SUMMARY:Miss Woodlake Coronation Event
DESCRIPTION:Miss Woodlake Scholarship Program Coronation Event\nSunday\, November 3rd\n3pm @ Performing Arts Building at Woodlake High School \nFor more information\, contact Maria Reynoso\n559-740-3589\nBerrySweetBoo@aol.com
URL:https://cityofwoodlake.com/calendar/miss-woodlake-coronation-event/
ORGANIZER;CN="Woodlake Kiwanis":MAILTO:woodlakeawards@gmail.com
END:VEVENT
BEGIN:VEVENT
DTSTART;TZID=America/Los_Angeles:20241005T173000
DTEND;TZID=America/Los_Angeles:20241005T213000
DTSTAMP:20260423T120349
CREATED:20240813T225355Z
LAST-MODIFIED:20240813T225355Z
UID:10000320-1728149400-1728163800@cityofwoodlake.com
SUMMARY:Woodlake Brewfest
DESCRIPTION:The 2024 WHS Foundation Woodlake Brewfest fundraiser will be held on Sat\, October 5th from 5:30-9:30pm at Running P Ranch (19524 Ave 364 in Woodlake).  For tickets\, call Sally at 559-805-3975 or email RunningP64@gmail.com!
URL:https://cityofwoodlake.com/calendar/woodlake-brewfest-2/
LOCATION:Running P Ranch\, 19524 Ave. 364\, Woodlake\, CA\, 93286\, United States
ORGANIZER;CN="Woodlake Kiwanis":MAILTO:woodlakeawards@gmail.com
END:VEVENT
BEGIN:VEVENT
DTSTART;TZID=America/Los_Angeles:20240511T070000
DTEND;TZID=America/Los_Angeles:20240511T093000
DTSTAMP:20260423T120349
CREATED:20240423T155501Z
LAST-MODIFIED:20240423T155501Z
UID:10000392-1715410800-1715419800@cityofwoodlake.com
SUMMARY:Kiwanis Pancake Breakfast
DESCRIPTION:
URL:https://cityofwoodlake.com/calendar/kiwanis-pancake-breakfast/
LOCATION:Aaron’s Salon\, 292 N. Valencia Blvd.\, Woodlake\, CA\, 93286\, United States
ORGANIZER;CN="Woodlake Kiwanis":MAILTO:woodlakeawards@gmail.com
END:VEVENT
BEGIN:VEVENT
DTSTART;TZID=America/Los_Angeles:20240507T160000
DTEND;TZID=America/Los_Angeles:20240507T180000
DTSTAMP:20260423T120349
CREATED:20240423T154140Z
LAST-MODIFIED:20240423T154140Z
UID:10000391-1715097600-1715104800@cityofwoodlake.com
SUMMARY:Bike Rodeo
DESCRIPTION:
URL:https://cityofwoodlake.com/calendar/bike-rodeo/
LOCATION:Woodlake City Park
ORGANIZER;CN="Woodlake Kiwanis":MAILTO:woodlakeawards@gmail.com
END:VEVENT
BEGIN:VEVENT
DTSTART;TZID=America/Los_Angeles:20240430T180000
DTEND;TZID=America/Los_Angeles:20240430T200000
DTSTAMP:20260423T120349
CREATED:20240419T232427Z
LAST-MODIFIED:20240419T232427Z
UID:10000388-1714500000-1714507200@cityofwoodlake.com
SUMMARY:Community Kiwanis Meeting
DESCRIPTION:
URL:https://cityofwoodlake.com/calendar/community-kiwanis-meeting/
LOCATION:Woodlake Community Center\, 145 N. Magnolia\, Woodlake\, CA\, 93286\, United States
ORGANIZER;CN="Woodlake Kiwanis":MAILTO:woodlakeawards@gmail.com
END:VEVENT
BEGIN:VEVENT
DTSTART;TZID=America/Los_Angeles:20240420T110000
DTEND;TZID=America/Los_Angeles:20240420T140000
DTSTAMP:20260423T120349
CREATED:20240419T232305Z
LAST-MODIFIED:20240419T232305Z
UID:10000386-1713610800-1713621600@cityofwoodlake.com
SUMMARY:Kiwanis Miracle Mile of Quarters
DESCRIPTION:
URL:https://cityofwoodlake.com/calendar/kiwanis-miracle-mile-of-quarters-2/
LOCATION:Woodlake City Park
ORGANIZER;CN="Woodlake Kiwanis":MAILTO:woodlakeawards@gmail.com
END:VEVENT
BEGIN:VEVENT
DTSTART;TZID=America/Los_Angeles:20240126T180000
DTEND;TZID=America/Los_Angeles:20240126T210000
DTSTAMP:20260423T120349
CREATED:20240103T173301Z
LAST-MODIFIED:20240103T173301Z
UID:10000330-1706292000-1706302800@cityofwoodlake.com
SUMMARY:Woodlake Awards Dinner: 2023 Honorees
DESCRIPTION:Tickets available from Kiwanis Members & at City Hall!
URL:https://cityofwoodlake.com/calendar/woodlake-awards-dinner-2023-honorees/
LOCATION:Woodlake Memorial Building\, 355 N. Acacia\, Woodlake\, CA\, 93286\, United States
ORGANIZER;CN="Woodlake Kiwanis":MAILTO:woodlakeawards@gmail.com
END:VEVENT
END:VCALENDAR