BEGIN:VCALENDAR
VERSION:2.0
PRODID:-//City of Woodlake - ECPv6.15.20//NONSGML v1.0//EN
CALSCALE:GREGORIAN
METHOD:PUBLISH
X-WR-CALNAME:City of Woodlake
X-ORIGINAL-URL:https://cityofwoodlake.com
X-WR-CALDESC:Events for City of Woodlake
REFRESH-INTERVAL;VALUE=DURATION:PT1H
X-Robots-Tag:noindex
X-PUBLISHED-TTL:PT1H
BEGIN:VTIMEZONE
TZID:America/Los_Angeles
BEGIN:DAYLIGHT
TZOFFSETFROM:-0800
TZOFFSETTO:-0700
TZNAME:PDT
DTSTART:20230312T100000
END:DAYLIGHT
BEGIN:STANDARD
TZOFFSETFROM:-0700
TZOFFSETTO:-0800
TZNAME:PST
DTSTART:20231105T090000
END:STANDARD
BEGIN:DAYLIGHT
TZOFFSETFROM:-0800
TZOFFSETTO:-0700
TZNAME:PDT
DTSTART:20240310T100000
END:DAYLIGHT
BEGIN:STANDARD
TZOFFSETFROM:-0700
TZOFFSETTO:-0800
TZNAME:PST
DTSTART:20241103T090000
END:STANDARD
BEGIN:DAYLIGHT
TZOFFSETFROM:-0800
TZOFFSETTO:-0700
TZNAME:PDT
DTSTART:20250309T100000
END:DAYLIGHT
BEGIN:STANDARD
TZOFFSETFROM:-0700
TZOFFSETTO:-0800
TZNAME:PST
DTSTART:20251102T090000
END:STANDARD
BEGIN:DAYLIGHT
TZOFFSETFROM:-0800
TZOFFSETTO:-0700
TZNAME:PDT
DTSTART:20260308T100000
END:DAYLIGHT
BEGIN:STANDARD
TZOFFSETFROM:-0700
TZOFFSETTO:-0800
TZNAME:PST
DTSTART:20261101T090000
END:STANDARD
BEGIN:DAYLIGHT
TZOFFSETFROM:-0800
TZOFFSETTO:-0700
TZNAME:PDT
DTSTART:20270314T100000
END:DAYLIGHT
BEGIN:STANDARD
TZOFFSETFROM:-0700
TZOFFSETTO:-0800
TZNAME:PST
DTSTART:20271107T090000
END:STANDARD
END:VTIMEZONE
BEGIN:VEVENT
DTSTART;TZID=America/Los_Angeles:20260402T170000
DTEND;TZID=America/Los_Angeles:20260402T190000
DTSTAMP:20260423T202650
CREATED:20260401T185236Z
LAST-MODIFIED:20260401T185236Z
UID:10000939-1775149200-1775156400@cityofwoodlake.com
SUMMARY:Child Abuse Awareness Event
DESCRIPTION:
URL:https://cityofwoodlake.com/calendar/child-abuse-awareness-event/
LOCATION:Woodlake Plaza\, 145 N. Magnolia St.\, Woodlake\, CA\, 93286\, United States
ORGANIZER;CN="Woodlake Family Resource Cener":MAILTO:avillarreal@w-usd.org
END:VEVENT
BEGIN:VEVENT
DTSTART;TZID=America/Los_Angeles:20260331T100000
DTEND;TZID=America/Los_Angeles:20260331T120000
DTSTAMP:20260423T202650
CREATED:20260225T220333Z
LAST-MODIFIED:20260225T220333Z
UID:10000935-1774951200-1774958400@cityofwoodlake.com
SUMMARY:Hooked on Books Spring Break Reading Event
DESCRIPTION:
URL:https://cityofwoodlake.com/calendar/hooked-on-books-spring-break-reading-event/
LOCATION:Woodlake Plaza\, 145 N. Magnolia St.\, Woodlake\, CA\, 93286\, United States
ORGANIZER;CN="Woodlake Family Resource Cener":MAILTO:avillarreal@w-usd.org
END:VEVENT
BEGIN:VEVENT
DTSTART;TZID=America/Los_Angeles:20240517T123000
DTEND;TZID=America/Los_Angeles:20240517T143000
DTSTAMP:20260423T202650
CREATED:20240513T182514Z
LAST-MODIFIED:20240513T182514Z
UID:10000395-1715949000-1715956200@cityofwoodlake.com
SUMMARY:Senior Adult Mental Health Resource Fair
DESCRIPTION:
URL:https://cityofwoodlake.com/calendar/senior-adult-mental-health-resource-fair/
LOCATION:Woodlake Community Center\, 145 N. Magnolia\, Woodlake\, CA\, 93286\, United States
ORGANIZER;CN="Woodlake Family Resource Cener":MAILTO:avillarreal@w-usd.org
END:VEVENT
END:VCALENDAR