BEGIN:VCALENDAR
VERSION:2.0
PRODID:-//City of Woodlake - ECPv6.15.20//NONSGML v1.0//EN
CALSCALE:GREGORIAN
METHOD:PUBLISH
X-WR-CALNAME:City of Woodlake
X-ORIGINAL-URL:https://cityofwoodlake.com
X-WR-CALDESC:Events for City of Woodlake
REFRESH-INTERVAL;VALUE=DURATION:PT1H
X-Robots-Tag:noindex
X-PUBLISHED-TTL:PT1H
BEGIN:VTIMEZONE
TZID:America/Los_Angeles
BEGIN:DAYLIGHT
TZOFFSETFROM:-0800
TZOFFSETTO:-0700
TZNAME:PDT
DTSTART:20250309T100000
END:DAYLIGHT
BEGIN:STANDARD
TZOFFSETFROM:-0700
TZOFFSETTO:-0800
TZNAME:PST
DTSTART:20251102T090000
END:STANDARD
BEGIN:DAYLIGHT
TZOFFSETFROM:-0800
TZOFFSETTO:-0700
TZNAME:PDT
DTSTART:20260308T100000
END:DAYLIGHT
BEGIN:STANDARD
TZOFFSETFROM:-0700
TZOFFSETTO:-0800
TZNAME:PST
DTSTART:20261101T090000
END:STANDARD
BEGIN:DAYLIGHT
TZOFFSETFROM:-0800
TZOFFSETTO:-0700
TZNAME:PDT
DTSTART:20270314T100000
END:DAYLIGHT
BEGIN:STANDARD
TZOFFSETFROM:-0700
TZOFFSETTO:-0800
TZNAME:PST
DTSTART:20271107T090000
END:STANDARD
END:VTIMEZONE
BEGIN:VEVENT
DTSTART;TZID=America/Los_Angeles:20260502T060000
DTEND;TZID=America/Los_Angeles:20260502T080000
DTSTAMP:20260423T102607
CREATED:20260401T190031Z
LAST-MODIFIED:20260401T190031Z
UID:10000945-1777701600-1777708800@cityofwoodlake.com
SUMMARY:Southern Sierra Century Bike Ride
DESCRIPTION:
URL:https://cityofwoodlake.com/calendar/southern-sierra-century-bike-ride-2/
LOCATION:Woodlake City Park
ORGANIZER;CN="Southern Sierra Cyclists":MAILTO:president@southernsierracyclists.org
END:VEVENT
END:VCALENDAR