BEGIN:VCALENDAR
VERSION:2.0
PRODID:-//City of Woodlake - ECPv6.15.20//NONSGML v1.0//EN
CALSCALE:GREGORIAN
METHOD:PUBLISH
X-ORIGINAL-URL:https://cityofwoodlake.com
X-WR-CALDESC:Events for City of Woodlake
REFRESH-INTERVAL;VALUE=DURATION:PT1H
X-Robots-Tag:noindex
X-PUBLISHED-TTL:PT1H
BEGIN:VTIMEZONE
TZID:America/Los_Angeles
BEGIN:DAYLIGHT
TZOFFSETFROM:-0800
TZOFFSETTO:-0700
TZNAME:PDT
DTSTART:20210314T100000
END:DAYLIGHT
BEGIN:STANDARD
TZOFFSETFROM:-0700
TZOFFSETTO:-0800
TZNAME:PST
DTSTART:20211107T090000
END:STANDARD
BEGIN:DAYLIGHT
TZOFFSETFROM:-0800
TZOFFSETTO:-0700
TZNAME:PDT
DTSTART:20220313T100000
END:DAYLIGHT
BEGIN:STANDARD
TZOFFSETFROM:-0700
TZOFFSETTO:-0800
TZNAME:PST
DTSTART:20221106T090000
END:STANDARD
BEGIN:DAYLIGHT
TZOFFSETFROM:-0800
TZOFFSETTO:-0700
TZNAME:PDT
DTSTART:20230312T100000
END:DAYLIGHT
BEGIN:STANDARD
TZOFFSETFROM:-0700
TZOFFSETTO:-0800
TZNAME:PST
DTSTART:20231105T090000
END:STANDARD
BEGIN:DAYLIGHT
TZOFFSETFROM:-0800
TZOFFSETTO:-0700
TZNAME:PDT
DTSTART:20240310T100000
END:DAYLIGHT
BEGIN:STANDARD
TZOFFSETFROM:-0700
TZOFFSETTO:-0800
TZNAME:PST
DTSTART:20241103T090000
END:STANDARD
BEGIN:DAYLIGHT
TZOFFSETFROM:-0800
TZOFFSETTO:-0700
TZNAME:PDT
DTSTART:20250309T100000
END:DAYLIGHT
BEGIN:STANDARD
TZOFFSETFROM:-0700
TZOFFSETTO:-0800
TZNAME:PST
DTSTART:20251102T090000
END:STANDARD
END:VTIMEZONE
BEGIN:VEVENT
DTSTART;TZID=America/Los_Angeles:20240719T190000
DTEND;TZID=America/Los_Angeles:20240719T210000
DTSTAMP:20260425T064828
CREATED:20240625T183917Z
LAST-MODIFIED:20240625T183917Z
UID:10000402-1721415600-1721422800@cityofwoodlake.com
SUMMARY:Summer Night Lights Event: Family Movie Night
DESCRIPTION:
URL:https://cityofwoodlake.com/calendar/summer-night-lights-event-family-movie-night/
LOCATION:Woodlake Plaza\, 145 N. Magnolia St.\, Woodlake\, CA\, 93286\, United States
ORGANIZER;CN="City of Wodlake":MAILTO:permits@ci.woodlake.ca.us
END:VEVENT
BEGIN:VEVENT
DTSTART;TZID=America/Los_Angeles:20240629T090000
DTEND;TZID=America/Los_Angeles:20240629T140000
DTSTAMP:20260425T064828
CREATED:20240625T183054Z
LAST-MODIFIED:20240625T183054Z
UID:10000400-1719651600-1719669600@cityofwoodlake.com
SUMMARY:Flag Football Opening Saturday Festivities
DESCRIPTION:The 2024 Flag Football Season kicks-off with a bang on opening Saturday\, June 29th! WHS Cheerleaders on-site for photos at 9am\, team pictures\, games\, food trucks\, & giveaways for registered players!
URL:https://cityofwoodlake.com/calendar/flag-football-opening-saturday-festivities/
LOCATION:Castle Rock Sports Fields\, 552 N. Castle Rock St.\, Woodlake\, 93286\, United States
ORGANIZER;CN="City of Wodlake":MAILTO:permits@ci.woodlake.ca.us
END:VEVENT
BEGIN:VEVENT
DTSTART;TZID=America/Los_Angeles:20240511T090000
DTEND;TZID=America/Los_Angeles:20240511T120000
DTSTAMP:20260425T064828
CREATED:20240419T231717Z
LAST-MODIFIED:20240419T231717Z
UID:10000383-1715418000-1715428800@cityofwoodlake.com
SUMMARY:Spring Craft Fair
DESCRIPTION:
URL:https://cityofwoodlake.com/calendar/spring-craft-fair/
LOCATION:Woodlake Downtown Studio\, 157 N. Valencia Blvd.\, Woodlake\, CA\, 93286\, United States
ORGANIZER;CN="City of Wodlake":MAILTO:permits@ci.woodlake.ca.us
END:VEVENT
BEGIN:VEVENT
DTSTART;TZID=America/Los_Angeles:20240118T170000
DTEND;TZID=America/Los_Angeles:20240118T200000
DTSTAMP:20260425T064828
CREATED:20240103T174000Z
LAST-MODIFIED:20240103T174000Z
UID:10000331-1705597200-1705608000@cityofwoodlake.com
SUMMARY:Youth Basketball Opening Weekend
DESCRIPTION:
URL:https://cityofwoodlake.com/calendar/youth-basketball-opening-weekend/
LOCATION:Woodlake Community Center\, 145 N. Magnolia\, Woodlake\, CA\, 93286\, United States
ORGANIZER;CN="City of Wodlake":MAILTO:permits@ci.woodlake.ca.us
END:VEVENT
BEGIN:VEVENT
DTSTART;TZID=America/Los_Angeles:20240113T100000
DTEND;TZID=America/Los_Angeles:20240113T150000
DTSTAMP:20260425T064828
CREATED:20240103T174300Z
LAST-MODIFIED:20240103T174326Z
UID:10000332-1705140000-1705158000@cityofwoodlake.com
SUMMARY:Youth Basketball Clinic
DESCRIPTION:
URL:https://cityofwoodlake.com/calendar/youth-basketball-clinic/
LOCATION:Woodlake Community Center\, 145 N. Magnolia\, Woodlake\, CA\, 93286\, United States
ORGANIZER;CN="City of Wodlake":MAILTO:permits@ci.woodlake.ca.us
END:VEVENT
BEGIN:VEVENT
DTSTART;TZID=America/Los_Angeles:20230403T080000
DTEND;TZID=America/Los_Angeles:20230512T170000
DTSTAMP:20260425T064828
CREATED:20230410T154150Z
LAST-MODIFIED:20230410T154221Z
UID:10000222-1680508800-1683910800@cityofwoodlake.com
SUMMARY:Parks and Recreation: Youth Flag Football Sign ups are Open!
DESCRIPTION:
URL:https://cityofwoodlake.com/calendar/parks-and-recreation-youth-flag-football-sign-ups-are-open/
ATTACH;FMTTYPE=image/png:https://cityofwoodlake.com/wp-content/uploads/2023/04/Parks-Recreation-Flag-Football-2023.png
ORGANIZER;CN="City of Wodlake":MAILTO:permits@ci.woodlake.ca.us
END:VEVENT
BEGIN:VEVENT
DTSTART;TZID=America/Los_Angeles:20230124T080000
DTEND;TZID=America/Los_Angeles:20230303T160000
DTSTAMP:20260425T064828
CREATED:20230124T193857Z
LAST-MODIFIED:20230124T193857Z
UID:10000221-1674547200-1677859200@cityofwoodlake.com
SUMMARY:Parks & Recreation: Youth Baseball & Softball Sign Ups Open!
DESCRIPTION:
URL:https://cityofwoodlake.com/calendar/parks-recreation-youth-baseball-softball-sign-ups-open/
ATTACH;FMTTYPE=image/png:https://cityofwoodlake.com/wp-content/uploads/2023/01/Parks-and-Rec-Baseball-Softball-2023-Flyer-Print.png
ORGANIZER;CN="City of Wodlake":MAILTO:permits@ci.woodlake.ca.us
END:VEVENT
BEGIN:VEVENT
DTSTART;TZID=America/Los_Angeles:20221217T160000
DTEND;TZID=America/Los_Angeles:20221217T190000
DTSTAMP:20260425T064828
CREATED:20221115T222636Z
LAST-MODIFIED:20221213T011303Z
UID:10000219-1671292800-1671303600@cityofwoodlake.com
SUMMARY:Santa's Workshop & Christmas Parade
DESCRIPTION:
URL:https://cityofwoodlake.com/calendar/santas-workshop-christmas-parade/2022-12-17/
LOCATION:Woodlake Community Center\, 145 N. Magnolia\, Woodlake\, CA\, 93286\, United States
ATTACH;FMTTYPE=image/png:https://cityofwoodlake.com/wp-content/uploads/2022/11/Updated-Schedule-1.png
ORGANIZER;CN="City of Wodlake":MAILTO:permits@ci.woodlake.ca.us
END:VEVENT
BEGIN:VEVENT
DTSTART;TZID=America/Los_Angeles:20221015T070000
DTEND;TZID=America/Los_Angeles:20221015T153000
DTSTAMP:20260425T064828
CREATED:20220918T160506Z
LAST-MODIFIED:20220918T160506Z
UID:10000217-1665817200-1665847800@cityofwoodlake.com
SUMMARY:Woodlake Clean Up Event
DESCRIPTION:Location: 595 S. Valencia Blvd. Woodlake CA (City Yard) \n \n 
URL:https://cityofwoodlake.com/calendar/woodlake-clean-up-event/2022-10-15/
LOCATION:Woodlake City Yard\, 595 S. Valencia Blvd.\, Woodlake\, CA\, 93286\, United States
ATTACH;FMTTYPE=image/jpeg:https://cityofwoodlake.com/wp-content/uploads/2022/09/Woodlake-Clean-up-English-1022.jpeg
ORGANIZER;CN="City of Wodlake":MAILTO:permits@ci.woodlake.ca.us
END:VEVENT
BEGIN:VEVENT
DTSTART;TZID=America/Los_Angeles:20221014T070000
DTEND;TZID=America/Los_Angeles:20221014T153000
DTSTAMP:20260425T064828
CREATED:20220918T160506Z
LAST-MODIFIED:20220918T160506Z
UID:10000216-1665730800-1665761400@cityofwoodlake.com
SUMMARY:Woodlake Clean Up Event
DESCRIPTION:Location: 595 S. Valencia Blvd. Woodlake CA (City Yard) \n \n 
URL:https://cityofwoodlake.com/calendar/woodlake-clean-up-event/2022-10-14/
LOCATION:Woodlake City Yard\, 595 S. Valencia Blvd.\, Woodlake\, CA\, 93286\, United States
ATTACH;FMTTYPE=image/jpeg:https://cityofwoodlake.com/wp-content/uploads/2022/09/Woodlake-Clean-up-English-1022.jpeg
ORGANIZER;CN="City of Wodlake":MAILTO:permits@ci.woodlake.ca.us
END:VEVENT
BEGIN:VEVENT
DTSTART;TZID=America/Los_Angeles:20221013T070000
DTEND;TZID=America/Los_Angeles:20221013T153000
DTSTAMP:20260425T064828
CREATED:20220918T160506Z
LAST-MODIFIED:20220918T160506Z
UID:10000215-1665644400-1665675000@cityofwoodlake.com
SUMMARY:Woodlake Clean Up Event
DESCRIPTION:Location: 595 S. Valencia Blvd. Woodlake CA (City Yard) \n \n 
URL:https://cityofwoodlake.com/calendar/woodlake-clean-up-event/2022-10-13/
LOCATION:Woodlake City Yard\, 595 S. Valencia Blvd.\, Woodlake\, CA\, 93286\, United States
ATTACH;FMTTYPE=image/jpeg:https://cityofwoodlake.com/wp-content/uploads/2022/09/Woodlake-Clean-up-English-1022.jpeg
ORGANIZER;CN="City of Wodlake":MAILTO:permits@ci.woodlake.ca.us
END:VEVENT
BEGIN:VEVENT
DTSTART;TZID=America/Los_Angeles:20221001T080000
DTEND;TZID=America/Los_Angeles:20221001T130000
DTSTAMP:20260425T064828
CREATED:20220927T232256Z
LAST-MODIFIED:20220927T232256Z
UID:10000218-1664611200-1664629200@cityofwoodlake.com
SUMMARY:Woodlake Parks & Recreation - Youth Soccer Opening Day!
DESCRIPTION:Location: Castle Rock Park (Castlerock Street & Katelyn Ct – Next to Castle Rock Elementary School)
URL:https://cityofwoodlake.com/calendar/woodlake-parks-recreation-youth-soccer-opening-day/
ORGANIZER;CN="City of Wodlake":MAILTO:permits@ci.woodlake.ca.us
END:VEVENT
BEGIN:VEVENT
DTSTART;TZID=America/Los_Angeles:20220926T183000
DTEND;TZID=America/Los_Angeles:20220926T193000
DTSTAMP:20260425T064828
CREATED:20220918T154731Z
LAST-MODIFIED:20220918T154731Z
UID:10000214-1664217000-1664220600@cityofwoodlake.com
SUMMARY:Woodlake City Council Meeting
DESCRIPTION:
URL:https://cityofwoodlake.com/calendar/woodlake-city-council-meeting-3/
LOCATION:Woodlake Community Center\, 145 N. Magnolia\, Woodlake\, CA\, 93286\, United States
ORGANIZER;CN="City of Wodlake":MAILTO:permits@ci.woodlake.ca.us
END:VEVENT
END:VCALENDAR