BEGIN:VCALENDAR
VERSION:2.0
PRODID:-//City of Woodlake - ECPv6.15.20//NONSGML v1.0//EN
CALSCALE:GREGORIAN
METHOD:PUBLISH
X-WR-CALNAME:City of Woodlake
X-ORIGINAL-URL:https://cityofwoodlake.com
X-WR-CALDESC:Events for City of Woodlake
REFRESH-INTERVAL;VALUE=DURATION:PT1H
X-Robots-Tag:noindex
X-PUBLISHED-TTL:PT1H
BEGIN:VTIMEZONE
TZID:America/Los_Angeles
BEGIN:DAYLIGHT
TZOFFSETFROM:-0800
TZOFFSETTO:-0700
TZNAME:PDT
DTSTART:20260308T100000
END:DAYLIGHT
BEGIN:STANDARD
TZOFFSETFROM:-0700
TZOFFSETTO:-0800
TZNAME:PST
DTSTART:20261101T090000
END:STANDARD
BEGIN:DAYLIGHT
TZOFFSETFROM:-0800
TZOFFSETTO:-0700
TZNAME:PDT
DTSTART:20270314T100000
END:DAYLIGHT
BEGIN:STANDARD
TZOFFSETFROM:-0700
TZOFFSETTO:-0800
TZNAME:PST
DTSTART:20271107T090000
END:STANDARD
BEGIN:DAYLIGHT
TZOFFSETFROM:-0800
TZOFFSETTO:-0700
TZNAME:PDT
DTSTART:20280312T100000
END:DAYLIGHT
BEGIN:STANDARD
TZOFFSETFROM:-0700
TZOFFSETTO:-0800
TZNAME:PST
DTSTART:20281105T090000
END:STANDARD
BEGIN:DAYLIGHT
TZOFFSETFROM:-0800
TZOFFSETTO:-0700
TZNAME:PDT
DTSTART:20290311T100000
END:DAYLIGHT
BEGIN:STANDARD
TZOFFSETFROM:-0700
TZOFFSETTO:-0800
TZNAME:PST
DTSTART:20291104T090000
END:STANDARD
BEGIN:DAYLIGHT
TZOFFSETFROM:-0800
TZOFFSETTO:-0700
TZNAME:PDT
DTSTART:20300310T100000
END:DAYLIGHT
BEGIN:STANDARD
TZOFFSETFROM:-0700
TZOFFSETTO:-0800
TZNAME:PST
DTSTART:20301103T090000
END:STANDARD
BEGIN:DAYLIGHT
TZOFFSETFROM:-0800
TZOFFSETTO:-0700
TZNAME:PDT
DTSTART:20310309T100000
END:DAYLIGHT
BEGIN:STANDARD
TZOFFSETFROM:-0700
TZOFFSETTO:-0800
TZNAME:PST
DTSTART:20311102T090000
END:STANDARD
END:VTIMEZONE
BEGIN:VEVENT
DTSTART;TZID=America/Los_Angeles:20271123T183000
DTEND;TZID=America/Los_Angeles:20271123T193000
DTSTAMP:20260423T165125
CREATED:20250523T225102Z
LAST-MODIFIED:20250523T225102Z
UID:10000846-1826994600-1826998200@cityofwoodlake.com
SUMMARY:City Council Meeting
DESCRIPTION:Join us on the 2nd & 4th Monday of each month at 6:30pm for our City Council Meetings.  Located at the Woodlake Community Center.
URL:https://cityofwoodlake.com/calendar/city-council-meeting-3/2027-11-23/
LOCATION:Woodlake Community Center\, 145 N. Magnolia\, Woodlake\, CA\, 93286\, United States
END:VEVENT
BEGIN:VEVENT
DTSTART;TZID=America/Los_Angeles:20271228T183000
DTEND;TZID=America/Los_Angeles:20271228T193000
DTSTAMP:20260423T165125
CREATED:20250523T225102Z
LAST-MODIFIED:20250523T225102Z
UID:10000847-1830018600-1830022200@cityofwoodlake.com
SUMMARY:City Council Meeting
DESCRIPTION:Join us on the 2nd & 4th Monday of each month at 6:30pm for our City Council Meetings.  Located at the Woodlake Community Center.
URL:https://cityofwoodlake.com/calendar/city-council-meeting-3/2027-12-28/
LOCATION:Woodlake Community Center\, 145 N. Magnolia\, Woodlake\, CA\, 93286\, United States
END:VEVENT
BEGIN:VEVENT
DTSTART;TZID=America/Los_Angeles:20280125T183000
DTEND;TZID=America/Los_Angeles:20280125T193000
DTSTAMP:20260423T165125
CREATED:20250523T225102Z
LAST-MODIFIED:20250523T225102Z
UID:10000848-1832437800-1832441400@cityofwoodlake.com
SUMMARY:City Council Meeting
DESCRIPTION:Join us on the 2nd & 4th Monday of each month at 6:30pm for our City Council Meetings.  Located at the Woodlake Community Center.
URL:https://cityofwoodlake.com/calendar/city-council-meeting-3/2028-01-25/
LOCATION:Woodlake Community Center\, 145 N. Magnolia\, Woodlake\, CA\, 93286\, United States
END:VEVENT
BEGIN:VEVENT
DTSTART;TZID=America/Los_Angeles:20280222T183000
DTEND;TZID=America/Los_Angeles:20280222T193000
DTSTAMP:20260423T165125
CREATED:20250523T225102Z
LAST-MODIFIED:20250523T225102Z
UID:10000849-1834857000-1834860600@cityofwoodlake.com
SUMMARY:City Council Meeting
DESCRIPTION:Join us on the 2nd & 4th Monday of each month at 6:30pm for our City Council Meetings.  Located at the Woodlake Community Center.
URL:https://cityofwoodlake.com/calendar/city-council-meeting-3/2028-02-22/
LOCATION:Woodlake Community Center\, 145 N. Magnolia\, Woodlake\, CA\, 93286\, United States
END:VEVENT
BEGIN:VEVENT
DTSTART;TZID=America/Los_Angeles:20280328T183000
DTEND;TZID=America/Los_Angeles:20280328T193000
DTSTAMP:20260423T165125
CREATED:20250523T225102Z
LAST-MODIFIED:20250523T225102Z
UID:10000850-1837881000-1837884600@cityofwoodlake.com
SUMMARY:City Council Meeting
DESCRIPTION:Join us on the 2nd & 4th Monday of each month at 6:30pm for our City Council Meetings.  Located at the Woodlake Community Center.
URL:https://cityofwoodlake.com/calendar/city-council-meeting-3/2028-03-28/
LOCATION:Woodlake Community Center\, 145 N. Magnolia\, Woodlake\, CA\, 93286\, United States
END:VEVENT
BEGIN:VEVENT
DTSTART;TZID=America/Los_Angeles:20280425T183000
DTEND;TZID=America/Los_Angeles:20280425T193000
DTSTAMP:20260423T165125
CREATED:20250523T225102Z
LAST-MODIFIED:20250523T225102Z
UID:10000851-1840300200-1840303800@cityofwoodlake.com
SUMMARY:City Council Meeting
DESCRIPTION:Join us on the 2nd & 4th Monday of each month at 6:30pm for our City Council Meetings.  Located at the Woodlake Community Center.
URL:https://cityofwoodlake.com/calendar/city-council-meeting-3/2028-04-25/
LOCATION:Woodlake Community Center\, 145 N. Magnolia\, Woodlake\, CA\, 93286\, United States
END:VEVENT
BEGIN:VEVENT
DTSTART;TZID=America/Los_Angeles:20280523T183000
DTEND;TZID=America/Los_Angeles:20280523T193000
DTSTAMP:20260423T165125
CREATED:20250523T225102Z
LAST-MODIFIED:20250523T225102Z
UID:10000852-1842719400-1842723000@cityofwoodlake.com
SUMMARY:City Council Meeting
DESCRIPTION:Join us on the 2nd & 4th Monday of each month at 6:30pm for our City Council Meetings.  Located at the Woodlake Community Center.
URL:https://cityofwoodlake.com/calendar/city-council-meeting-3/2028-05-23/
LOCATION:Woodlake Community Center\, 145 N. Magnolia\, Woodlake\, CA\, 93286\, United States
END:VEVENT
BEGIN:VEVENT
DTSTART;TZID=America/Los_Angeles:20280627T183000
DTEND;TZID=America/Los_Angeles:20280627T193000
DTSTAMP:20260423T165125
CREATED:20250523T225102Z
LAST-MODIFIED:20250523T225102Z
UID:10000853-1845743400-1845747000@cityofwoodlake.com
SUMMARY:City Council Meeting
DESCRIPTION:Join us on the 2nd & 4th Monday of each month at 6:30pm for our City Council Meetings.  Located at the Woodlake Community Center.
URL:https://cityofwoodlake.com/calendar/city-council-meeting-3/2028-06-27/
LOCATION:Woodlake Community Center\, 145 N. Magnolia\, Woodlake\, CA\, 93286\, United States
END:VEVENT
BEGIN:VEVENT
DTSTART;TZID=America/Los_Angeles:20280725T183000
DTEND;TZID=America/Los_Angeles:20280725T193000
DTSTAMP:20260423T165125
CREATED:20250523T225102Z
LAST-MODIFIED:20250523T225102Z
UID:10000854-1848162600-1848166200@cityofwoodlake.com
SUMMARY:City Council Meeting
DESCRIPTION:Join us on the 2nd & 4th Monday of each month at 6:30pm for our City Council Meetings.  Located at the Woodlake Community Center.
URL:https://cityofwoodlake.com/calendar/city-council-meeting-3/2028-07-25/
LOCATION:Woodlake Community Center\, 145 N. Magnolia\, Woodlake\, CA\, 93286\, United States
END:VEVENT
BEGIN:VEVENT
DTSTART;TZID=America/Los_Angeles:20280822T183000
DTEND;TZID=America/Los_Angeles:20280822T193000
DTSTAMP:20260423T165125
CREATED:20250523T225102Z
LAST-MODIFIED:20250523T225102Z
UID:10000855-1850581800-1850585400@cityofwoodlake.com
SUMMARY:City Council Meeting
DESCRIPTION:Join us on the 2nd & 4th Monday of each month at 6:30pm for our City Council Meetings.  Located at the Woodlake Community Center.
URL:https://cityofwoodlake.com/calendar/city-council-meeting-3/2028-08-22/
LOCATION:Woodlake Community Center\, 145 N. Magnolia\, Woodlake\, CA\, 93286\, United States
END:VEVENT
BEGIN:VEVENT
DTSTART;TZID=America/Los_Angeles:20280926T183000
DTEND;TZID=America/Los_Angeles:20280926T193000
DTSTAMP:20260423T165125
CREATED:20250523T225102Z
LAST-MODIFIED:20250523T225102Z
UID:10000856-1853605800-1853609400@cityofwoodlake.com
SUMMARY:City Council Meeting
DESCRIPTION:Join us on the 2nd & 4th Monday of each month at 6:30pm for our City Council Meetings.  Located at the Woodlake Community Center.
URL:https://cityofwoodlake.com/calendar/city-council-meeting-3/2028-09-26/
LOCATION:Woodlake Community Center\, 145 N. Magnolia\, Woodlake\, CA\, 93286\, United States
END:VEVENT
BEGIN:VEVENT
DTSTART;TZID=America/Los_Angeles:20281024T183000
DTEND;TZID=America/Los_Angeles:20281024T193000
DTSTAMP:20260423T165125
CREATED:20250523T225102Z
LAST-MODIFIED:20250523T225102Z
UID:10000857-1856025000-1856028600@cityofwoodlake.com
SUMMARY:City Council Meeting
DESCRIPTION:Join us on the 2nd & 4th Monday of each month at 6:30pm for our City Council Meetings.  Located at the Woodlake Community Center.
URL:https://cityofwoodlake.com/calendar/city-council-meeting-3/2028-10-24/
LOCATION:Woodlake Community Center\, 145 N. Magnolia\, Woodlake\, CA\, 93286\, United States
END:VEVENT
BEGIN:VEVENT
DTSTART;TZID=America/Los_Angeles:20281128T183000
DTEND;TZID=America/Los_Angeles:20281128T193000
DTSTAMP:20260423T165125
CREATED:20250523T225102Z
LAST-MODIFIED:20250523T225102Z
UID:10000858-1859049000-1859052600@cityofwoodlake.com
SUMMARY:City Council Meeting
DESCRIPTION:Join us on the 2nd & 4th Monday of each month at 6:30pm for our City Council Meetings.  Located at the Woodlake Community Center.
URL:https://cityofwoodlake.com/calendar/city-council-meeting-3/2028-11-28/
LOCATION:Woodlake Community Center\, 145 N. Magnolia\, Woodlake\, CA\, 93286\, United States
END:VEVENT
BEGIN:VEVENT
DTSTART;TZID=America/Los_Angeles:20281226T183000
DTEND;TZID=America/Los_Angeles:20281226T193000
DTSTAMP:20260423T165125
CREATED:20250523T225102Z
LAST-MODIFIED:20250523T225102Z
UID:10000859-1861468200-1861471800@cityofwoodlake.com
SUMMARY:City Council Meeting
DESCRIPTION:Join us on the 2nd & 4th Monday of each month at 6:30pm for our City Council Meetings.  Located at the Woodlake Community Center.
URL:https://cityofwoodlake.com/calendar/city-council-meeting-3/2028-12-26/
LOCATION:Woodlake Community Center\, 145 N. Magnolia\, Woodlake\, CA\, 93286\, United States
END:VEVENT
BEGIN:VEVENT
DTSTART;TZID=America/Los_Angeles:20290123T183000
DTEND;TZID=America/Los_Angeles:20290123T193000
DTSTAMP:20260423T165125
CREATED:20250523T225102Z
LAST-MODIFIED:20250523T225102Z
UID:10000860-1863887400-1863891000@cityofwoodlake.com
SUMMARY:City Council Meeting
DESCRIPTION:Join us on the 2nd & 4th Monday of each month at 6:30pm for our City Council Meetings.  Located at the Woodlake Community Center.
URL:https://cityofwoodlake.com/calendar/city-council-meeting-3/2029-01-23/
LOCATION:Woodlake Community Center\, 145 N. Magnolia\, Woodlake\, CA\, 93286\, United States
END:VEVENT
BEGIN:VEVENT
DTSTART;TZID=America/Los_Angeles:20290227T183000
DTEND;TZID=America/Los_Angeles:20290227T193000
DTSTAMP:20260423T165125
CREATED:20250523T225102Z
LAST-MODIFIED:20250523T225102Z
UID:10000861-1866911400-1866915000@cityofwoodlake.com
SUMMARY:City Council Meeting
DESCRIPTION:Join us on the 2nd & 4th Monday of each month at 6:30pm for our City Council Meetings.  Located at the Woodlake Community Center.
URL:https://cityofwoodlake.com/calendar/city-council-meeting-3/2029-02-27/
LOCATION:Woodlake Community Center\, 145 N. Magnolia\, Woodlake\, CA\, 93286\, United States
END:VEVENT
BEGIN:VEVENT
DTSTART;TZID=America/Los_Angeles:20290327T183000
DTEND;TZID=America/Los_Angeles:20290327T193000
DTSTAMP:20260423T165126
CREATED:20250523T225102Z
LAST-MODIFIED:20250523T225102Z
UID:10000862-1869330600-1869334200@cityofwoodlake.com
SUMMARY:City Council Meeting
DESCRIPTION:Join us on the 2nd & 4th Monday of each month at 6:30pm for our City Council Meetings.  Located at the Woodlake Community Center.
URL:https://cityofwoodlake.com/calendar/city-council-meeting-3/2029-03-27/
LOCATION:Woodlake Community Center\, 145 N. Magnolia\, Woodlake\, CA\, 93286\, United States
END:VEVENT
BEGIN:VEVENT
DTSTART;TZID=America/Los_Angeles:20290424T183000
DTEND;TZID=America/Los_Angeles:20290424T193000
DTSTAMP:20260423T165126
CREATED:20250523T225102Z
LAST-MODIFIED:20250523T225102Z
UID:10000863-1871749800-1871753400@cityofwoodlake.com
SUMMARY:City Council Meeting
DESCRIPTION:Join us on the 2nd & 4th Monday of each month at 6:30pm for our City Council Meetings.  Located at the Woodlake Community Center.
URL:https://cityofwoodlake.com/calendar/city-council-meeting-3/2029-04-24/
LOCATION:Woodlake Community Center\, 145 N. Magnolia\, Woodlake\, CA\, 93286\, United States
END:VEVENT
BEGIN:VEVENT
DTSTART;TZID=America/Los_Angeles:20290522T183000
DTEND;TZID=America/Los_Angeles:20290522T193000
DTSTAMP:20260423T165126
CREATED:20250523T225102Z
LAST-MODIFIED:20250523T225102Z
UID:10000864-1874169000-1874172600@cityofwoodlake.com
SUMMARY:City Council Meeting
DESCRIPTION:Join us on the 2nd & 4th Monday of each month at 6:30pm for our City Council Meetings.  Located at the Woodlake Community Center.
URL:https://cityofwoodlake.com/calendar/city-council-meeting-3/2029-05-22/
LOCATION:Woodlake Community Center\, 145 N. Magnolia\, Woodlake\, CA\, 93286\, United States
END:VEVENT
BEGIN:VEVENT
DTSTART;TZID=America/Los_Angeles:20290626T183000
DTEND;TZID=America/Los_Angeles:20290626T193000
DTSTAMP:20260423T165126
CREATED:20250523T225102Z
LAST-MODIFIED:20250523T225102Z
UID:10000865-1877193000-1877196600@cityofwoodlake.com
SUMMARY:City Council Meeting
DESCRIPTION:Join us on the 2nd & 4th Monday of each month at 6:30pm for our City Council Meetings.  Located at the Woodlake Community Center.
URL:https://cityofwoodlake.com/calendar/city-council-meeting-3/2029-06-26/
LOCATION:Woodlake Community Center\, 145 N. Magnolia\, Woodlake\, CA\, 93286\, United States
END:VEVENT
BEGIN:VEVENT
DTSTART;TZID=America/Los_Angeles:20290724T183000
DTEND;TZID=America/Los_Angeles:20290724T193000
DTSTAMP:20260423T165126
CREATED:20250523T225102Z
LAST-MODIFIED:20250523T225102Z
UID:10000866-1879612200-1879615800@cityofwoodlake.com
SUMMARY:City Council Meeting
DESCRIPTION:Join us on the 2nd & 4th Monday of each month at 6:30pm for our City Council Meetings.  Located at the Woodlake Community Center.
URL:https://cityofwoodlake.com/calendar/city-council-meeting-3/2029-07-24/
LOCATION:Woodlake Community Center\, 145 N. Magnolia\, Woodlake\, CA\, 93286\, United States
END:VEVENT
BEGIN:VEVENT
DTSTART;TZID=America/Los_Angeles:20290828T183000
DTEND;TZID=America/Los_Angeles:20290828T193000
DTSTAMP:20260423T165126
CREATED:20250523T225102Z
LAST-MODIFIED:20250523T225102Z
UID:10000867-1882636200-1882639800@cityofwoodlake.com
SUMMARY:City Council Meeting
DESCRIPTION:Join us on the 2nd & 4th Monday of each month at 6:30pm for our City Council Meetings.  Located at the Woodlake Community Center.
URL:https://cityofwoodlake.com/calendar/city-council-meeting-3/2029-08-28/
LOCATION:Woodlake Community Center\, 145 N. Magnolia\, Woodlake\, CA\, 93286\, United States
END:VEVENT
BEGIN:VEVENT
DTSTART;TZID=America/Los_Angeles:20290925T183000
DTEND;TZID=America/Los_Angeles:20290925T193000
DTSTAMP:20260423T165126
CREATED:20250523T225102Z
LAST-MODIFIED:20250523T225102Z
UID:10000868-1885055400-1885059000@cityofwoodlake.com
SUMMARY:City Council Meeting
DESCRIPTION:Join us on the 2nd & 4th Monday of each month at 6:30pm for our City Council Meetings.  Located at the Woodlake Community Center.
URL:https://cityofwoodlake.com/calendar/city-council-meeting-3/2029-09-25/
LOCATION:Woodlake Community Center\, 145 N. Magnolia\, Woodlake\, CA\, 93286\, United States
END:VEVENT
BEGIN:VEVENT
DTSTART;TZID=America/Los_Angeles:20291023T183000
DTEND;TZID=America/Los_Angeles:20291023T193000
DTSTAMP:20260423T165126
CREATED:20250523T225102Z
LAST-MODIFIED:20250523T225102Z
UID:10000869-1887474600-1887478200@cityofwoodlake.com
SUMMARY:City Council Meeting
DESCRIPTION:Join us on the 2nd & 4th Monday of each month at 6:30pm for our City Council Meetings.  Located at the Woodlake Community Center.
URL:https://cityofwoodlake.com/calendar/city-council-meeting-3/2029-10-23/
LOCATION:Woodlake Community Center\, 145 N. Magnolia\, Woodlake\, CA\, 93286\, United States
END:VEVENT
BEGIN:VEVENT
DTSTART;TZID=America/Los_Angeles:20291127T183000
DTEND;TZID=America/Los_Angeles:20291127T193000
DTSTAMP:20260423T165126
CREATED:20250523T225102Z
LAST-MODIFIED:20250523T225102Z
UID:10000870-1890498600-1890502200@cityofwoodlake.com
SUMMARY:City Council Meeting
DESCRIPTION:Join us on the 2nd & 4th Monday of each month at 6:30pm for our City Council Meetings.  Located at the Woodlake Community Center.
URL:https://cityofwoodlake.com/calendar/city-council-meeting-3/2029-11-27/
LOCATION:Woodlake Community Center\, 145 N. Magnolia\, Woodlake\, CA\, 93286\, United States
END:VEVENT
BEGIN:VEVENT
DTSTART;TZID=America/Los_Angeles:20291225T183000
DTEND;TZID=America/Los_Angeles:20291225T193000
DTSTAMP:20260423T165126
CREATED:20250523T225102Z
LAST-MODIFIED:20250523T225102Z
UID:10000871-1892917800-1892921400@cityofwoodlake.com
SUMMARY:City Council Meeting
DESCRIPTION:Join us on the 2nd & 4th Monday of each month at 6:30pm for our City Council Meetings.  Located at the Woodlake Community Center.
URL:https://cityofwoodlake.com/calendar/city-council-meeting-3/2029-12-25/
LOCATION:Woodlake Community Center\, 145 N. Magnolia\, Woodlake\, CA\, 93286\, United States
END:VEVENT
BEGIN:VEVENT
DTSTART;TZID=America/Los_Angeles:20300122T183000
DTEND;TZID=America/Los_Angeles:20300122T193000
DTSTAMP:20260423T165126
CREATED:20250523T225102Z
LAST-MODIFIED:20250523T225102Z
UID:10000872-1895337000-1895340600@cityofwoodlake.com
SUMMARY:City Council Meeting
DESCRIPTION:Join us on the 2nd & 4th Monday of each month at 6:30pm for our City Council Meetings.  Located at the Woodlake Community Center.
URL:https://cityofwoodlake.com/calendar/city-council-meeting-3/2030-01-22/
LOCATION:Woodlake Community Center\, 145 N. Magnolia\, Woodlake\, CA\, 93286\, United States
END:VEVENT
BEGIN:VEVENT
DTSTART;TZID=America/Los_Angeles:20300226T183000
DTEND;TZID=America/Los_Angeles:20300226T193000
DTSTAMP:20260423T165126
CREATED:20250523T225102Z
LAST-MODIFIED:20250523T225102Z
UID:10000873-1898361000-1898364600@cityofwoodlake.com
SUMMARY:City Council Meeting
DESCRIPTION:Join us on the 2nd & 4th Monday of each month at 6:30pm for our City Council Meetings.  Located at the Woodlake Community Center.
URL:https://cityofwoodlake.com/calendar/city-council-meeting-3/2030-02-26/
LOCATION:Woodlake Community Center\, 145 N. Magnolia\, Woodlake\, CA\, 93286\, United States
END:VEVENT
BEGIN:VEVENT
DTSTART;TZID=America/Los_Angeles:20300326T183000
DTEND;TZID=America/Los_Angeles:20300326T193000
DTSTAMP:20260423T165126
CREATED:20250523T225102Z
LAST-MODIFIED:20250523T225102Z
UID:10000874-1900780200-1900783800@cityofwoodlake.com
SUMMARY:City Council Meeting
DESCRIPTION:Join us on the 2nd & 4th Monday of each month at 6:30pm for our City Council Meetings.  Located at the Woodlake Community Center.
URL:https://cityofwoodlake.com/calendar/city-council-meeting-3/2030-03-26/
LOCATION:Woodlake Community Center\, 145 N. Magnolia\, Woodlake\, CA\, 93286\, United States
END:VEVENT
BEGIN:VEVENT
DTSTART;TZID=America/Los_Angeles:20300423T183000
DTEND;TZID=America/Los_Angeles:20300423T193000
DTSTAMP:20260423T165126
CREATED:20250523T225102Z
LAST-MODIFIED:20250523T225102Z
UID:10000875-1903199400-1903203000@cityofwoodlake.com
SUMMARY:City Council Meeting
DESCRIPTION:Join us on the 2nd & 4th Monday of each month at 6:30pm for our City Council Meetings.  Located at the Woodlake Community Center.
URL:https://cityofwoodlake.com/calendar/city-council-meeting-3/2030-04-23/
LOCATION:Woodlake Community Center\, 145 N. Magnolia\, Woodlake\, CA\, 93286\, United States
END:VEVENT
END:VCALENDAR