BEGIN:VCALENDAR
VERSION:2.0
PRODID:-//City of Woodlake - ECPv6.15.20//NONSGML v1.0//EN
CALSCALE:GREGORIAN
METHOD:PUBLISH
X-WR-CALNAME:City of Woodlake
X-ORIGINAL-URL:https://cityofwoodlake.com
X-WR-CALDESC:Events for City of Woodlake
REFRESH-INTERVAL;VALUE=DURATION:PT1H
X-Robots-Tag:noindex
X-PUBLISHED-TTL:PT1H
BEGIN:VTIMEZONE
TZID:America/Los_Angeles
BEGIN:DAYLIGHT
TZOFFSETFROM:-0800
TZOFFSETTO:-0700
TZNAME:PDT
DTSTART:20250309T100000
END:DAYLIGHT
BEGIN:STANDARD
TZOFFSETFROM:-0700
TZOFFSETTO:-0800
TZNAME:PST
DTSTART:20251102T090000
END:STANDARD
BEGIN:DAYLIGHT
TZOFFSETFROM:-0800
TZOFFSETTO:-0700
TZNAME:PDT
DTSTART:20260308T100000
END:DAYLIGHT
BEGIN:STANDARD
TZOFFSETFROM:-0700
TZOFFSETTO:-0800
TZNAME:PST
DTSTART:20261101T090000
END:STANDARD
BEGIN:DAYLIGHT
TZOFFSETFROM:-0800
TZOFFSETTO:-0700
TZNAME:PDT
DTSTART:20270314T100000
END:DAYLIGHT
BEGIN:STANDARD
TZOFFSETFROM:-0700
TZOFFSETTO:-0800
TZNAME:PST
DTSTART:20271107T090000
END:STANDARD
END:VTIMEZONE
BEGIN:VEVENT
DTSTART;TZID=America/Los_Angeles:20260503T130000
DTEND;TZID=America/Los_Angeles:20260503T153000
DTSTAMP:20260423T121704
CREATED:20260413T213747Z
LAST-MODIFIED:20260413T213747Z
UID:10000951-1777813200-1777822200@cityofwoodlake.com
SUMMARY:Kiwanis Bike Rodeo
DESCRIPTION:
URL:https://cityofwoodlake.com/calendar/kiwanis-bike-rodeo/
LOCATION:Woodlake City Park
ORGANIZER;CN="Woodlake Kiwanis":MAILTO:woodlakeawards@gmail.com
END:VEVENT
BEGIN:VEVENT
DTSTART;TZID=America/Los_Angeles:20260503T130000
DTEND;TZID=America/Los_Angeles:20260503T160000
DTSTAMP:20260423T121704
CREATED:20260409T233835Z
LAST-MODIFIED:20260409T233835Z
UID:10000947-1777813200-1777824000@cityofwoodlake.com
SUMMARY:Woodlake Western Festival
DESCRIPTION:
URL:https://cityofwoodlake.com/calendar/woodlake-western-festival/
LOCATION:Woodlake City Park
END:VEVENT
BEGIN:VEVENT
DTSTART;TZID=America/Los_Angeles:20260503T140000
DTEND;TZID=America/Los_Angeles:20260503T160000
DTSTAMP:20260423T121704
CREATED:20260413T214028Z
LAST-MODIFIED:20260413T214028Z
UID:10000952-1777816800-1777824000@cityofwoodlake.com
SUMMARY:Lady Lions Dress-Your-Dog Contest
DESCRIPTION:
URL:https://cityofwoodlake.com/calendar/lady-lions-dress-your-dog-contest/
LOCATION:Woodlake Plaza\, 145 N. Magnolia St.\, Woodlake\, CA\, 93286\, United States
ORGANIZER;CN="Woodlake Lady Lions":MAILTO:woodlakeladylions@gmail.com
END:VEVENT
BEGIN:VEVENT
DTSTART;TZID=America/Los_Angeles:20260503T140000
DTEND;TZID=America/Los_Angeles:20260503T160000
DTSTAMP:20260423T121704
CREATED:20260413T214224Z
LAST-MODIFIED:20260413T214224Z
UID:10000953-1777816800-1777824000@cityofwoodlake.com
SUMMARY:High Sierra 4WD Soap Box Derby
DESCRIPTION:
URL:https://cityofwoodlake.com/calendar/high-sierra-4wd-soap-box-derby/
LOCATION:Woodlake City Park
ORGANIZER;CN="High Sierra 4WD Club":MAILTO:HighSierra4WDClub@gmail.com
END:VEVENT
BEGIN:VEVENT
DTSTART;TZID=America/Los_Angeles:20260509T110000
DTEND;TZID=America/Los_Angeles:20260509T123000
DTSTAMP:20260423T121704
CREATED:20260413T214422Z
LAST-MODIFIED:20260413T214422Z
UID:10000954-1778324400-1778329800@cityofwoodlake.com
SUMMARY:Woodlake Rodeo Parade
DESCRIPTION:
URL:https://cityofwoodlake.com/calendar/woodlake-rodeo-parade-3/
LOCATION:CA
ORGANIZER;CN="Woodlake Lions Club":MAILTO:contact@woodlakelionsclub.com
END:VEVENT
BEGIN:VEVENT
DTSTART;TZID=America/Los_Angeles:20260509T120000
DTEND;TZID=America/Los_Angeles:20260509T210000
DTSTAMP:20260423T121704
CREATED:20260413T214628Z
LAST-MODIFIED:20260413T214628Z
UID:10000955-1778328000-1778360400@cityofwoodlake.com
SUMMARY:Woodlake Lions Rodeo
DESCRIPTION:
URL:https://cityofwoodlake.com/calendar/woodlake-lions-rodeo-3/
LOCATION:Wdlk. Rodeo Grounds\, 19400 Ave 398\, Woodlake\, CA\, 93286\, United States
ORGANIZER;CN="Woodlake Lions Club":MAILTO:contact@woodlakelionsclub.com
END:VEVENT
BEGIN:VEVENT
DTSTART;TZID=America/Los_Angeles:20260510T110000
DTEND;TZID=America/Los_Angeles:20260510T170000
DTSTAMP:20260423T121704
CREATED:20260413T214954Z
LAST-MODIFIED:20260413T214954Z
UID:10000956-1778410800-1778432400@cityofwoodlake.com
SUMMARY:Woodlake Lions Rodeo
DESCRIPTION:
URL:https://cityofwoodlake.com/calendar/woodlake-lions-rodeo-4/
LOCATION:Wdlk. Rodeo Grounds\, 19400 Ave 398\, Woodlake\, CA\, 93286\, United States
ORGANIZER;CN="Woodlake Lions Club":MAILTO:contact@woodlakelionsclub.com
END:VEVENT
BEGIN:VEVENT
DTSTART;TZID=America/Los_Angeles:20260511T133000
DTEND;TZID=America/Los_Angeles:20260511T143000
DTSTAMP:20260423T121704
CREATED:20240213T225755Z
LAST-MODIFIED:20240213T230101Z
UID:10000362-1778506200-1778509800@cityofwoodlake.com
SUMMARY:Woodlake Public Cemetery District Board Meeting
DESCRIPTION:  \nCemetery District Board Meetings are open to the public\, and take place approximately the 1st or 2nd Monday of each month at 1:30pm at the Cemetery office: 165 N. Cypress Street\, Woodlake\, CA 93286.  For more information call 559-564-2571 or email manager@woodlakecemetery.com.
URL:https://cityofwoodlake.com/calendar/woodlake-public-cemetery-district-board-meeting/2026-05-11/
LOCATION:Woodlake Public Cemetery Office\, 165 N. Cypress St.\, Woodlake\, CA\, 93286\, United States
END:VEVENT
BEGIN:VEVENT
DTSTART;TZID=America/Los_Angeles:20260511T183000
DTEND;TZID=America/Los_Angeles:20260511T193000
DTSTAMP:20260423T121704
CREATED:20230921T222959Z
LAST-MODIFIED:20230921T222959Z
UID:10000310-1778524200-1778527800@cityofwoodlake.com
SUMMARY:City Council Meeting
DESCRIPTION:Join us on the 2nd & 4th Monday of each month at 6:30pm for our City Council Meetings.  Located at the Woodlake Community Center.
URL:https://cityofwoodlake.com/calendar/city-council-meeting-2/2026-05-11/
LOCATION:Woodlake Community Center\, 145 N. Magnolia\, Woodlake\, CA\, 93286\, United States
END:VEVENT
BEGIN:VEVENT
DTSTART;TZID=America/Los_Angeles:20260518T180000
DTEND;TZID=America/Los_Angeles:20260518T193000
DTSTAMP:20260423T121704
CREATED:20260413T213331Z
LAST-MODIFIED:20260413T213331Z
UID:10000949-1779127200-1779132600@cityofwoodlake.com
SUMMARY:ROAR Blueberry Picking at Big L Ranch
DESCRIPTION:
URL:https://cityofwoodlake.com/calendar/roar-blueberry-picking-at-big-l-ranch/
LOCATION:Big L Ranch\, 20899 Ave. 322\, Woodlake\, CA\, 93286\, United States
ORGANIZER;CN="City of Wodlake":MAILTO:permits@ci.woodlake.ca.us
END:VEVENT
BEGIN:VEVENT
DTSTART;TZID=America/Los_Angeles:20260526T183000
DTEND;TZID=America/Los_Angeles:20260526T193000
DTSTAMP:20260423T121704
CREATED:20250523T225102Z
LAST-MODIFIED:20250523T225102Z
UID:10000828-1779820200-1779823800@cityofwoodlake.com
SUMMARY:City Council Meeting
DESCRIPTION:Join us on the 2nd & 4th Monday of each month at 6:30pm for our City Council Meetings.  Located at the Woodlake Community Center.
URL:https://cityofwoodlake.com/calendar/city-council-meeting-3/2026-05-26/
LOCATION:Woodlake Community Center\, 145 N. Magnolia\, Woodlake\, CA\, 93286\, United States
END:VEVENT
BEGIN:VEVENT
DTSTART;TZID=America/Los_Angeles:20260608T133000
DTEND;TZID=America/Los_Angeles:20260608T143000
DTSTAMP:20260423T121704
CREATED:20240213T225755Z
LAST-MODIFIED:20240213T230101Z
UID:10000363-1780925400-1780929000@cityofwoodlake.com
SUMMARY:Woodlake Public Cemetery District Board Meeting
DESCRIPTION:  \nCemetery District Board Meetings are open to the public\, and take place approximately the 1st or 2nd Monday of each month at 1:30pm at the Cemetery office: 165 N. Cypress Street\, Woodlake\, CA 93286.  For more information call 559-564-2571 or email manager@woodlakecemetery.com.
URL:https://cityofwoodlake.com/calendar/woodlake-public-cemetery-district-board-meeting/2026-06-08/
LOCATION:Woodlake Public Cemetery Office\, 165 N. Cypress St.\, Woodlake\, CA\, 93286\, United States
END:VEVENT
BEGIN:VEVENT
DTSTART;TZID=America/Los_Angeles:20260608T183000
DTEND;TZID=America/Los_Angeles:20260608T193000
DTSTAMP:20260423T121704
CREATED:20230921T222959Z
LAST-MODIFIED:20230921T222959Z
UID:10000311-1780943400-1780947000@cityofwoodlake.com
SUMMARY:City Council Meeting
DESCRIPTION:Join us on the 2nd & 4th Monday of each month at 6:30pm for our City Council Meetings.  Located at the Woodlake Community Center.
URL:https://cityofwoodlake.com/calendar/city-council-meeting-2/2026-06-08/
LOCATION:Woodlake Community Center\, 145 N. Magnolia\, Woodlake\, CA\, 93286\, United States
END:VEVENT
BEGIN:VEVENT
DTSTART;TZID=America/Los_Angeles:20260623T183000
DTEND;TZID=America/Los_Angeles:20260623T193000
DTSTAMP:20260423T121704
CREATED:20250523T225102Z
LAST-MODIFIED:20250523T225102Z
UID:10000829-1782239400-1782243000@cityofwoodlake.com
SUMMARY:City Council Meeting
DESCRIPTION:Join us on the 2nd & 4th Monday of each month at 6:30pm for our City Council Meetings.  Located at the Woodlake Community Center.
URL:https://cityofwoodlake.com/calendar/city-council-meeting-3/2026-06-23/
LOCATION:Woodlake Community Center\, 145 N. Magnolia\, Woodlake\, CA\, 93286\, United States
END:VEVENT
BEGIN:VEVENT
DTSTART;TZID=America/Los_Angeles:20260713T133000
DTEND;TZID=America/Los_Angeles:20260713T143000
DTSTAMP:20260423T121704
CREATED:20240213T225755Z
LAST-MODIFIED:20240213T230101Z
UID:10000364-1783949400-1783953000@cityofwoodlake.com
SUMMARY:Woodlake Public Cemetery District Board Meeting
DESCRIPTION:  \nCemetery District Board Meetings are open to the public\, and take place approximately the 1st or 2nd Monday of each month at 1:30pm at the Cemetery office: 165 N. Cypress Street\, Woodlake\, CA 93286.  For more information call 559-564-2571 or email manager@woodlakecemetery.com.
URL:https://cityofwoodlake.com/calendar/woodlake-public-cemetery-district-board-meeting/2026-07-13/
LOCATION:Woodlake Public Cemetery Office\, 165 N. Cypress St.\, Woodlake\, CA\, 93286\, United States
END:VEVENT
BEGIN:VEVENT
DTSTART;TZID=America/Los_Angeles:20260713T183000
DTEND;TZID=America/Los_Angeles:20260713T193000
DTSTAMP:20260423T121704
CREATED:20230921T222959Z
LAST-MODIFIED:20230921T222959Z
UID:10000312-1783967400-1783971000@cityofwoodlake.com
SUMMARY:City Council Meeting
DESCRIPTION:Join us on the 2nd & 4th Monday of each month at 6:30pm for our City Council Meetings.  Located at the Woodlake Community Center.
URL:https://cityofwoodlake.com/calendar/city-council-meeting-2/2026-07-13/
LOCATION:Woodlake Community Center\, 145 N. Magnolia\, Woodlake\, CA\, 93286\, United States
END:VEVENT
BEGIN:VEVENT
DTSTART;TZID=America/Los_Angeles:20260728T183000
DTEND;TZID=America/Los_Angeles:20260728T193000
DTSTAMP:20260423T121704
CREATED:20250523T225102Z
LAST-MODIFIED:20250523T225102Z
UID:10000830-1785263400-1785267000@cityofwoodlake.com
SUMMARY:City Council Meeting
DESCRIPTION:Join us on the 2nd & 4th Monday of each month at 6:30pm for our City Council Meetings.  Located at the Woodlake Community Center.
URL:https://cityofwoodlake.com/calendar/city-council-meeting-3/2026-07-28/
LOCATION:Woodlake Community Center\, 145 N. Magnolia\, Woodlake\, CA\, 93286\, United States
END:VEVENT
BEGIN:VEVENT
DTSTART;TZID=America/Los_Angeles:20260810T133000
DTEND;TZID=America/Los_Angeles:20260810T143000
DTSTAMP:20260423T121704
CREATED:20240213T225755Z
LAST-MODIFIED:20240213T230101Z
UID:10000365-1786368600-1786372200@cityofwoodlake.com
SUMMARY:Woodlake Public Cemetery District Board Meeting
DESCRIPTION:  \nCemetery District Board Meetings are open to the public\, and take place approximately the 1st or 2nd Monday of each month at 1:30pm at the Cemetery office: 165 N. Cypress Street\, Woodlake\, CA 93286.  For more information call 559-564-2571 or email manager@woodlakecemetery.com.
URL:https://cityofwoodlake.com/calendar/woodlake-public-cemetery-district-board-meeting/2026-08-10/
LOCATION:Woodlake Public Cemetery Office\, 165 N. Cypress St.\, Woodlake\, CA\, 93286\, United States
END:VEVENT
BEGIN:VEVENT
DTSTART;TZID=America/Los_Angeles:20260810T183000
DTEND;TZID=America/Los_Angeles:20260810T193000
DTSTAMP:20260423T121704
CREATED:20230921T222959Z
LAST-MODIFIED:20230921T222959Z
UID:10000313-1786386600-1786390200@cityofwoodlake.com
SUMMARY:City Council Meeting
DESCRIPTION:Join us on the 2nd & 4th Monday of each month at 6:30pm for our City Council Meetings.  Located at the Woodlake Community Center.
URL:https://cityofwoodlake.com/calendar/city-council-meeting-2/2026-08-10/
LOCATION:Woodlake Community Center\, 145 N. Magnolia\, Woodlake\, CA\, 93286\, United States
END:VEVENT
BEGIN:VEVENT
DTSTART;TZID=America/Los_Angeles:20260825T183000
DTEND;TZID=America/Los_Angeles:20260825T193000
DTSTAMP:20260423T121704
CREATED:20250523T225102Z
LAST-MODIFIED:20250523T225102Z
UID:10000831-1787682600-1787686200@cityofwoodlake.com
SUMMARY:City Council Meeting
DESCRIPTION:Join us on the 2nd & 4th Monday of each month at 6:30pm for our City Council Meetings.  Located at the Woodlake Community Center.
URL:https://cityofwoodlake.com/calendar/city-council-meeting-3/2026-08-25/
LOCATION:Woodlake Community Center\, 145 N. Magnolia\, Woodlake\, CA\, 93286\, United States
END:VEVENT
BEGIN:VEVENT
DTSTART;TZID=America/Los_Angeles:20260914T133000
DTEND;TZID=America/Los_Angeles:20260914T143000
DTSTAMP:20260423T121704
CREATED:20240213T225755Z
LAST-MODIFIED:20240213T230101Z
UID:10000366-1789392600-1789396200@cityofwoodlake.com
SUMMARY:Woodlake Public Cemetery District Board Meeting
DESCRIPTION:  \nCemetery District Board Meetings are open to the public\, and take place approximately the 1st or 2nd Monday of each month at 1:30pm at the Cemetery office: 165 N. Cypress Street\, Woodlake\, CA 93286.  For more information call 559-564-2571 or email manager@woodlakecemetery.com.
URL:https://cityofwoodlake.com/calendar/woodlake-public-cemetery-district-board-meeting/2026-09-14/
LOCATION:Woodlake Public Cemetery Office\, 165 N. Cypress St.\, Woodlake\, CA\, 93286\, United States
END:VEVENT
BEGIN:VEVENT
DTSTART;TZID=America/Los_Angeles:20260914T183000
DTEND;TZID=America/Los_Angeles:20260914T193000
DTSTAMP:20260423T121704
CREATED:20230921T222959Z
LAST-MODIFIED:20230921T222959Z
UID:10000314-1789410600-1789414200@cityofwoodlake.com
SUMMARY:City Council Meeting
DESCRIPTION:Join us on the 2nd & 4th Monday of each month at 6:30pm for our City Council Meetings.  Located at the Woodlake Community Center.
URL:https://cityofwoodlake.com/calendar/city-council-meeting-2/2026-09-14/
LOCATION:Woodlake Community Center\, 145 N. Magnolia\, Woodlake\, CA\, 93286\, United States
END:VEVENT
BEGIN:VEVENT
DTSTART;TZID=America/Los_Angeles:20260922T183000
DTEND;TZID=America/Los_Angeles:20260922T193000
DTSTAMP:20260423T121704
CREATED:20250523T225102Z
LAST-MODIFIED:20250523T225102Z
UID:10000832-1790101800-1790105400@cityofwoodlake.com
SUMMARY:City Council Meeting
DESCRIPTION:Join us on the 2nd & 4th Monday of each month at 6:30pm for our City Council Meetings.  Located at the Woodlake Community Center.
URL:https://cityofwoodlake.com/calendar/city-council-meeting-3/2026-09-22/
LOCATION:Woodlake Community Center\, 145 N. Magnolia\, Woodlake\, CA\, 93286\, United States
END:VEVENT
BEGIN:VEVENT
DTSTART;TZID=America/Los_Angeles:20261012T133000
DTEND;TZID=America/Los_Angeles:20261012T143000
DTSTAMP:20260423T121704
CREATED:20240213T225755Z
LAST-MODIFIED:20240213T230101Z
UID:10000367-1791811800-1791815400@cityofwoodlake.com
SUMMARY:Woodlake Public Cemetery District Board Meeting
DESCRIPTION:  \nCemetery District Board Meetings are open to the public\, and take place approximately the 1st or 2nd Monday of each month at 1:30pm at the Cemetery office: 165 N. Cypress Street\, Woodlake\, CA 93286.  For more information call 559-564-2571 or email manager@woodlakecemetery.com.
URL:https://cityofwoodlake.com/calendar/woodlake-public-cemetery-district-board-meeting/2026-10-12/
LOCATION:Woodlake Public Cemetery Office\, 165 N. Cypress St.\, Woodlake\, CA\, 93286\, United States
END:VEVENT
BEGIN:VEVENT
DTSTART;TZID=America/Los_Angeles:20261012T183000
DTEND;TZID=America/Los_Angeles:20261012T193000
DTSTAMP:20260423T121704
CREATED:20230921T222959Z
LAST-MODIFIED:20230921T222959Z
UID:10000315-1791829800-1791833400@cityofwoodlake.com
SUMMARY:City Council Meeting
DESCRIPTION:Join us on the 2nd & 4th Monday of each month at 6:30pm for our City Council Meetings.  Located at the Woodlake Community Center.
URL:https://cityofwoodlake.com/calendar/city-council-meeting-2/2026-10-12/
LOCATION:Woodlake Community Center\, 145 N. Magnolia\, Woodlake\, CA\, 93286\, United States
END:VEVENT
BEGIN:VEVENT
DTSTART;TZID=America/Los_Angeles:20261027T183000
DTEND;TZID=America/Los_Angeles:20261027T193000
DTSTAMP:20260423T121704
CREATED:20250523T225102Z
LAST-MODIFIED:20250523T225102Z
UID:10000833-1793125800-1793129400@cityofwoodlake.com
SUMMARY:City Council Meeting
DESCRIPTION:Join us on the 2nd & 4th Monday of each month at 6:30pm for our City Council Meetings.  Located at the Woodlake Community Center.
URL:https://cityofwoodlake.com/calendar/city-council-meeting-3/2026-10-27/
LOCATION:Woodlake Community Center\, 145 N. Magnolia\, Woodlake\, CA\, 93286\, United States
END:VEVENT
BEGIN:VEVENT
DTSTART;TZID=America/Los_Angeles:20261109T133000
DTEND;TZID=America/Los_Angeles:20261109T143000
DTSTAMP:20260423T121704
CREATED:20240213T225755Z
LAST-MODIFIED:20240213T230101Z
UID:10000368-1794231000-1794234600@cityofwoodlake.com
SUMMARY:Woodlake Public Cemetery District Board Meeting
DESCRIPTION:  \nCemetery District Board Meetings are open to the public\, and take place approximately the 1st or 2nd Monday of each month at 1:30pm at the Cemetery office: 165 N. Cypress Street\, Woodlake\, CA 93286.  For more information call 559-564-2571 or email manager@woodlakecemetery.com.
URL:https://cityofwoodlake.com/calendar/woodlake-public-cemetery-district-board-meeting/2026-11-09/
LOCATION:Woodlake Public Cemetery Office\, 165 N. Cypress St.\, Woodlake\, CA\, 93286\, United States
END:VEVENT
BEGIN:VEVENT
DTSTART;TZID=America/Los_Angeles:20261109T183000
DTEND;TZID=America/Los_Angeles:20261109T193000
DTSTAMP:20260423T121704
CREATED:20230921T222959Z
LAST-MODIFIED:20230921T222959Z
UID:10000316-1794249000-1794252600@cityofwoodlake.com
SUMMARY:City Council Meeting
DESCRIPTION:Join us on the 2nd & 4th Monday of each month at 6:30pm for our City Council Meetings.  Located at the Woodlake Community Center.
URL:https://cityofwoodlake.com/calendar/city-council-meeting-2/2026-11-09/
LOCATION:Woodlake Community Center\, 145 N. Magnolia\, Woodlake\, CA\, 93286\, United States
END:VEVENT
BEGIN:VEVENT
DTSTART;TZID=America/Los_Angeles:20261124T183000
DTEND;TZID=America/Los_Angeles:20261124T193000
DTSTAMP:20260423T121704
CREATED:20250523T225102Z
LAST-MODIFIED:20250523T225102Z
UID:10000834-1795545000-1795548600@cityofwoodlake.com
SUMMARY:City Council Meeting
DESCRIPTION:Join us on the 2nd & 4th Monday of each month at 6:30pm for our City Council Meetings.  Located at the Woodlake Community Center.
URL:https://cityofwoodlake.com/calendar/city-council-meeting-3/2026-11-24/
LOCATION:Woodlake Community Center\, 145 N. Magnolia\, Woodlake\, CA\, 93286\, United States
END:VEVENT
BEGIN:VEVENT
DTSTART;TZID=America/Los_Angeles:20261214T133000
DTEND;TZID=America/Los_Angeles:20261214T143000
DTSTAMP:20260423T121704
CREATED:20240213T225755Z
LAST-MODIFIED:20240213T230101Z
UID:10000369-1797255000-1797258600@cityofwoodlake.com
SUMMARY:Woodlake Public Cemetery District Board Meeting
DESCRIPTION:  \nCemetery District Board Meetings are open to the public\, and take place approximately the 1st or 2nd Monday of each month at 1:30pm at the Cemetery office: 165 N. Cypress Street\, Woodlake\, CA 93286.  For more information call 559-564-2571 or email manager@woodlakecemetery.com.
URL:https://cityofwoodlake.com/calendar/woodlake-public-cemetery-district-board-meeting/2026-12-14/
LOCATION:Woodlake Public Cemetery Office\, 165 N. Cypress St.\, Woodlake\, CA\, 93286\, United States
END:VEVENT
END:VCALENDAR