BEGIN:VCALENDAR
VERSION:2.0
PRODID:-//City of Woodlake - ECPv6.15.20//NONSGML v1.0//EN
CALSCALE:GREGORIAN
METHOD:PUBLISH
X-ORIGINAL-URL:https://cityofwoodlake.com
X-WR-CALDESC:Events for City of Woodlake
REFRESH-INTERVAL;VALUE=DURATION:PT1H
X-Robots-Tag:noindex
X-PUBLISHED-TTL:PT1H
BEGIN:VTIMEZONE
TZID:America/Los_Angeles
BEGIN:DAYLIGHT
TZOFFSETFROM:-0800
TZOFFSETTO:-0700
TZNAME:PDT
DTSTART:20240310T100000
END:DAYLIGHT
BEGIN:STANDARD
TZOFFSETFROM:-0700
TZOFFSETTO:-0800
TZNAME:PST
DTSTART:20241103T090000
END:STANDARD
BEGIN:DAYLIGHT
TZOFFSETFROM:-0800
TZOFFSETTO:-0700
TZNAME:PDT
DTSTART:20250309T100000
END:DAYLIGHT
BEGIN:STANDARD
TZOFFSETFROM:-0700
TZOFFSETTO:-0800
TZNAME:PST
DTSTART:20251102T090000
END:STANDARD
BEGIN:DAYLIGHT
TZOFFSETFROM:-0800
TZOFFSETTO:-0700
TZNAME:PDT
DTSTART:20260308T100000
END:DAYLIGHT
BEGIN:STANDARD
TZOFFSETFROM:-0700
TZOFFSETTO:-0800
TZNAME:PST
DTSTART:20261101T090000
END:STANDARD
BEGIN:DAYLIGHT
TZOFFSETFROM:-0800
TZOFFSETTO:-0700
TZNAME:PDT
DTSTART:20270314T100000
END:DAYLIGHT
BEGIN:STANDARD
TZOFFSETFROM:-0700
TZOFFSETTO:-0800
TZNAME:PST
DTSTART:20271107T090000
END:STANDARD
END:VTIMEZONE
BEGIN:VEVENT
DTSTART;VALUE=DATE:20251215
DTEND;VALUE=DATE:20251219
DTSTAMP:20260423T170641
CREATED:20251020T160741Z
LAST-MODIFIED:20251020T160741Z
UID:10000912-1765756800-1766102399@cityofwoodlake.com
SUMMARY:Santa's Woodlake Tour on Fire Truck
DESCRIPTION:
URL:https://cityofwoodlake.com/calendar/santas-woodlake-tour-on-fire-truck-2/
LOCATION:CA
END:VEVENT
BEGIN:VEVENT
DTSTART;TZID=America/Los_Angeles:20251223T183000
DTEND;TZID=America/Los_Angeles:20251223T193000
DTSTAMP:20260423T170641
CREATED:20250523T225102Z
LAST-MODIFIED:20250523T225102Z
UID:10000823-1766514600-1766518200@cityofwoodlake.com
SUMMARY:City Council Meeting
DESCRIPTION:Join us on the 2nd & 4th Monday of each month at 6:30pm for our City Council Meetings.  Located at the Woodlake Community Center.
URL:https://cityofwoodlake.com/calendar/city-council-meeting-3/2025-12-23/
LOCATION:Woodlake Community Center\, 145 N. Magnolia\, Woodlake\, CA\, 93286\, United States
END:VEVENT
BEGIN:VEVENT
DTSTART;TZID=America/Los_Angeles:20260112T133000
DTEND;TZID=America/Los_Angeles:20260112T143000
DTSTAMP:20260423T170641
CREATED:20240213T225755Z
LAST-MODIFIED:20240213T230101Z
UID:10000358-1768224600-1768228200@cityofwoodlake.com
SUMMARY:Woodlake Public Cemetery District Board Meeting
DESCRIPTION:  \nCemetery District Board Meetings are open to the public\, and take place approximately the 1st or 2nd Monday of each month at 1:30pm at the Cemetery office: 165 N. Cypress Street\, Woodlake\, CA 93286.  For more information call 559-564-2571 or email manager@woodlakecemetery.com.
URL:https://cityofwoodlake.com/calendar/woodlake-public-cemetery-district-board-meeting/2026-01-12/
LOCATION:Woodlake Public Cemetery Office\, 165 N. Cypress St.\, Woodlake\, CA\, 93286\, United States
END:VEVENT
BEGIN:VEVENT
DTSTART;TZID=America/Los_Angeles:20260112T183000
DTEND;TZID=America/Los_Angeles:20260112T193000
DTSTAMP:20260423T170641
CREATED:20230921T222959Z
LAST-MODIFIED:20230921T222959Z
UID:10000306-1768242600-1768246200@cityofwoodlake.com
SUMMARY:City Council Meeting
DESCRIPTION:Join us on the 2nd & 4th Monday of each month at 6:30pm for our City Council Meetings.  Located at the Woodlake Community Center.
URL:https://cityofwoodlake.com/calendar/city-council-meeting-2/2026-01-12/
LOCATION:Woodlake Community Center\, 145 N. Magnolia\, Woodlake\, CA\, 93286\, United States
END:VEVENT
BEGIN:VEVENT
DTSTART;TZID=America/Los_Angeles:20260127T183000
DTEND;TZID=America/Los_Angeles:20260127T193000
DTSTAMP:20260423T170641
CREATED:20250523T225102Z
LAST-MODIFIED:20250523T225102Z
UID:10000824-1769538600-1769542200@cityofwoodlake.com
SUMMARY:City Council Meeting
DESCRIPTION:Join us on the 2nd & 4th Monday of each month at 6:30pm for our City Council Meetings.  Located at the Woodlake Community Center.
URL:https://cityofwoodlake.com/calendar/city-council-meeting-3/2026-01-27/
LOCATION:Woodlake Community Center\, 145 N. Magnolia\, Woodlake\, CA\, 93286\, United States
END:VEVENT
BEGIN:VEVENT
DTSTART;VALUE=DATE:20260201
DTEND;VALUE=DATE:20260314
DTSTAMP:20260423T170641
CREATED:20260126T223901Z
LAST-MODIFIED:20260126T223901Z
UID:10000918-1769904000-1773446399@cityofwoodlake.com
SUMMARY:Youth Baseball & Softball Registration
DESCRIPTION:
URL:https://cityofwoodlake.com/calendar/youth-baseball-softball-registration/
LOCATION:Woodlake City Hall\, 350 N Valencia Blvd\, Woodlake\, CA\, 93286\, United States
ORGANIZER;CN="City of Wodlake":MAILTO:permits@ci.woodlake.ca.us
END:VEVENT
BEGIN:VEVENT
DTSTART;TZID=America/Los_Angeles:20260201T140000
DTEND;TZID=America/Los_Angeles:20260201T170000
DTSTAMP:20260423T170641
CREATED:20260126T223723Z
LAST-MODIFIED:20260126T223723Z
UID:10000917-1769954400-1769965200@cityofwoodlake.com
SUMMARY:Yoga 'Healing Vibrations' Sound Bath Event
DESCRIPTION:
URL:https://cityofwoodlake.com/calendar/yoga-healing-vibrations-sound-bath-event/
LOCATION:Woodlake Downtown Studio\, 157 N. Valencia Blvd.\, Woodlake\, CA\, 93286\, United States
ORGANIZER;CN="Woodlake Yoga":MAILTO:Renteria_Rose@yahoo.com
END:VEVENT
BEGIN:VEVENT
DTSTART;TZID=America/Los_Angeles:20260206T180000
DTEND;TZID=America/Los_Angeles:20260206T210000
DTSTAMP:20260423T170641
CREATED:20260126T224048Z
LAST-MODIFIED:20260127T000703Z
UID:10000919-1770400800-1770411600@cityofwoodlake.com
SUMMARY:2025 Woodlake Awards Event
DESCRIPTION:
URL:https://cityofwoodlake.com/calendar/2025-woodlake-awards-event/
LOCATION:Woodlake Memorial Building\, 355 N. Acacia\, Woodlake\, CA\, 93286\, United States
ORGANIZER;CN="Woodlake Kiwanis":MAILTO:woodlakeawards@gmail.com
END:VEVENT
BEGIN:VEVENT
DTSTART;TZID=America/Los_Angeles:20260209T133000
DTEND;TZID=America/Los_Angeles:20260209T143000
DTSTAMP:20260423T170641
CREATED:20240213T225755Z
LAST-MODIFIED:20240213T230101Z
UID:10000359-1770643800-1770647400@cityofwoodlake.com
SUMMARY:Woodlake Public Cemetery District Board Meeting
DESCRIPTION:  \nCemetery District Board Meetings are open to the public\, and take place approximately the 1st or 2nd Monday of each month at 1:30pm at the Cemetery office: 165 N. Cypress Street\, Woodlake\, CA 93286.  For more information call 559-564-2571 or email manager@woodlakecemetery.com.
URL:https://cityofwoodlake.com/calendar/woodlake-public-cemetery-district-board-meeting/2026-02-09/
LOCATION:Woodlake Public Cemetery Office\, 165 N. Cypress St.\, Woodlake\, CA\, 93286\, United States
END:VEVENT
BEGIN:VEVENT
DTSTART;TZID=America/Los_Angeles:20260209T183000
DTEND;TZID=America/Los_Angeles:20260209T193000
DTSTAMP:20260423T170641
CREATED:20230921T222959Z
LAST-MODIFIED:20230921T222959Z
UID:10000307-1770661800-1770665400@cityofwoodlake.com
SUMMARY:City Council Meeting
DESCRIPTION:Join us on the 2nd & 4th Monday of each month at 6:30pm for our City Council Meetings.  Located at the Woodlake Community Center.
URL:https://cityofwoodlake.com/calendar/city-council-meeting-2/2026-02-09/
LOCATION:Woodlake Community Center\, 145 N. Magnolia\, Woodlake\, CA\, 93286\, United States
END:VEVENT
BEGIN:VEVENT
DTSTART;TZID=America/Los_Angeles:20260224T183000
DTEND;TZID=America/Los_Angeles:20260224T193000
DTSTAMP:20260423T170641
CREATED:20250523T225102Z
LAST-MODIFIED:20250523T225102Z
UID:10000825-1771957800-1771961400@cityofwoodlake.com
SUMMARY:City Council Meeting
DESCRIPTION:Join us on the 2nd & 4th Monday of each month at 6:30pm for our City Council Meetings.  Located at the Woodlake Community Center.
URL:https://cityofwoodlake.com/calendar/city-council-meeting-3/2026-02-24/
LOCATION:Woodlake Community Center\, 145 N. Magnolia\, Woodlake\, CA\, 93286\, United States
END:VEVENT
BEGIN:VEVENT
DTSTART;VALUE=DATE:20260301
DTEND;VALUE=DATE:20260601
DTSTAMP:20260423T170641
CREATED:20260223T193843Z
LAST-MODIFIED:20260223T194104Z
UID:10000920-1772323200-1780271999@cityofwoodlake.com
SUMMARY:City of Woodlake Taking Applications for Military Banners (March-May)
DESCRIPTION:The City of Woodlake will be taking new applications for Military Banners from March 1 – May 31\, 2026.  The application can be found at www.cityofwoodlake.com or at Woodlake City Hall (350 N. Valencia Blvd.).  The cost is $200 for a 3’x5′ double-sided banner to be hung near Woodlake City Park.
URL:https://cityofwoodlake.com/calendar/city-of-woodlake-taking-applications-for-military-banners-march-may/
LOCATION:Woodlake City Hall\, 350 N Valencia Blvd\, Woodlake\, CA\, 93286\, United States
END:VEVENT
BEGIN:VEVENT
DTSTART;TZID=America/Los_Angeles:20260304T160000
DTEND;TZID=America/Los_Angeles:20260304T170000
DTSTAMP:20260423T170641
CREATED:20260223T195201Z
LAST-MODIFIED:20260223T195201Z
UID:10000921-1772640000-1772643600@cityofwoodlake.com
SUMMARY:Princess Woodlake Library Event
DESCRIPTION:
URL:https://cityofwoodlake.com/calendar/princess-woodlake-library-event/
LOCATION:Woodlake Public Library\, 400 W Whitney Ave\, Woodlake\, CA\, 93286\, United States
END:VEVENT
BEGIN:VEVENT
DTSTART;TZID=America/Los_Angeles:20260304T163000
DTEND;TZID=America/Los_Angeles:20260304T173000
DTSTAMP:20260423T170641
CREATED:20260223T200149Z
LAST-MODIFIED:20260223T200149Z
UID:10000924-1772641800-1772645400@cityofwoodlake.com
SUMMARY:St. Patrick's Day Themed Family Yoga Series
DESCRIPTION:
URL:https://cityofwoodlake.com/calendar/st-patricks-day-themed-family-yoga-series/2026-03-04/
LOCATION:Woodlake Downtown Studio\, 157 N. Valencia Blvd.\, Woodlake\, CA\, 93286\, United States
ORGANIZER;CN="Woodlake Yoga":MAILTO:Renteria_Rose@yahoo.com
END:VEVENT
BEGIN:VEVENT
DTSTART;TZID=America/Los_Angeles:20260305T180000
DTEND;TZID=America/Los_Angeles:20260305T200000
DTSTAMP:20260423T170641
CREATED:20260223T195332Z
LAST-MODIFIED:20260223T195332Z
UID:10000922-1772733600-1772740800@cityofwoodlake.com
SUMMARY:WUSD Family Reading Night
DESCRIPTION:
URL:https://cityofwoodlake.com/calendar/wusd-family-reading-night/
LOCATION:Crawford Center\, 497 N Palm St\, Woodlake\, CA\, 93286\, United States
END:VEVENT
BEGIN:VEVENT
DTSTART;TZID=America/Los_Angeles:20260307T120000
DTEND;TZID=America/Los_Angeles:20260307T200000
DTSTAMP:20260423T170641
CREATED:20260223T195923Z
LAST-MODIFIED:20260223T195923Z
UID:10000923-1772884800-1772913600@cityofwoodlake.com
SUMMARY:Dry Creek Preserve Nursery Sale & Family Movie Night
DESCRIPTION:
URL:https://cityofwoodlake.com/calendar/dry-creek-preserve-nursery-sale-family-movie-night/
LOCATION:Dry Creek Preserve\, 35220 Dry Creek Dr\, Woodlake\, CA\, 93286\, United States
END:VEVENT
BEGIN:VEVENT
DTSTART;TZID=America/Los_Angeles:20260309T133000
DTEND;TZID=America/Los_Angeles:20260309T143000
DTSTAMP:20260423T170641
CREATED:20240213T225755Z
LAST-MODIFIED:20240213T230101Z
UID:10000360-1773063000-1773066600@cityofwoodlake.com
SUMMARY:Woodlake Public Cemetery District Board Meeting
DESCRIPTION:  \nCemetery District Board Meetings are open to the public\, and take place approximately the 1st or 2nd Monday of each month at 1:30pm at the Cemetery office: 165 N. Cypress Street\, Woodlake\, CA 93286.  For more information call 559-564-2571 or email manager@woodlakecemetery.com.
URL:https://cityofwoodlake.com/calendar/woodlake-public-cemetery-district-board-meeting/2026-03-09/
LOCATION:Woodlake Public Cemetery Office\, 165 N. Cypress St.\, Woodlake\, CA\, 93286\, United States
END:VEVENT
BEGIN:VEVENT
DTSTART;TZID=America/Los_Angeles:20260309T183000
DTEND;TZID=America/Los_Angeles:20260309T193000
DTSTAMP:20260423T170641
CREATED:20230921T222959Z
LAST-MODIFIED:20230921T222959Z
UID:10000308-1773081000-1773084600@cityofwoodlake.com
SUMMARY:City Council Meeting
DESCRIPTION:Join us on the 2nd & 4th Monday of each month at 6:30pm for our City Council Meetings.  Located at the Woodlake Community Center.
URL:https://cityofwoodlake.com/calendar/city-council-meeting-2/2026-03-09/
LOCATION:Woodlake Community Center\, 145 N. Magnolia\, Woodlake\, CA\, 93286\, United States
END:VEVENT
BEGIN:VEVENT
DTSTART;TZID=America/Los_Angeles:20260311T163000
DTEND;TZID=America/Los_Angeles:20260311T173000
DTSTAMP:20260423T170641
CREATED:20260223T200149Z
LAST-MODIFIED:20260223T200149Z
UID:10000925-1773246600-1773250200@cityofwoodlake.com
SUMMARY:St. Patrick's Day Themed Family Yoga Series
DESCRIPTION:
URL:https://cityofwoodlake.com/calendar/st-patricks-day-themed-family-yoga-series/2026-03-11/
LOCATION:Woodlake Downtown Studio\, 157 N. Valencia Blvd.\, Woodlake\, CA\, 93286\, United States
ORGANIZER;CN="Woodlake Yoga":MAILTO:Renteria_Rose@yahoo.com
END:VEVENT
BEGIN:VEVENT
DTSTART;TZID=America/Los_Angeles:20260314T140000
DTEND;TZID=America/Los_Angeles:20260314T180000
DTSTAMP:20260423T170641
CREATED:20260223T200319Z
LAST-MODIFIED:20260223T200319Z
UID:10000928-1773496800-1773511200@cityofwoodlake.com
SUMMARY:St. Patrick's Day Brewery Event
DESCRIPTION:
URL:https://cityofwoodlake.com/calendar/st-patricks-day-brewery-event/
LOCATION:Woodlake Plaza\, 145 N. Magnolia St.\, Woodlake\, CA\, 93286\, United States
END:VEVENT
BEGIN:VEVENT
DTSTART;TZID=America/Los_Angeles:20260318T163000
DTEND;TZID=America/Los_Angeles:20260318T173000
DTSTAMP:20260423T170641
CREATED:20260223T200149Z
LAST-MODIFIED:20260223T200149Z
UID:10000926-1773851400-1773855000@cityofwoodlake.com
SUMMARY:St. Patrick's Day Themed Family Yoga Series
DESCRIPTION:
URL:https://cityofwoodlake.com/calendar/st-patricks-day-themed-family-yoga-series/2026-03-18/
LOCATION:Woodlake Downtown Studio\, 157 N. Valencia Blvd.\, Woodlake\, CA\, 93286\, United States
ORGANIZER;CN="Woodlake Yoga":MAILTO:Renteria_Rose@yahoo.com
END:VEVENT
BEGIN:VEVENT
DTSTART;TZID=America/Los_Angeles:20260319T070000
DTEND;TZID=America/Los_Angeles:20260319T153000
DTSTAMP:20260423T170641
CREATED:20260223T200528Z
LAST-MODIFIED:20260223T200558Z
UID:10000929-1773903600-1773934200@cityofwoodlake.com
SUMMARY:Woodlake City Cleanup Event by Mid Valley Disposal
DESCRIPTION:
URL:https://cityofwoodlake.com/calendar/woodlake-city-cleanup-event-by-mid-valley-disposal/2026-03-19/
LOCATION:Woodlake City Yard\, 595 S. Valencia Blvd.\, Woodlake\, CA\, 93286\, United States
END:VEVENT
BEGIN:VEVENT
DTSTART;TZID=America/Los_Angeles:20260320T070000
DTEND;TZID=America/Los_Angeles:20260320T153000
DTSTAMP:20260423T170641
CREATED:20260223T200528Z
LAST-MODIFIED:20260223T200558Z
UID:10000930-1773990000-1774020600@cityofwoodlake.com
SUMMARY:Woodlake City Cleanup Event by Mid Valley Disposal
DESCRIPTION:
URL:https://cityofwoodlake.com/calendar/woodlake-city-cleanup-event-by-mid-valley-disposal/2026-03-20/
LOCATION:Woodlake City Yard\, 595 S. Valencia Blvd.\, Woodlake\, CA\, 93286\, United States
END:VEVENT
BEGIN:VEVENT
DTSTART;TZID=America/Los_Angeles:20260321T070000
DTEND;TZID=America/Los_Angeles:20260321T153000
DTSTAMP:20260423T170641
CREATED:20260223T200528Z
LAST-MODIFIED:20260223T200558Z
UID:10000931-1774076400-1774107000@cityofwoodlake.com
SUMMARY:Woodlake City Cleanup Event by Mid Valley Disposal
DESCRIPTION:
URL:https://cityofwoodlake.com/calendar/woodlake-city-cleanup-event-by-mid-valley-disposal/2026-03-21/
LOCATION:Woodlake City Yard\, 595 S. Valencia Blvd.\, Woodlake\, CA\, 93286\, United States
END:VEVENT
BEGIN:VEVENT
DTSTART;TZID=America/Los_Angeles:20260321T090000
DTEND;TZID=America/Los_Angeles:20260321T140000
DTSTAMP:20260423T170641
CREATED:20260309T184514Z
LAST-MODIFIED:20260309T184514Z
UID:10000937-1774083600-1774101600@cityofwoodlake.com
SUMMARY:Youth Baseball/Softball Equipment Exchange Event
DESCRIPTION:
URL:https://cityofwoodlake.com/calendar/youth-baseball-softball-equipment-exchange-event/
LOCATION:Crawford Center\, 497 N Palm St\, Woodlake\, CA\, 93286\, United States
ORGANIZER;CN="City of Wodlake":MAILTO:permits@ci.woodlake.ca.us
END:VEVENT
BEGIN:VEVENT
DTSTART;TZID=America/Los_Angeles:20260324T183000
DTEND;TZID=America/Los_Angeles:20260324T193000
DTSTAMP:20260423T170641
CREATED:20250523T225102Z
LAST-MODIFIED:20250523T225102Z
UID:10000826-1774377000-1774380600@cityofwoodlake.com
SUMMARY:City Council Meeting
DESCRIPTION:Join us on the 2nd & 4th Monday of each month at 6:30pm for our City Council Meetings.  Located at the Woodlake Community Center.
URL:https://cityofwoodlake.com/calendar/city-council-meeting-3/2026-03-24/
LOCATION:Woodlake Community Center\, 145 N. Magnolia\, Woodlake\, CA\, 93286\, United States
END:VEVENT
BEGIN:VEVENT
DTSTART;TZID=America/Los_Angeles:20260325T163000
DTEND;TZID=America/Los_Angeles:20260325T173000
DTSTAMP:20260423T170641
CREATED:20260223T200149Z
LAST-MODIFIED:20260223T200149Z
UID:10000927-1774456200-1774459800@cityofwoodlake.com
SUMMARY:St. Patrick's Day Themed Family Yoga Series
DESCRIPTION:
URL:https://cityofwoodlake.com/calendar/st-patricks-day-themed-family-yoga-series/2026-03-25/
LOCATION:Woodlake Downtown Studio\, 157 N. Valencia Blvd.\, Woodlake\, CA\, 93286\, United States
ORGANIZER;CN="Woodlake Yoga":MAILTO:Renteria_Rose@yahoo.com
END:VEVENT
BEGIN:VEVENT
DTSTART;TZID=America/Los_Angeles:20260326T180000
DTEND;TZID=America/Los_Angeles:20260326T190000
DTSTAMP:20260423T170641
CREATED:20260223T200742Z
LAST-MODIFIED:20260223T200742Z
UID:10000932-1774548000-1774551600@cityofwoodlake.com
SUMMARY:ROAR Basketball Clinic
DESCRIPTION:
URL:https://cityofwoodlake.com/calendar/roar-basketball-clinic-2/
LOCATION:Woodlake Community Center\, 145 N. Magnolia\, Woodlake\, CA\, 93286\, United States
ORGANIZER;CN="City of Wodlake":MAILTO:permits@ci.woodlake.ca.us
END:VEVENT
BEGIN:VEVENT
DTSTART;VALUE=DATE:20260327
DTEND;VALUE=DATE:20260330
DTSTAMP:20260423T170641
CREATED:20260223T201016Z
LAST-MODIFIED:20260223T201016Z
UID:10000933-1774569600-1774828799@cityofwoodlake.com
SUMMARY:CJCA Junior Rodeo
DESCRIPTION:
URL:https://cityofwoodlake.com/calendar/cjca-junior-rodeo/
LOCATION:Wdlk. Rodeo Grounds\, 19400 Ave 398\, Woodlake\, CA\, 93286\, United States
ORGANIZER;CN="California Junior Cowboys Association":MAILTO:president@cjcajrrodeo.org
END:VEVENT
BEGIN:VEVENT
DTSTART;TZID=America/Los_Angeles:20260328T090000
DTEND;TZID=America/Los_Angeles:20260328T150000
DTSTAMP:20260423T170641
CREATED:20260223T201443Z
LAST-MODIFIED:20260223T201443Z
UID:10000934-1774688400-1774710000@cityofwoodlake.com
SUMMARY:CSET Free Tax Prep Event
DESCRIPTION:
URL:https://cityofwoodlake.com/calendar/cset-free-tax-prep-event-2/
LOCATION:Woodlake Community Center\, 145 N. Magnolia\, Woodlake\, CA\, 93286\, United States
ORGANIZER;CN="CSET":MAILTO:info@cset.org
END:VEVENT
END:VCALENDAR