BEGIN:VCALENDAR
VERSION:2.0
PRODID:-//City of Woodlake - ECPv6.15.20//NONSGML v1.0//EN
CALSCALE:GREGORIAN
METHOD:PUBLISH
X-ORIGINAL-URL:https://cityofwoodlake.com
X-WR-CALDESC:Events for City of Woodlake
REFRESH-INTERVAL;VALUE=DURATION:PT1H
X-Robots-Tag:noindex
X-PUBLISHED-TTL:PT1H
BEGIN:VTIMEZONE
TZID:America/Los_Angeles
BEGIN:DAYLIGHT
TZOFFSETFROM:-0800
TZOFFSETTO:-0700
TZNAME:PDT
DTSTART:20240310T100000
END:DAYLIGHT
BEGIN:STANDARD
TZOFFSETFROM:-0700
TZOFFSETTO:-0800
TZNAME:PST
DTSTART:20241103T090000
END:STANDARD
BEGIN:DAYLIGHT
TZOFFSETFROM:-0800
TZOFFSETTO:-0700
TZNAME:PDT
DTSTART:20250309T100000
END:DAYLIGHT
BEGIN:STANDARD
TZOFFSETFROM:-0700
TZOFFSETTO:-0800
TZNAME:PST
DTSTART:20251102T090000
END:STANDARD
BEGIN:DAYLIGHT
TZOFFSETFROM:-0800
TZOFFSETTO:-0700
TZNAME:PDT
DTSTART:20260308T100000
END:DAYLIGHT
BEGIN:STANDARD
TZOFFSETFROM:-0700
TZOFFSETTO:-0800
TZNAME:PST
DTSTART:20261101T090000
END:STANDARD
END:VTIMEZONE
BEGIN:VEVENT
DTSTART;VALUE=DATE:20250429
DTEND;VALUE=DATE:20250531
DTSTAMP:20260424T013911
CREATED:20250425T212059Z
LAST-MODIFIED:20250425T212059Z
UID:10000814-1745884800-1748649599@cityofwoodlake.com
SUMMARY:Youth Flag Football Registration
DESCRIPTION:Woodlake Parks & Recreation is taking registrations for their Co-ed Youth Flag Football season!  This league is open to those in grade TK-8th grade.  The cost is $50 and that will include a reversible jersey\, shorts & flag belt.  Discounted $50 Registration will run from April 29th-May 23rd.  $60 Registration will run from May 24th to May 30th.  Games will be played on week-day evenings at the Castle Rock Fields.  The season will run from mid-June to the end of Summer Break.
URL:https://cityofwoodlake.com/calendar/youth-flag-football-registration/
LOCATION:Woodlake City Hall\, 350 N Valencia Blvd\, Woodlake\, CA\, 93286\, United States
ORGANIZER;CN="City of Wodlake":MAILTO:permits@ci.woodlake.ca.us
END:VEVENT
BEGIN:VEVENT
DTSTART;TZID=America/Los_Angeles:20250503T080000
DTEND;TZID=America/Los_Angeles:20250503T140000
DTSTAMP:20260424T013911
CREATED:20250425T211631Z
LAST-MODIFIED:20250425T211631Z
UID:10000813-1746259200-1746280800@cityofwoodlake.com
SUMMARY:Young Eagles Airplane Rides
DESCRIPTION:The Flying Tigers club is once again hosting their “Young Eagles” airplane ride event on Saturday\, May 3rd from 8am to 2pm at the Woodlake Airport for kids ages 8-17. This is a free event; flights are first-come\, first serve.  No pre-registration is available.  For questions or more information\, call George at 559-303-3099.
URL:https://cityofwoodlake.com/calendar/young-eagles-airplane-rides/
LOCATION:Woodlake Airport\, 861 S. Valencia Blvd.\, Woodlake\, CA\, 93286\, United States
END:VEVENT
BEGIN:VEVENT
DTSTART;TZID=America/Los_Angeles:20250503T113000
DTEND;TZID=America/Los_Angeles:20250503T130000
DTSTAMP:20260424T013911
CREATED:20250425T202317Z
LAST-MODIFIED:20250425T202317Z
UID:10000436-1746271800-1746277200@cityofwoodlake.com
SUMMARY:Lasso Wreath Workshop
DESCRIPTION:Small Town Charm will be hosting a “Lasso Wreath Workshop” to kick-off Western Week on Saturday\, May 3rd 11:30am at the Downtown Studio.  This event is $45 per person for a lasso & buffet of decoration options!  RSVP to 559-331-5378 or email Contact@smalltowncharm.org
URL:https://cityofwoodlake.com/calendar/lasso-wreath-workshop/
LOCATION:Woodlake Downtown Studio\, 157 N. Valencia Blvd.\, Woodlake\, CA\, 93286\, United States
ORGANIZER;CN="Val Sanchez":MAILTO:cowgirlcookies.andcream@gmail.com
END:VEVENT
END:VCALENDAR