BEGIN:VCALENDAR
VERSION:2.0
PRODID:-//City of Woodlake - ECPv6.15.20//NONSGML v1.0//EN
CALSCALE:GREGORIAN
METHOD:PUBLISH
X-ORIGINAL-URL:https://cityofwoodlake.com
X-WR-CALDESC:Events for City of Woodlake
REFRESH-INTERVAL;VALUE=DURATION:PT1H
X-Robots-Tag:noindex
X-PUBLISHED-TTL:PT1H
BEGIN:VTIMEZONE
TZID:America/Los_Angeles
BEGIN:DAYLIGHT
TZOFFSETFROM:-0800
TZOFFSETTO:-0700
TZNAME:PDT
DTSTART:20240310T100000
END:DAYLIGHT
BEGIN:STANDARD
TZOFFSETFROM:-0700
TZOFFSETTO:-0800
TZNAME:PST
DTSTART:20241103T090000
END:STANDARD
BEGIN:DAYLIGHT
TZOFFSETFROM:-0800
TZOFFSETTO:-0700
TZNAME:PDT
DTSTART:20250309T100000
END:DAYLIGHT
BEGIN:STANDARD
TZOFFSETFROM:-0700
TZOFFSETTO:-0800
TZNAME:PST
DTSTART:20251102T090000
END:STANDARD
BEGIN:DAYLIGHT
TZOFFSETFROM:-0800
TZOFFSETTO:-0700
TZNAME:PDT
DTSTART:20260308T100000
END:DAYLIGHT
BEGIN:STANDARD
TZOFFSETFROM:-0700
TZOFFSETTO:-0800
TZNAME:PST
DTSTART:20261101T090000
END:STANDARD
END:VTIMEZONE
BEGIN:VEVENT
DTSTART;TZID=America/Los_Angeles:20250329T090000
DTEND;TZID=America/Los_Angeles:20250329T100000
DTSTAMP:20260424T054020
CREATED:20250304T175525Z
LAST-MODIFIED:20250304T175525Z
UID:10000426-1743238800-1743242400@cityofwoodlake.com
SUMMARY:ROAR Basketball Clinic
DESCRIPTION:Our ROAR Basketball Clinic is open to those with developmental disabilities.  This clinic is designed for those who want to experience the excitement of basketball in a supportive and inclusive environment with Woodlake Ballers Travel Team basketball players & coaches.  All participants will receive a t-shirt\, drawstring bag & water bottle!   Participants must be age 4+ and accompanied by a family member/guardian the full duration of the clinic.  If you are a CVRC member\, please contact your Service Coordinator to register.  If you are not a CVRC Member\, please email Jennifer at JReynolds@ci.woodlake.ca.us
URL:https://cityofwoodlake.com/calendar/roar-basketball-clinic/
LOCATION:Woodlake Community Center\, 145 N. Magnolia\, Woodlake\, CA\, 93286\, United States
ORGANIZER;CN="City of Wodlake":MAILTO:permits@ci.woodlake.ca.us
END:VEVENT
BEGIN:VEVENT
DTSTART;TZID=America/Los_Angeles:20250329T110000
DTEND;TZID=America/Los_Angeles:20250329T133000
DTSTAMP:20260424T054020
CREATED:20250304T175952Z
LAST-MODIFIED:20250304T175952Z
UID:10000427-1743246000-1743255000@cityofwoodlake.com
SUMMARY:Miracle Mile of Quarters - Division 18 Kiwanis
DESCRIPTION:District 18 Kiwanis is hosting the “Miracle Mile of Quarters” at Woodlake City Park on Saturday\, March 29th from 11am-1:30pm.  This is a fundraiser for Valley Children’s Hospital.  If you would like to participate in raising quarters\, email woodlakekiwanis@gmail.com
URL:https://cityofwoodlake.com/calendar/miracle-mile-of-quarters-division-18-kiwanis/
LOCATION:Woodlake City Park
ORGANIZER;CN="Woodlake Kiwanis":MAILTO:woodlakeawards@gmail.com
END:VEVENT
END:VCALENDAR